BEGIN:VCALENDAR
VERSION:2.0
PRODID:-//Shining Waters - ECPv6.15.20//NONSGML v1.0//EN
CALSCALE:GREGORIAN
METHOD:PUBLISH
X-WR-CALNAME:Shining Waters
X-ORIGINAL-URL:https://shiningwatersregionalcouncil.ca
X-WR-CALDESC:Events for Shining Waters
REFRESH-INTERVAL;VALUE=DURATION:PT1H
X-Robots-Tag:noindex
X-PUBLISHED-TTL:PT1H
BEGIN:VTIMEZONE
TZID:America/Toronto
BEGIN:DAYLIGHT
TZOFFSETFROM:-0500
TZOFFSETTO:-0400
TZNAME:EDT
DTSTART:20210314T070000
END:DAYLIGHT
BEGIN:STANDARD
TZOFFSETFROM:-0400
TZOFFSETTO:-0500
TZNAME:EST
DTSTART:20211107T060000
END:STANDARD
BEGIN:DAYLIGHT
TZOFFSETFROM:-0500
TZOFFSETTO:-0400
TZNAME:EDT
DTSTART:20220313T070000
END:DAYLIGHT
BEGIN:STANDARD
TZOFFSETFROM:-0400
TZOFFSETTO:-0500
TZNAME:EST
DTSTART:20221106T060000
END:STANDARD
BEGIN:DAYLIGHT
TZOFFSETFROM:-0500
TZOFFSETTO:-0400
TZNAME:EDT
DTSTART:20230312T070000
END:DAYLIGHT
BEGIN:STANDARD
TZOFFSETFROM:-0400
TZOFFSETTO:-0500
TZNAME:EST
DTSTART:20231105T060000
END:STANDARD
END:VTIMEZONE
BEGIN:VEVENT
DTSTART;TZID=America/Toronto:20220615T080000
DTEND;TZID=America/Toronto:20220615T170000
DTSTAMP:20260421T204636
CREATED:20220430T042159Z
LAST-MODIFIED:20220430T042252Z
UID:10000121-1655280000-1655312400@shiningwatersregionalcouncil.ca
SUMMARY:Yamaha Grand Piano for Sale
DESCRIPTION:Trinity United Church in Peterborough is closing. Our Yamaha Grand piano is for sale. Please see the attached poster for further details.
URL:https://shiningwatersregionalcouncil.ca/event/yamaha-grand-piano-for-sale/
LOCATION:Trinity United Church (Peterborough)\, 360 Reid St\, \, ON\, Peterborough\, Ontario\, K9H 7G6\, Canada
CATEGORIES:Community Events
ATTACH;FMTTYPE=image/jpeg:https://shiningwatersregionalcouncil.ca/wp-content/uploads/2022/04/Yamaha-Grand-for-Sale-e1651292264339.jpg
END:VEVENT
END:VCALENDAR