BEGIN:VCALENDAR
VERSION:2.0
PRODID:-//Shining Waters - ECPv6.15.20//NONSGML v1.0//EN
CALSCALE:GREGORIAN
METHOD:PUBLISH
X-ORIGINAL-URL:https://shiningwatersregionalcouncil.ca
X-WR-CALDESC:Events for Shining Waters
REFRESH-INTERVAL;VALUE=DURATION:PT1H
X-Robots-Tag:noindex
X-PUBLISHED-TTL:PT1H
BEGIN:VTIMEZONE
TZID:America/Toronto
BEGIN:DAYLIGHT
TZOFFSETFROM:-0500
TZOFFSETTO:-0400
TZNAME:EDT
DTSTART:20210314T070000
END:DAYLIGHT
BEGIN:STANDARD
TZOFFSETFROM:-0400
TZOFFSETTO:-0500
TZNAME:EST
DTSTART:20211107T060000
END:STANDARD
BEGIN:DAYLIGHT
TZOFFSETFROM:-0500
TZOFFSETTO:-0400
TZNAME:EDT
DTSTART:20220313T070000
END:DAYLIGHT
BEGIN:STANDARD
TZOFFSETFROM:-0400
TZOFFSETTO:-0500
TZNAME:EST
DTSTART:20221106T060000
END:STANDARD
BEGIN:DAYLIGHT
TZOFFSETFROM:-0500
TZOFFSETTO:-0400
TZNAME:EDT
DTSTART:20230312T070000
END:DAYLIGHT
BEGIN:STANDARD
TZOFFSETFROM:-0400
TZOFFSETTO:-0500
TZNAME:EST
DTSTART:20231105T060000
END:STANDARD
BEGIN:DAYLIGHT
TZOFFSETFROM:-0500
TZOFFSETTO:-0400
TZNAME:EDT
DTSTART:20240310T070000
END:DAYLIGHT
BEGIN:STANDARD
TZOFFSETFROM:-0400
TZOFFSETTO:-0500
TZNAME:EST
DTSTART:20241103T060000
END:STANDARD
BEGIN:DAYLIGHT
TZOFFSETFROM:-0500
TZOFFSETTO:-0400
TZNAME:EDT
DTSTART:20250309T070000
END:DAYLIGHT
BEGIN:STANDARD
TZOFFSETFROM:-0400
TZOFFSETTO:-0500
TZNAME:EST
DTSTART:20251102T060000
END:STANDARD
BEGIN:DAYLIGHT
TZOFFSETFROM:-0500
TZOFFSETTO:-0400
TZNAME:EDT
DTSTART:20260308T070000
END:DAYLIGHT
BEGIN:STANDARD
TZOFFSETFROM:-0400
TZOFFSETTO:-0500
TZNAME:EST
DTSTART:20261101T060000
END:STANDARD
END:VTIMEZONE
BEGIN:VEVENT
DTSTART;TZID=America/Toronto:20251123T120000
DTEND;TZID=America/Toronto:20251124T170000
DTSTAMP:20260425T231900
CREATED:20250829T193648Z
LAST-MODIFIED:20250829T193648Z
UID:10004785-1763899200-1764003600@shiningwatersregionalcouncil.ca
SUMMARY:Holly Berry Fair
DESCRIPTION:Join us at the annual Holly Berry Fair at Rosedale United Church for 2 days of Christmas Shopping & More! Saturday\, Nov. 22\, – 10 a.m. – 3 p.m. & Sunday\, Nov. 23 – 12 – 5 p.m. Experience the magic of our wonderful family event! There’s something special for every member of your family to enjoy:\nEntertainment for All! Little ones can enjoy Santa’s Interactive workshop with appearances from Santa & Mrs. Claus! Bring your letter to Santa!\nThrift Market and Treasures! ‘The Best Sale is Resale!’ – Clothing/Accessories & household goods for Adults and Children at great prices!\nDeli Lunch! Both days. Indulge in our famous homemade ham sandwiches (Sat. only)\, bagged ham\, delectable desserts\, and a variety of vegetarian offerings.\nSilent Auction! – Nov 22 only – Browse the selected items in our Silent Auction…Bid! Bid Often!\nUnique Vendors: Explore unique vendors offering jams\, jellies\, soaps\, quilts\, candles\, knitted/crochet items\, exquisite jewelry\, cards\, fashion\, home decor one of a kind items and much more!\nHome Baking: Enjoy Farmhouse-style baking (Sat. only) with delicious treats like carrot cake & butter tarts\, Christmas cookies Home Baking for all!\nBooks & Media: Find your next read and gifts for the readers on your list in the ‘Book Shop’! Thousands of books in good condition for great prices!\nProceeds Allocation: 100% of the proceeds of the Holly Berry Fair – Rosedale go to Local Outreach!
URL:https://shiningwatersregionalcouncil.ca/event/holly-berry-fair-2/2025-11-23/
LOCATION:Rosedale United Church\, 159 Roxborough Drive\, Toronto\, Ontario\, M4W 1X7\, Canada
CATEGORIES:Community Events
ATTACH;FMTTYPE=image/jpeg:https://shiningwatersregionalcouncil.ca/wp-content/uploads/2025/08/HollyBerryFair.jpg
ORGANIZER;CN="Rosedale United Church":MAILTO:rhowey@rosedaleunited.org
END:VEVENT
BEGIN:VEVENT
DTSTART;TZID=America/Toronto:20251122T100000
DTEND;TZID=America/Toronto:20251122T150000
DTSTAMP:20260425T231900
CREATED:20250829T193648Z
LAST-MODIFIED:20250829T193648Z
UID:10004784-1763805600-1763823600@shiningwatersregionalcouncil.ca
SUMMARY:Holly Berry Fair
DESCRIPTION:Join us at the annual Holly Berry Fair at Rosedale United Church for 2 days of Christmas Shopping & More! Saturday\, Nov. 22\, – 10 a.m. – 3 p.m. & Sunday\, Nov. 23 – 12 – 5 p.m. Experience the magic of our wonderful family event! There’s something special for every member of your family to enjoy:\nEntertainment for All! Little ones can enjoy Santa’s Interactive workshop with appearances from Santa & Mrs. Claus! Bring your letter to Santa!\nThrift Market and Treasures! ‘The Best Sale is Resale!’ – Clothing/Accessories & household goods for Adults and Children at great prices!\nDeli Lunch! Both days. Indulge in our famous homemade ham sandwiches (Sat. only)\, bagged ham\, delectable desserts\, and a variety of vegetarian offerings.\nSilent Auction! – Nov 22 only – Browse the selected items in our Silent Auction…Bid! Bid Often!\nUnique Vendors: Explore unique vendors offering jams\, jellies\, soaps\, quilts\, candles\, knitted/crochet items\, exquisite jewelry\, cards\, fashion\, home decor one of a kind items and much more!\nHome Baking: Enjoy Farmhouse-style baking (Sat. only) with delicious treats like carrot cake & butter tarts\, Christmas cookies Home Baking for all!\nBooks & Media: Find your next read and gifts for the readers on your list in the ‘Book Shop’! Thousands of books in good condition for great prices!\nProceeds Allocation: 100% of the proceeds of the Holly Berry Fair – Rosedale go to Local Outreach!
URL:https://shiningwatersregionalcouncil.ca/event/holly-berry-fair-2/2025-11-22/
LOCATION:Rosedale United Church\, 159 Roxborough Drive\, Toronto\, Ontario\, M4W 1X7\, Canada
CATEGORIES:Community Events
ATTACH;FMTTYPE=image/jpeg:https://shiningwatersregionalcouncil.ca/wp-content/uploads/2025/08/HollyBerryFair.jpg
ORGANIZER;CN="Rosedale United Church":MAILTO:rhowey@rosedaleunited.org
END:VEVENT
BEGIN:VEVENT
DTSTART;TZID=America/Toronto:20251031T173000
DTEND;TZID=America/Toronto:20251031T193000
DTSTAMP:20260425T231900
CREATED:20250829T193742Z
LAST-MODIFIED:20250829T193742Z
UID:10004786-1761931800-1761939000@shiningwatersregionalcouncil.ca
SUMMARY:Halloween Concert and Trick or Treating
DESCRIPTION:Celebrate Halloween in the heart of Rosedale with an evening of fun for the whole family. Children are invited to enjoy trick-or-treating in a safe and welcoming environment\, while parents can warm up with a cup of coffee. \nThe highlight of the night is our series of spooky organ concerts\, held every thirty minutes throughout the evening. From haunting classics like Bach’s Toccata and Fugue in D minor to playful favourites like Ghostbusters\, the soaring sounds of the organ will set the perfect Halloween mood. \nJoin us for this annual community tradition filled with music\, laughter\, and Halloween spirit.
URL:https://shiningwatersregionalcouncil.ca/event/halloween-concert-and-trick-or-treating/
LOCATION:Rosedale United Church\, 159 Roxborough Drive\, Toronto\, Ontario\, M4W 1X7\, Canada
CATEGORIES:Community Events
ATTACH;FMTTYPE=image/png:https://shiningwatersregionalcouncil.ca/wp-content/uploads/2025/08/trickortreatingconcert.png
ORGANIZER;CN="Rosedale United Church":MAILTO:rhowey@rosedaleunited.org
END:VEVENT
BEGIN:VEVENT
DTSTART;TZID=America/Toronto:20240411T000000
DTEND;TZID=America/Toronto:20240413T150000
DTSTAMP:20260425T231900
CREATED:20240115T160217Z
LAST-MODIFIED:20240115T160400Z
UID:10001568-1712793600-1713020400@shiningwatersregionalcouncil.ca
SUMMARY:Coming Back to Life: A Courage and Renewal Retreat
DESCRIPTION:Are you looking to come back to life with a sense of purpose and passion? Are you looking to reconnect your soul with your roles in life? Longing for time to rest and reflect? Trying to figuring out what is next and summon the courage to turn the page to your next chapter? This retreat is for you! \n“Coming Back to Life” is for anyone wanting to listen more deeply for the authentic and genuine within themselves and to refresh\, revive\, and renew themselves for a new season. It is designed for anyone considering or already navigating a personal or professional transition where deep questions about your life and your living have presented themselves. This retreat will help you to hear more clearly what is going on inside of you and find a way through that is guided by your most authentic self. \nRooted in the Circle of Trust® approach developed by Quaker writer and teacher\, Parker Palmer\, and formed by the work of the Center for Courage & Renewal\, “Coming Back to Life” is for anybody who wants to follow the leading and wisdom of their soul personally and vocationally. “Coming Back to Life” will support participants to:\n• Act wholeheartedly on their true callings and passion\n• Cultivate sustaining personal and communal practices for the long haul and\n• Work to transform the relationships\, families\, and organizations they serve. \nOn the shores of Stoney Lake\, Kingfisher Bay Retreat Centre is a welcoming and comfortable setting for you to rest\, revive\, and refresh yourself surrounded by the beauty of tall pines\, peaceful waters\, and abundant wildlife. \nREGISTER EARLY! SPACE IS LIMITED! \nThere are several registration options (all options include meals)*: \nRetreat + overnight accomodation\nShared room: $520.00 (early bird price\, participate with a friend!); after March 7: $598.00\nPrivate room: $740.00 (early bird price); after March 7: $850.00 \nRetreat only (for those wanting to commute home in the evenings)\nCommuter: $380.00 (early bird price); after March 7: $437.00 \n*Non-refundable on or after March 14th. Cancellations prior to March 14th are subject to a $200 cancellation fee. \nREGISTRATION: \nEmail facilitator Kristin Philipson at kphilipson@rosedaleunited.org including your name\, email contact\, and phone number. Your registration will be confirmed\, along with details about the payment of registration fees. \nFacilitators: \nMardi Tindal\, (M.A.) is a former Moderator (elected spiritual leader) of the United Church of Canada. She was prepared by Parker Palmer and the Centre for Courage & Renewal and has been facilitating Circle of Trust programs over the past decade with people of a variety of ages\, backgrounds and vocational paths. She is also a Board Member of the Center for Courage & Renewal. \nKristin Philipson (B.A. Hons\, M. Div\, D.Min) is being prepared as a Facilitator by the Centre for Courage & Renewal and has participated in Circle of Trust programs over the past decade. She is passionate about helping people to make meaning in their lives and live by their own convictions.
URL:https://shiningwatersregionalcouncil.ca/event/coming-back-to-life-a-courage-and-renewal-retreat/
LOCATION:Kingfisher Bay Retreat Centre\, 150 Fraser Estates Lane\, North Kawartha\, Ontario\, K0L 2H0\, Canada
CATEGORIES:Community Events
ATTACH;FMTTYPE=image/png:https://shiningwatersregionalcouncil.ca/wp-content/uploads/2024/01/Revised-April-Retreat-1.png
ORGANIZER;CN="Rosedale United Church":MAILTO:rhowey@rosedaleunited.org
END:VEVENT
BEGIN:VEVENT
DTSTART;TZID=America/Toronto:20231125T100000
DTEND;TZID=America/Toronto:20231125T150000
DTSTAMP:20260425T231900
CREATED:20231027T201341Z
LAST-MODIFIED:20231027T201341Z
UID:10001335-1700906400-1700924400@shiningwatersregionalcouncil.ca
SUMMARY:Holly Berry Fair
DESCRIPTION:Come to the Fair for baking\, knitting\, lunch\, books and many vendors. Have your picture taken with Santa too!
URL:https://shiningwatersregionalcouncil.ca/event/holly-berry-fair/
LOCATION:Rosedale United Church\, 159 Roxborough Drive\, Toronto\, Ontario\, M4W 1X7\, Canada
CATEGORIES:Community Events
ATTACH;FMTTYPE=image/jpeg:https://shiningwatersregionalcouncil.ca/wp-content/uploads/2023/10/HBF-online-ad-23_ver1-scaled.jpg
ORGANIZER;CN="Rosedale United Church":MAILTO:rhowey@rosedaleunited.org
END:VEVENT
BEGIN:VEVENT
DTSTART;TZID=America/Toronto:20220124T090000
DTEND;TZID=America/Toronto:20220124T160000
DTSTAMP:20260425T231900
CREATED:20211201T144003Z
LAST-MODIFIED:20211201T144032Z
UID:10000066-1643014800-1643040000@shiningwatersregionalcouncil.ca
SUMMARY:Soul Through All Seasons: Find the Courage to Flourish in Your Season of Life
DESCRIPTION:Facilitated by former United Church of Canada Moderator Mardi Tindal and Rev. Dr. Kristin Philipson\, this in-person group will meet four times in 2022 (one day/season) on Mondays (January 24\, April 25\, July 25* and October 24) from 9am-4pm at Rosedale United Church in Toronto. \nThis retreat series is for anyone wanting to listen more deeply for the authentic and genuine within themselves; it is designed for anyone navigating a personal or professional transition where deep questions about your life and your living have presented themselves. \nIf you are looking to reconnect with your soul and your sense of purpose; if you long for space to reflect on important questions for your life and work; if you are discerning what is next for you; if you feel you’re at a crossroads\, then Soul Through All Seasons is for you! \nRooted in the Circle of Trust® approach developed by Quaker writer and teacher\, Parker Palmer\, and formed by the work of the Center for Courage & Renewal\, Soul Through All Seasons is for anybody who wants to follow the leading and wisdom of their heart and soul in these challenging times\, personally and professionally. \nFor more information visit https://www.rosedaleunited.org/ministries/courage-and-renewal \nTo register\, email Kristin Philipson at kphilipson@rosedaleunited.org. \n*The retreat day in July will be held via Zoom to accommodate folks who are out of the city.
URL:https://shiningwatersregionalcouncil.ca/event/soul-through-all-seasons-find-the-courage-to-flourish-in-your-season-of-life/
LOCATION:Rosedale United Church\, 159 Roxborough Drive\, Toronto\, Ontario\, M4W 1X7\, Canada
CATEGORIES:Community Events,Educational
ATTACH;FMTTYPE=image/jpeg:https://shiningwatersregionalcouncil.ca/wp-content/uploads/2021/12/Light-Upon-The-Waters7-internet-version-scaled-e1638369582211.jpg
ORGANIZER;CN="Rosedale United Church":MAILTO:rhowey@rosedaleunited.org
END:VEVENT
END:VCALENDAR