BEGIN:VCALENDAR
VERSION:2.0
PRODID:-//Shining Waters - ECPv6.15.20//NONSGML v1.0//EN
CALSCALE:GREGORIAN
METHOD:PUBLISH
X-ORIGINAL-URL:https://shiningwatersregionalcouncil.ca
X-WR-CALDESC:Events for Shining Waters
REFRESH-INTERVAL;VALUE=DURATION:PT1H
X-Robots-Tag:noindex
X-PUBLISHED-TTL:PT1H
BEGIN:VTIMEZONE
TZID:America/Toronto
BEGIN:DAYLIGHT
TZOFFSETFROM:-0500
TZOFFSETTO:-0400
TZNAME:EDT
DTSTART:20240310T070000
END:DAYLIGHT
BEGIN:STANDARD
TZOFFSETFROM:-0400
TZOFFSETTO:-0500
TZNAME:EST
DTSTART:20241103T060000
END:STANDARD
BEGIN:DAYLIGHT
TZOFFSETFROM:-0500
TZOFFSETTO:-0400
TZNAME:EDT
DTSTART:20250309T070000
END:DAYLIGHT
BEGIN:STANDARD
TZOFFSETFROM:-0400
TZOFFSETTO:-0500
TZNAME:EST
DTSTART:20251102T060000
END:STANDARD
BEGIN:DAYLIGHT
TZOFFSETFROM:-0500
TZOFFSETTO:-0400
TZNAME:EDT
DTSTART:20260308T070000
END:DAYLIGHT
BEGIN:STANDARD
TZOFFSETFROM:-0400
TZOFFSETTO:-0500
TZNAME:EST
DTSTART:20261101T060000
END:STANDARD
BEGIN:DAYLIGHT
TZOFFSETFROM:-0500
TZOFFSETTO:-0400
TZNAME:EDT
DTSTART:20270314T070000
END:DAYLIGHT
BEGIN:STANDARD
TZOFFSETFROM:-0400
TZOFFSETTO:-0500
TZNAME:EST
DTSTART:20271107T060000
END:STANDARD
END:VTIMEZONE
BEGIN:VEVENT
DTSTART;TZID=America/Toronto:20260318T190000
DTEND;TZID=America/Toronto:20260318T203000
DTSTAMP:20260420T183204
CREATED:20260402T184617Z
LAST-MODIFIED:20260402T184617Z
UID:10005668-1773860400-1773865800@shiningwatersregionalcouncil.ca
SUMMARY:Supporting 2SLGBTQIA+ Youth
DESCRIPTION:Kimbourne Park United Church’s Affirming Ministry and Toronto Pflag are partnering to host an information session for adults/parents/guardians supporting 2SLGBTQIA+ youth. \nWe invite you to join us at Kimbourne Park on Wednesday March 18th at 7:00pm for this FREE introductory information session for parents\, caregivers\, educators\, and other adults who care for and about queer and questioning youth. \nToronto Pflag offers caring and nonjudgmental support to Toronto’s 2SLGBTQIA+ community and their families. \nKimbourne is a welcoming safe space for all who identify as 2SLGBTQIA+ and their loved ones and has been an affirming church since 2024. \nAdults Supporting Youth/Parenting with Pride:\nThis interactive workshop is for parents and caregivers who want to learn basic language and concepts important to the 2SLGBTQIA+ community. Whether you’re supporting your child in this journey or just want to learn more\, join us! You’ll learn the importance of inclusive parenting\, how to prepare for and/or handle the coming-out conversation\, how to talk to and advocate for your child if/when the time comes. \nSpeaker Bio:\nLisa is the proud parent of young-adult twins\, one of whom came out as transgender/nonbinary in 2015. Not having much education or support at the time\, Lisa turned to her local PFLAG chapter for guidance and community. Shortly afterwards\, she began to support other parents and community members\, work she continues to today as a support meeting facilitator\, workshop presenter\, and president of Toronto Pflag’s board of directors. One of her favourite parts of the work is the conversations generated during workshops and she looks forward to that in this session as well! \nMake sure to RSVP with Eventbrite link below if you’d like to let us know you’re coming!\n– Kimbourne Park and Pflag To!
URL:https://shiningwatersregionalcouncil.ca/event/supporting-2slgbtqia-youth/
LOCATION:Kimbourne Park United Church\, 200 Wolverleigh\, Toronto\, Ontario\, M4C 1S2\, Canada
CATEGORIES:Community Events
ATTACH;FMTTYPE=image/jpeg:https://shiningwatersregionalcouncil.ca/wp-content/uploads/2026/03/IMG_8119.jpeg
ORGANIZER;CN="Kimbourne Park United Church":MAILTO:office@kpuc.org
END:VEVENT
BEGIN:VEVENT
DTSTART;TZID=America/Toronto:20251213T150000
DTEND;TZID=America/Toronto:20251213T163000
DTSTAMP:20260420T183204
CREATED:20251112T203118Z
LAST-MODIFIED:20251112T203118Z
UID:10004954-1765638000-1765643400@shiningwatersregionalcouncil.ca
SUMMARY:'Rejoice\, Greatly!' Christmas Concert
DESCRIPTION:‘Rejoice\, Greatly!’ FREE Christmas Concert at Kimbourne Park United Church!\nJoin us for our fourth annual Family Friendly Christmas Concert! \nGet in the Christmas spirit!! A concert of seasonal solos\, instrumentals and fun sing-along carols. \nAdmission is free\, food donations would be greatly appreciated. \nThere will be refreshments and a little bake sale after the concert. \nWe are an affirming church & fully accessible – absolutely everyone is welcome!\nParking on street\, Green P near by\, 2 min north of Coxwell TTC Station.
URL:https://shiningwatersregionalcouncil.ca/event/rejoice-greatly-christmas-concert/
LOCATION:Kimbourne Park United Church\, 200 Wolverleigh\, Toronto\, Ontario\, M4C 1S2\, Canada
CATEGORIES:Community Events
ATTACH;FMTTYPE=image/jpeg:https://shiningwatersregionalcouncil.ca/wp-content/uploads/2025/11/KPUC-Christmas-2025-4-1.jpg
ORGANIZER;CN="Kimbourne Park United Church":MAILTO:office@kpuc.org
END:VEVENT
END:VCALENDAR