BEGIN:VCALENDAR
VERSION:2.0
PRODID:-//Shining Waters - ECPv6.15.20//NONSGML v1.0//EN
CALSCALE:GREGORIAN
METHOD:PUBLISH
X-WR-CALNAME:Shining Waters
X-ORIGINAL-URL:https://shiningwatersregionalcouncil.ca
X-WR-CALDESC:Events for Shining Waters
REFRESH-INTERVAL;VALUE=DURATION:PT1H
X-Robots-Tag:noindex
X-PUBLISHED-TTL:PT1H
BEGIN:VTIMEZONE
TZID:America/Toronto
BEGIN:DAYLIGHT
TZOFFSETFROM:-0500
TZOFFSETTO:-0400
TZNAME:EDT
DTSTART:20210314T070000
END:DAYLIGHT
BEGIN:STANDARD
TZOFFSETFROM:-0400
TZOFFSETTO:-0500
TZNAME:EST
DTSTART:20211107T060000
END:STANDARD
BEGIN:DAYLIGHT
TZOFFSETFROM:-0500
TZOFFSETTO:-0400
TZNAME:EDT
DTSTART:20220313T070000
END:DAYLIGHT
BEGIN:STANDARD
TZOFFSETFROM:-0400
TZOFFSETTO:-0500
TZNAME:EST
DTSTART:20221106T060000
END:STANDARD
BEGIN:DAYLIGHT
TZOFFSETFROM:-0500
TZOFFSETTO:-0400
TZNAME:EDT
DTSTART:20230312T070000
END:DAYLIGHT
BEGIN:STANDARD
TZOFFSETFROM:-0400
TZOFFSETTO:-0500
TZNAME:EST
DTSTART:20231105T060000
END:STANDARD
END:VTIMEZONE
BEGIN:VEVENT
DTSTART;TZID=America/Toronto:20220618T130000
DTEND;TZID=America/Toronto:20220618T150000
DTSTAMP:20260420T031144
CREATED:20220512T200551Z
LAST-MODIFIED:20220512T200750Z
UID:10000138-1655557200-1655564400@shiningwatersregionalcouncil.ca
SUMMARY:Interfaith Pride Fair
DESCRIPTION:Community leaders and friends across communities of faith will come together to give common witness that faith matters in LGBTQ++ community. Contact John Joseph Mastandrea to reserve a table or for more information.  The event will take place in the north east corner of Allan Gardens park in Toronto. See below for address.
URL:https://shiningwatersregionalcouncil.ca/event/interfaith-pride-fair/
LOCATION:Allen Garden s\, 160 Gerrard Street\, Toronto\, ON\, M5A 2E5\, Canada
CATEGORIES:Affirming
ATTACH;FMTTYPE=image/jpeg:https://shiningwatersregionalcouncil.ca/wp-content/uploads/2022/05/interfaith-pride-grows-here-300px.jpg
ORGANIZER;CN="John Joseph Mastandrea":MAILTO:jmastandrea@gmail.com
END:VEVENT
END:VCALENDAR