BEGIN:VCALENDAR
VERSION:2.0
PRODID:-//Shining Waters - ECPv6.15.20//NONSGML v1.0//EN
CALSCALE:GREGORIAN
METHOD:PUBLISH
X-ORIGINAL-URL:https://shiningwatersregionalcouncil.ca
X-WR-CALDESC:Events for Shining Waters
REFRESH-INTERVAL;VALUE=DURATION:PT1H
X-Robots-Tag:noindex
X-PUBLISHED-TTL:PT1H
BEGIN:VTIMEZONE
TZID:America/Toronto
BEGIN:DAYLIGHT
TZOFFSETFROM:-0500
TZOFFSETTO:-0400
TZNAME:EDT
DTSTART:20210314T070000
END:DAYLIGHT
BEGIN:STANDARD
TZOFFSETFROM:-0400
TZOFFSETTO:-0500
TZNAME:EST
DTSTART:20211107T060000
END:STANDARD
BEGIN:DAYLIGHT
TZOFFSETFROM:-0500
TZOFFSETTO:-0400
TZNAME:EDT
DTSTART:20220313T070000
END:DAYLIGHT
BEGIN:STANDARD
TZOFFSETFROM:-0400
TZOFFSETTO:-0500
TZNAME:EST
DTSTART:20221106T060000
END:STANDARD
BEGIN:DAYLIGHT
TZOFFSETFROM:-0500
TZOFFSETTO:-0400
TZNAME:EDT
DTSTART:20230312T070000
END:DAYLIGHT
BEGIN:STANDARD
TZOFFSETFROM:-0400
TZOFFSETTO:-0500
TZNAME:EST
DTSTART:20231105T060000
END:STANDARD
END:VTIMEZONE
BEGIN:VEVENT
DTSTART;TZID=America/Toronto:20221001T110000
DTEND;TZID=America/Toronto:20221001T150000
DTSTAMP:20260419T075925
CREATED:20220702T231115Z
LAST-MODIFIED:20220702T231115Z
UID:10000165-1664622000-1664636400@shiningwatersregionalcouncil.ca
SUMMARY:Elegant Victorian Tea at Bradford United Church
DESCRIPTION:An Elegant Victorian Tea is being held at Bradford United Church on Saturday\, October 1st\, 2022. The ticket price is $40.00 per person. Doors open at 11:00 am. Musical entertainment will begin at 11:30 am\, and the tea will follow. Prizes will be given out for best hats\, so wear your most spectacular bonnet. Come out and enjoy tea\, fancy sandwiches and desserts. All proceeds will go to Matthews House Hospice in Alliston and Hospice Simcoe in Barrie. For tickets\, please contact Cheryll Strong at 289-338-0562.
URL:https://shiningwatersregionalcouncil.ca/event/elegant-victorian-tea-at-bradford-united-church/
LOCATION:Bradford United Church\, 66 Barrie Street\, Bradford\, ON\, L3Z 2B3\, Canada
CATEGORIES:Community Events
END:VEVENT
END:VCALENDAR