BEGIN:VCALENDAR
VERSION:2.0
PRODID:-//Shining Waters - ECPv6.15.20//NONSGML v1.0//EN
CALSCALE:GREGORIAN
METHOD:PUBLISH
X-WR-CALNAME:Shining Waters
X-ORIGINAL-URL:https://shiningwatersregionalcouncil.ca
X-WR-CALDESC:Events for Shining Waters
REFRESH-INTERVAL;VALUE=DURATION:PT1H
X-Robots-Tag:noindex
X-PUBLISHED-TTL:PT1H
BEGIN:VTIMEZONE
TZID:America/Toronto
BEGIN:DAYLIGHT
TZOFFSETFROM:-0500
TZOFFSETTO:-0400
TZNAME:EDT
DTSTART:20220313T070000
END:DAYLIGHT
BEGIN:STANDARD
TZOFFSETFROM:-0400
TZOFFSETTO:-0500
TZNAME:EST
DTSTART:20221106T060000
END:STANDARD
BEGIN:DAYLIGHT
TZOFFSETFROM:-0500
TZOFFSETTO:-0400
TZNAME:EDT
DTSTART:20230312T070000
END:DAYLIGHT
BEGIN:STANDARD
TZOFFSETFROM:-0400
TZOFFSETTO:-0500
TZNAME:EST
DTSTART:20231105T060000
END:STANDARD
BEGIN:DAYLIGHT
TZOFFSETFROM:-0500
TZOFFSETTO:-0400
TZNAME:EDT
DTSTART:20240310T070000
END:DAYLIGHT
BEGIN:STANDARD
TZOFFSETFROM:-0400
TZOFFSETTO:-0500
TZNAME:EST
DTSTART:20241103T060000
END:STANDARD
END:VTIMEZONE
BEGIN:VEVENT
DTSTART;TZID=America/Toronto:20230215T200000
DTEND;TZID=America/Toronto:20230215T213000
DTSTAMP:20260421T053553
CREATED:20230127T190426Z
LAST-MODIFIED:20230127T190807Z
UID:10000429-1676491200-1676496600@shiningwatersregionalcouncil.ca
SUMMARY:United Against Hate
DESCRIPTION:Join Affirm United/ S’affirmer Ensemble and Affirming Connections to learn about the malicious misinformation campaign and threats that have been launched against the drag and 2SLGBTQ+ communities across Canada-and what you can do. \nOur speakers will: \naddress some of the dangerous myths circulating around drag\, trans and other queer identities; \nlook at recent Canadian online and in-person instances of anti 2SLGBTQ+ hate\, some of which include Christian groups; \nexplain how these connect to wider hate\, racist\, and extremist anti-vaccination movements. \nThen together we’ll plan what you and your community of faith can do to bring a faithful public response in your context\, as well as support and care for those who need it. More information on resource people to come- please hold the date and join us!
URL:https://shiningwatersregionalcouncil.ca/event/united-against-hate/
LOCATION:Online via Zoom
CATEGORIES:Community Events
ATTACH;FMTTYPE=image/png:https://shiningwatersregionalcouncil.ca/wp-content/uploads/2023/01/UILX1151UnitedAgainstHate_V2_Course.png
ORGANIZER;CN="Affirm United / S'affirmer Ensemble":MAILTO:communications@ause.ca
END:VEVENT
END:VCALENDAR