BEGIN:VCALENDAR
VERSION:2.0
PRODID:-//Shining Waters - ECPv6.15.20//NONSGML v1.0//EN
CALSCALE:GREGORIAN
METHOD:PUBLISH
X-ORIGINAL-URL:https://shiningwatersregionalcouncil.ca
X-WR-CALDESC:Events for Shining Waters
REFRESH-INTERVAL;VALUE=DURATION:PT1H
X-Robots-Tag:noindex
X-PUBLISHED-TTL:PT1H
BEGIN:VTIMEZONE
TZID:America/Toronto
BEGIN:DAYLIGHT
TZOFFSETFROM:-0500
TZOFFSETTO:-0400
TZNAME:EDT
DTSTART:20230312T070000
END:DAYLIGHT
BEGIN:STANDARD
TZOFFSETFROM:-0400
TZOFFSETTO:-0500
TZNAME:EST
DTSTART:20231105T060000
END:STANDARD
BEGIN:DAYLIGHT
TZOFFSETFROM:-0500
TZOFFSETTO:-0400
TZNAME:EDT
DTSTART:20240310T070000
END:DAYLIGHT
BEGIN:STANDARD
TZOFFSETFROM:-0400
TZOFFSETTO:-0500
TZNAME:EST
DTSTART:20241103T060000
END:STANDARD
BEGIN:DAYLIGHT
TZOFFSETFROM:-0500
TZOFFSETTO:-0400
TZNAME:EDT
DTSTART:20250309T070000
END:DAYLIGHT
BEGIN:STANDARD
TZOFFSETFROM:-0400
TZOFFSETTO:-0500
TZNAME:EST
DTSTART:20251102T060000
END:STANDARD
END:VTIMEZONE
BEGIN:VEVENT
DTSTART;TZID=America/Toronto:20240707T140000
DTEND;TZID=America/Toronto:20241006T160000
DTSTAMP:20260421T010829
CREATED:20240314T205150Z
LAST-MODIFIED:20240531T212933Z
UID:10003454-1720360800-1728230400@shiningwatersregionalcouncil.ca
SUMMARY:QueerSpace
DESCRIPTION:See attached image \n1st and 3rd Sunday every month until summer break
URL:https://shiningwatersregionalcouncil.ca/event/queerspace-3/2024-07-07/
LOCATION:Cummer Avenue United Church\, 53 Cummer Avenue\, Toronto\, Ontario\, M2M 2E5\, Canada
CATEGORIES:Community Events
ATTACH;FMTTYPE=image/png:https://shiningwatersregionalcouncil.ca/wp-content/uploads/2024/03/QUEERSPACE-recurring.png
ORGANIZER;CN="Cummer Avenue United Church":MAILTO:office@cummeravenueuc.ca
END:VEVENT
BEGIN:VEVENT
DTSTART;TZID=America/Toronto:20240804T140000
DTEND;TZID=America/Toronto:20241103T150000
DTSTAMP:20260421T010829
CREATED:20240314T205150Z
LAST-MODIFIED:20240531T212933Z
UID:10003455-1722780000-1730646000@shiningwatersregionalcouncil.ca
SUMMARY:QueerSpace
DESCRIPTION:See attached image \n1st and 3rd Sunday every month until summer break
URL:https://shiningwatersregionalcouncil.ca/event/queerspace-3/2024-08-04/
LOCATION:Cummer Avenue United Church\, 53 Cummer Avenue\, Toronto\, Ontario\, M2M 2E5\, Canada
CATEGORIES:Community Events
ATTACH;FMTTYPE=image/png:https://shiningwatersregionalcouncil.ca/wp-content/uploads/2024/03/QUEERSPACE-recurring.png
ORGANIZER;CN="Cummer Avenue United Church":MAILTO:office@cummeravenueuc.ca
END:VEVENT
BEGIN:VEVENT
DTSTART;TZID=America/Toronto:20240910T130000
DTEND;TZID=America/Toronto:20240910T150000
DTSTAMP:20260421T010829
CREATED:20240905T201530Z
LAST-MODIFIED:20240905T201530Z
UID:10004170-1725973200-1725980400@shiningwatersregionalcouncil.ca
SUMMARY:St. Matthew's Seniors' Social
DESCRIPTION:Join us in the Parlour for coffee\, tea\, discussion and games. All are welcome!
URL:https://shiningwatersregionalcouncil.ca/event/st-matthews-seniors-social-2/2024-09-10/
LOCATION:729 St. Clair Avenue West\, 729\, Toronto\, ON\, M6J 2X1\, Canada
CATEGORIES:Community Events
ATTACH;FMTTYPE=image/jpeg:https://shiningwatersregionalcouncil.ca/wp-content/uploads/2024/09/coffee-cup-scaled.jpg
ORGANIZER;CN="St. Matthew's United Church":MAILTO:stmattsunited@gmail.com
END:VEVENT
BEGIN:VEVENT
DTSTART;TZID=America/Toronto:20240910T160000
DTEND;TZID=America/Toronto:20240910T200000
DTSTAMP:20260421T010829
CREATED:20231005T205901Z
LAST-MODIFIED:20231005T210004Z
UID:10001264-1725984000-1725998400@shiningwatersregionalcouncil.ca
SUMMARY:Queer Youth United
DESCRIPTION:Please join us on Tuesdays from 4 pm – 8pm every week – you may drop in at any time between those hours! \nQueer Youth United (QYU) is a 2SLGBTQ+ youth group for ages 15-29\, where you can come and engage with others in a safe space within the community\, while sharing meals\, finding support and resources. \nWe will have more information and photos on our Instagram account over at https://instagram.com/queeryouthunited
URL:https://shiningwatersregionalcouncil.ca/event/queer-youth-united/2024-09-10/
LOCATION:Beach United Church\, 140 Wineva Ave.\, Toronto\, Ontario\, M4E 2T4\, Canada
CATEGORIES:Affirming,Community Events
ATTACH;FMTTYPE=image/jpeg:https://shiningwatersregionalcouncil.ca/wp-content/uploads/2023/10/QYU-poster-social.jpg
END:VEVENT
BEGIN:VEVENT
DTSTART;TZID=America/Toronto:20240911T173000
DTEND;TZID=America/Toronto:20240911T200000
DTSTAMP:20260421T010829
CREATED:20240710T181636Z
LAST-MODIFIED:20241007T143259Z
UID:10004107-1726075800-1726084800@shiningwatersregionalcouncil.ca
SUMMARY:Nobleton and Schomberg United Church mid-week potluck services
DESCRIPTION:Want to spend some time at the cottage this summer and miss Sunday morning services? \nJoin us every Wednesday evening for our delightful Summer Potluck Dinner Series\, where the heart of our gatherings is sharing in singing hymns\, engaging with scripture and reflections\, and\, most importantly\, enjoying a meal in community. Each evening is a time of joyful fellowship\, delicious food\, and spiritual enrichment\, celebrating the blessings of unity and abundance. These weekly dinners offer a wonderful opportunity to connect with one another\, deepen our faith\, and experience the warmth of God’s love through music\, reflection\, and the simple act of sharing a meal. Everyone is welcome\, and we look forward to creating beautiful memories together in the spirit of hospitality and togetherness. \nThe dinners will be alternating between Nobleton United Church (6076 King Rd\, Nobleton) and Schomberg United Church (116 Church St\, Schomberg) each week\, and Nobleton will be hosting the dinner on July 24th. Please contact Rev. Gardner (pastor.schomberg.nobleton@gmail.com) to confirm the location.
URL:https://shiningwatersregionalcouncil.ca/event/nobleton-and-schomberg-united-church-mid-week-potluck-services/2024-09-11/
LOCATION:Ontario
CATEGORIES:Community Events
END:VEVENT
BEGIN:VEVENT
DTSTART;TZID=America/Toronto:20240914T110000
DTEND;TZID=America/Toronto:20240914T170000
DTSTAMP:20260421T010829
CREATED:20240709T133939Z
LAST-MODIFIED:20240709T133939Z
UID:10003991-1726311600-1726333200@shiningwatersregionalcouncil.ca
SUMMARY:14th Annual Roncy Book Sale
DESCRIPTION:Please join us July 13th from 10am-4pm for the 14th Annual Roncesvalles United Church Book Sale!\nHundreds of books in all subjects with ongoing new stock\n$3/book or 4 for $10\nKids books $2 and up\nCome check us out!
URL:https://shiningwatersregionalcouncil.ca/event/14th-annual-roncy-book-sale/2024-09-14/
LOCATION:Roncesvalles United Church\, 240 Roncesvalles Ave\, Toronto\, Ontario\, M6R 1M3\, Canada
CATEGORIES:Community Events
ATTACH;FMTTYPE=image/png:https://shiningwatersregionalcouncil.ca/wp-content/uploads/2024/07/Polish-Festival-Book-Sale-3.pdf.png
END:VEVENT
BEGIN:VEVENT
DTSTART;TZID=America/Toronto:20240914T120000
DTEND;TZID=America/Toronto:20240914T140000
DTSTAMP:20260421T010829
CREATED:20240830T192725Z
LAST-MODIFIED:20240830T192725Z
UID:10004163-1726315200-1726322400@shiningwatersregionalcouncil.ca
SUMMARY:Harvest Festival at Northlea
DESCRIPTION:Looking for fun for the whole family and wanting to squeeze in a little gift shopping too? Come to Northlea United on Saturday\, September 14\, 2024 between the hours of 12:00 noon and 2:00 pm. There will be great vendors\, games for the kids\, music and food too!
URL:https://shiningwatersregionalcouncil.ca/event/harvest-festival-at-northlea/
LOCATION:Northlea United Church\, 125 Brentcliffe Road\, Toronto\, Ontario\, M4G 3Y7\, Canada
CATEGORIES:Community Events
ATTACH;FMTTYPE=image/jpeg:https://shiningwatersregionalcouncil.ca/wp-content/uploads/2024/08/8.5x11-Harvest-Festival-poster-2024.jpg
ORGANIZER;CN="Northlea United Office":MAILTO:office@northleaunited.ca
END:VEVENT
BEGIN:VEVENT
DTSTART;VALUE=DATE:20240915
DTEND;VALUE=DATE:20240916
DTSTAMP:20260421T010829
CREATED:20240718T202903Z
LAST-MODIFIED:20240718T202903Z
UID:10004097-1726358400-1726444799@shiningwatersregionalcouncil.ca
SUMMARY:3 New United Church of Canada Foundation Grant Opportunities
DESCRIPTION:The United Church of Canada Foundation is thrilled to announce 3 exciting new grant programs that will commence this Fall!\nUnited\, we\nIntroducing a huge boost to our trust-based granting program: “United\, we”\, our new dedicated trust-based granting stream! \nIn each of the next two years (2024 and 2025)\, up to $100\,000 will be available through ‘United\, we’ to support impactful existing work at United Church organizations and partners who otherwise would not qualify for funding through current granting programs. \nCentennial Granting Fund\nAs we approach the United Church of Canada Centennial\, many communities of faith will be eager to hold services and activities in celebration. This program will provide funding for events marking the milestone\, emphasizing the importance of uniting to commemorate this historic achievement. \nCommunities of faith and other organizations planning special events to commemorate the Centennial can apply for grants of up to $5\,000. \nPromotion Project Fund\nOwing to the generosity and creativity of a Foundation donor\, this program will provide grants of up to $10\,000 to support congregations in their marketing efforts as they seek to attract members\, promote their vital ministries\, and retain a strong community presence.\nLearn more and apply now: https://unitedchurchfoundation.ca/united-church-of-canada-foundation-new-grant-programs/
URL:https://shiningwatersregionalcouncil.ca/event/3-new-united-church-of-canada-foundation-grant-opportunities-2/
LOCATION:online\, 12 Craiglee Drive\, Scarborough\, Ontario\, M1N 2L6\, Canada
CATEGORIES:Community Events
ATTACH;FMTTYPE=image/png:https://shiningwatersregionalcouncil.ca/wp-content/uploads/2024/07/2-1.png
ORGANIZER;CN="The United Church of Canada Foundation":MAILTO:aquan@united-church.ca
END:VEVENT
BEGIN:VEVENT
DTSTART;TZID=America/Toronto:20240915T120000
DTEND;TZID=America/Toronto:20240915T170000
DTSTAMP:20260421T010829
CREATED:20240709T133939Z
LAST-MODIFIED:20240709T133939Z
UID:10003992-1726401600-1726419600@shiningwatersregionalcouncil.ca
SUMMARY:14th Annual Roncy Book Sale
DESCRIPTION:Please join us July 13th from 10am-4pm for the 14th Annual Roncesvalles United Church Book Sale!\nHundreds of books in all subjects with ongoing new stock\n$3/book or 4 for $10\nKids books $2 and up\nCome check us out!
URL:https://shiningwatersregionalcouncil.ca/event/14th-annual-roncy-book-sale/2024-09-15/
LOCATION:Roncesvalles United Church\, 240 Roncesvalles Ave\, Toronto\, Ontario\, M6R 1M3\, Canada
CATEGORIES:Community Events
ATTACH;FMTTYPE=image/png:https://shiningwatersregionalcouncil.ca/wp-content/uploads/2024/07/Polish-Festival-Book-Sale-3.pdf.png
END:VEVENT
BEGIN:VEVENT
DTSTART;TZID=America/Toronto:20240915T170000
DTEND;TZID=America/Toronto:20240915T190000
DTSTAMP:20260421T010830
CREATED:20240830T192357Z
LAST-MODIFIED:20240830T192357Z
UID:10004161-1726419600-1726426800@shiningwatersregionalcouncil.ca
SUMMARY:Love Jazz at Northlea United
DESCRIPTION:Did you miss live Jazz over the summer? Faith Amour is back at Northlea United Church on September 15\, 2024 at 5:00 pm. Come on out and enjoy a lovely evening of Jazz and community! Families are welcome and Free Will Offering is appreciated.
URL:https://shiningwatersregionalcouncil.ca/event/love-jazz-at-northlea-united-4/
LOCATION:Northlea United Church\, 125 Brentcliffe Road\, Toronto\, Ontario\, M4G 3Y7\, Canada
CATEGORIES:Community Events
ATTACH;FMTTYPE=image/jpeg:https://shiningwatersregionalcouncil.ca/wp-content/uploads/2024/08/2024-09-15-Love-Jazz-Amour.jpg
ORGANIZER;CN="Northlea United Office":MAILTO:office@northleaunited.ca
END:VEVENT
END:VCALENDAR