BEGIN:VCALENDAR
VERSION:2.0
PRODID:-//Shining Waters - ECPv6.15.20//NONSGML v1.0//EN
CALSCALE:GREGORIAN
METHOD:PUBLISH
X-WR-CALNAME:Shining Waters
X-ORIGINAL-URL:https://shiningwatersregionalcouncil.ca
X-WR-CALDESC:Events for Shining Waters
REFRESH-INTERVAL;VALUE=DURATION:PT1H
X-Robots-Tag:noindex
X-PUBLISHED-TTL:PT1H
BEGIN:VTIMEZONE
TZID:America/Toronto
BEGIN:DAYLIGHT
TZOFFSETFROM:-0500
TZOFFSETTO:-0400
TZNAME:EDT
DTSTART:20230312T070000
END:DAYLIGHT
BEGIN:STANDARD
TZOFFSETFROM:-0400
TZOFFSETTO:-0500
TZNAME:EST
DTSTART:20231105T060000
END:STANDARD
BEGIN:DAYLIGHT
TZOFFSETFROM:-0500
TZOFFSETTO:-0400
TZNAME:EDT
DTSTART:20240310T070000
END:DAYLIGHT
BEGIN:STANDARD
TZOFFSETFROM:-0400
TZOFFSETTO:-0500
TZNAME:EST
DTSTART:20241103T060000
END:STANDARD
BEGIN:DAYLIGHT
TZOFFSETFROM:-0500
TZOFFSETTO:-0400
TZNAME:EDT
DTSTART:20250309T070000
END:DAYLIGHT
BEGIN:STANDARD
TZOFFSETFROM:-0400
TZOFFSETTO:-0500
TZNAME:EST
DTSTART:20251102T060000
END:STANDARD
END:VTIMEZONE
BEGIN:VEVENT
DTSTART;TZID=America/Toronto:20240407T140000
DTEND;TZID=America/Toronto:20240707T160000
DTSTAMP:20260420T025550
CREATED:20240314T205150Z
LAST-MODIFIED:20240531T212933Z
UID:10003451-1712498400-1720368000@shiningwatersregionalcouncil.ca
SUMMARY:QueerSpace
DESCRIPTION:See attached image \n1st and 3rd Sunday every month until summer break
URL:https://shiningwatersregionalcouncil.ca/event/queerspace-3/2024-04-07/
LOCATION:Cummer Avenue United Church\, 53 Cummer Avenue\, Toronto\, Ontario\, M2M 2E5\, Canada
CATEGORIES:Community Events
ATTACH;FMTTYPE=image/png:https://shiningwatersregionalcouncil.ca/wp-content/uploads/2024/03/QUEERSPACE-recurring.png
ORGANIZER;CN="Cummer Avenue United Church":MAILTO:office@cummeravenueuc.ca
END:VEVENT
BEGIN:VEVENT
DTSTART;TZID=America/Toronto:20240505T140000
DTEND;TZID=America/Toronto:20240804T160000
DTSTAMP:20260420T025550
CREATED:20240314T205150Z
LAST-MODIFIED:20240531T212933Z
UID:10003452-1714917600-1722787200@shiningwatersregionalcouncil.ca
SUMMARY:QueerSpace
DESCRIPTION:See attached image \n1st and 3rd Sunday every month until summer break
URL:https://shiningwatersregionalcouncil.ca/event/queerspace-3/2024-05-05/
LOCATION:Cummer Avenue United Church\, 53 Cummer Avenue\, Toronto\, Ontario\, M2M 2E5\, Canada
CATEGORIES:Community Events
ATTACH;FMTTYPE=image/png:https://shiningwatersregionalcouncil.ca/wp-content/uploads/2024/03/QUEERSPACE-recurring.png
ORGANIZER;CN="Cummer Avenue United Church":MAILTO:office@cummeravenueuc.ca
END:VEVENT
BEGIN:VEVENT
DTSTART;TZID=America/Toronto:20240602T140000
DTEND;TZID=America/Toronto:20240901T160000
DTSTAMP:20260420T025550
CREATED:20240314T205150Z
LAST-MODIFIED:20240531T212933Z
UID:10003453-1717336800-1725206400@shiningwatersregionalcouncil.ca
SUMMARY:QueerSpace
DESCRIPTION:See attached image \n1st and 3rd Sunday every month until summer break
URL:https://shiningwatersregionalcouncil.ca/event/queerspace-3/2024-06-02/
LOCATION:Cummer Avenue United Church\, 53 Cummer Avenue\, Toronto\, Ontario\, M2M 2E5\, Canada
CATEGORIES:Community Events
ATTACH;FMTTYPE=image/png:https://shiningwatersregionalcouncil.ca/wp-content/uploads/2024/03/QUEERSPACE-recurring.png
ORGANIZER;CN="Cummer Avenue United Church":MAILTO:office@cummeravenueuc.ca
END:VEVENT
BEGIN:VEVENT
DTSTART;TZID=America/Toronto:20240701T113000
DTEND;TZID=America/Toronto:20240701T140000
DTSTAMP:20260420T025550
CREATED:20240214T162820Z
LAST-MODIFIED:20240331T192004Z
UID:10002139-1719833400-1719842400@shiningwatersregionalcouncil.ca
SUMMARY:Dorothy's Place- Weekly
DESCRIPTION:Dorothy’s Place is a weekly drop-in program for 2SLGBTQIA+\, questioning\, and allied older adults and seniors aged 50+.\nWe offer homemade meals\, workshop and educational programming\, and social opportunities. \nWe are open on Mondays from 11:30am-2pm.
URL:https://shiningwatersregionalcouncil.ca/event/dorothys-place-weekly/2024-07-01/
LOCATION:Birchcliff Bluffs United Church\, 33 East Road\, Toronto\, Ontario\, M5A 4P8\, Canada
CATEGORIES:Community Events
ATTACH;FMTTYPE=image/jpeg:https://shiningwatersregionalcouncil.ca/wp-content/uploads/2024/02/dorothys-shining-waters.jpg
ORGANIZER;CN="Dorothy's Place":MAILTO:dorothysplace4u@gmail.com
END:VEVENT
BEGIN:VEVENT
DTSTART;TZID=America/Toronto:20240701T153000
DTEND;TZID=America/Toronto:20240701T203000
DTSTAMP:20260420T025550
CREATED:20240214T162734Z
LAST-MODIFIED:20240331T191911Z
UID:10001878-1719847800-1719865800@shiningwatersregionalcouncil.ca
SUMMARY:Toby's Place- Weekly
DESCRIPTION:Toby’s Place is a weekly drop-in program for 2SLGBTQIA+ youth\, folks questioning their gender and/or sexuality\, and friends and allies\, 23-years-old and under. We feature meals from scratch\, workshop or entertainment programming\, a clothing swap\, book swap corner\, and more! \nWe run on Mondays from 3:30pm-8:30pm. \n​
URL:https://shiningwatersregionalcouncil.ca/event/tobys-place-weekly/2024-07-01/
LOCATION:Birchcliff Bluffs United Church\, 33 East Road\, Toronto\, Ontario\, M5A 4P8\, Canada
CATEGORIES:Community Events
ATTACH;FMTTYPE=image/jpeg:https://shiningwatersregionalcouncil.ca/wp-content/uploads/2024/02/Promo-for-The-Buzz.jpg
ORGANIZER;CN="Toby's Place":MAILTO:tobys.place33@gmail.com
END:VEVENT
BEGIN:VEVENT
DTSTART;TZID=America/Toronto:20240704T183000
DTEND;TZID=America/Toronto:20240704T193000
DTSTAMP:20260420T025550
CREATED:20240301T154022Z
LAST-MODIFIED:20240301T162928Z
UID:10003026-1720117800-1720121400@shiningwatersregionalcouncil.ca
SUMMARY:The Spark
DESCRIPTION:A break from screens. A joining of community. \nThe Spark is a back to basics time in community. We gather around a table as we worship and share a simple meal of soup and bread. We listen to old stories in new ways\, and share those things that are on our hearts.
URL:https://shiningwatersregionalcouncil.ca/event/the-spark/2024-07-04/
LOCATION:Glen Rhodes Campus\, 1470 Gerrard Street East\, Toronto\, Ontario\, M4L 2A3\, Canada
CATEGORIES:Community Events
ORGANIZER;CN="East End United Regional Ministry":MAILTO:info@eastendunited.ca
END:VEVENT
BEGIN:VEVENT
DTSTART;VALUE=DATE:20240706
DTEND;VALUE=DATE:20240715
DTSTAMP:20260420T025550
CREATED:20240429T210452Z
LAST-MODIFIED:20240430T153023Z
UID:10003542-1720288800-1720980000@shiningwatersregionalcouncil.ca
SUMMARY:The GO Project Youth Mission Program
DESCRIPTION:A mission trip in your own backyard. Eight days packed with community engagement\, spiritual growth\, and reaching out to others. \nDuring the program\, participants and staff reside at the host church\, cook and eat together\, serve with local environmental and social justice organizations\, and discern how they are being called into action in their own lives and communities through discernment workshops. Youth programs provide the mission trip experience without having to leave Canada\, and for a fraction of the cost. \nOur hope is that each participant and staff have an ‘aha-moment’ while at GO\, serving others\, breaking bread together\, and having fun with one another\, and can leave the program with an action plan on how they can act and serve with their own gifts and skills in their communities. In the past\, GO Project participants have created community gardens\, meal programs\, and resolved to offer their time and gifts in various other ways. \nAge of participants: 12-16
URL:https://shiningwatersregionalcouncil.ca/event/the-go-project-youth-mission-program/
LOCATION:Kingston Road United Church\, 975 Kingston Road\, Toronto\, Ontario\, M4E 1T1\, Canada
CATEGORIES:Community Events
ATTACH;FMTTYPE=image/jpeg:https://shiningwatersregionalcouncil.ca/wp-content/uploads/2024/04/Summer-2024-Flyer-Go-Project.jpg
ORGANIZER;CN="The GO Project":MAILTO:admin@thegoproject.ca
END:VEVENT
BEGIN:VEVENT
DTSTART;TZID=America/Toronto:20240707T140000
DTEND;TZID=America/Toronto:20241006T160000
DTSTAMP:20260420T025550
CREATED:20240314T205150Z
LAST-MODIFIED:20240531T212933Z
UID:10003454-1720360800-1728230400@shiningwatersregionalcouncil.ca
SUMMARY:QueerSpace
DESCRIPTION:See attached image \n1st and 3rd Sunday every month until summer break
URL:https://shiningwatersregionalcouncil.ca/event/queerspace-3/2024-07-07/
LOCATION:Cummer Avenue United Church\, 53 Cummer Avenue\, Toronto\, Ontario\, M2M 2E5\, Canada
CATEGORIES:Community Events
ATTACH;FMTTYPE=image/png:https://shiningwatersregionalcouncil.ca/wp-content/uploads/2024/03/QUEERSPACE-recurring.png
ORGANIZER;CN="Cummer Avenue United Church":MAILTO:office@cummeravenueuc.ca
END:VEVENT
END:VCALENDAR