BEGIN:VCALENDAR
VERSION:2.0
PRODID:-//Shining Waters - ECPv6.15.20//NONSGML v1.0//EN
CALSCALE:GREGORIAN
METHOD:PUBLISH
X-WR-CALNAME:Shining Waters
X-ORIGINAL-URL:https://shiningwatersregionalcouncil.ca
X-WR-CALDESC:Events for Shining Waters
REFRESH-INTERVAL;VALUE=DURATION:PT1H
X-Robots-Tag:noindex
X-PUBLISHED-TTL:PT1H
BEGIN:VTIMEZONE
TZID:America/Toronto
BEGIN:DAYLIGHT
TZOFFSETFROM:-0500
TZOFFSETTO:-0400
TZNAME:EDT
DTSTART:20230312T070000
END:DAYLIGHT
BEGIN:STANDARD
TZOFFSETFROM:-0400
TZOFFSETTO:-0500
TZNAME:EST
DTSTART:20231105T060000
END:STANDARD
BEGIN:DAYLIGHT
TZOFFSETFROM:-0500
TZOFFSETTO:-0400
TZNAME:EDT
DTSTART:20240310T070000
END:DAYLIGHT
BEGIN:STANDARD
TZOFFSETFROM:-0400
TZOFFSETTO:-0500
TZNAME:EST
DTSTART:20241103T060000
END:STANDARD
BEGIN:DAYLIGHT
TZOFFSETFROM:-0500
TZOFFSETTO:-0400
TZNAME:EDT
DTSTART:20250309T070000
END:DAYLIGHT
BEGIN:STANDARD
TZOFFSETFROM:-0400
TZOFFSETTO:-0500
TZNAME:EST
DTSTART:20251102T060000
END:STANDARD
END:VTIMEZONE
BEGIN:VEVENT
DTSTART;TZID=America/Toronto:20240407T140000
DTEND;TZID=America/Toronto:20240707T160000
DTSTAMP:20260419T213941
CREATED:20240314T205150Z
LAST-MODIFIED:20240531T212933Z
UID:10003451-1712498400-1720368000@shiningwatersregionalcouncil.ca
SUMMARY:QueerSpace
DESCRIPTION:See attached image \n1st and 3rd Sunday every month until summer break
URL:https://shiningwatersregionalcouncil.ca/event/queerspace-3/2024-04-07/
LOCATION:Cummer Avenue United Church\, 53 Cummer Avenue\, Toronto\, Ontario\, M2M 2E5\, Canada
CATEGORIES:Community Events
ATTACH;FMTTYPE=image/png:https://shiningwatersregionalcouncil.ca/wp-content/uploads/2024/03/QUEERSPACE-recurring.png
ORGANIZER;CN="Cummer Avenue United Church":MAILTO:office@cummeravenueuc.ca
END:VEVENT
BEGIN:VEVENT
DTSTART;TZID=America/Toronto:20240414T100000
DTEND;TZID=America/Toronto:20240630T130000
DTSTAMP:20260419T213941
CREATED:20240326T162033Z
LAST-MODIFIED:20240326T162033Z
UID:10003438-1713088800-1719752400@shiningwatersregionalcouncil.ca
SUMMARY:WE Holy Fun Program
DESCRIPTION:Willowdale Emmanuel Young Family Ministry – WE Holy Fun Program\nDrop off from 10 a.m. to 1 p.m. every Sunday from April 14th to June 30th\n$20.00 for the whole program! Ages 4 to 11\nMusic\, Dance\, Arts\, Crafts\, Sports\, Games\, bible storytelling\, snacks\nWillowdale Emmanuel United Church\n349 Kenneth Ave.\nToronto\, ON M2N 4V9\n416-225-2309\nemail: weunitedchurch@hotmail.com
URL:https://shiningwatersregionalcouncil.ca/event/we-holy-fun-program/
LOCATION:Willowdale Emmanuel UC\, 349 Kenneth Ave.\, Toronto\, Ontario\, M2N4V9\, Canada
CATEGORIES:Community Events
ATTACH;FMTTYPE=image/jpeg:https://shiningwatersregionalcouncil.ca/wp-content/uploads/2024/03/Holy-Fun-Season-3-poster.jpg
END:VEVENT
BEGIN:VEVENT
DTSTART;TZID=America/Toronto:20240505T140000
DTEND;TZID=America/Toronto:20240804T160000
DTSTAMP:20260419T213941
CREATED:20240314T205150Z
LAST-MODIFIED:20240531T212933Z
UID:10003452-1714917600-1722787200@shiningwatersregionalcouncil.ca
SUMMARY:QueerSpace
DESCRIPTION:See attached image \n1st and 3rd Sunday every month until summer break
URL:https://shiningwatersregionalcouncil.ca/event/queerspace-3/2024-05-05/
LOCATION:Cummer Avenue United Church\, 53 Cummer Avenue\, Toronto\, Ontario\, M2M 2E5\, Canada
CATEGORIES:Community Events
ATTACH;FMTTYPE=image/png:https://shiningwatersregionalcouncil.ca/wp-content/uploads/2024/03/QUEERSPACE-recurring.png
ORGANIZER;CN="Cummer Avenue United Church":MAILTO:office@cummeravenueuc.ca
END:VEVENT
BEGIN:VEVENT
DTSTART;TZID=America/Toronto:20240602T140000
DTEND;TZID=America/Toronto:20240901T160000
DTSTAMP:20260419T213941
CREATED:20240314T205150Z
LAST-MODIFIED:20240531T212933Z
UID:10003453-1717336800-1725206400@shiningwatersregionalcouncil.ca
SUMMARY:QueerSpace
DESCRIPTION:See attached image \n1st and 3rd Sunday every month until summer break
URL:https://shiningwatersregionalcouncil.ca/event/queerspace-3/2024-06-02/
LOCATION:Cummer Avenue United Church\, 53 Cummer Avenue\, Toronto\, Ontario\, M2M 2E5\, Canada
CATEGORIES:Community Events
ATTACH;FMTTYPE=image/png:https://shiningwatersregionalcouncil.ca/wp-content/uploads/2024/03/QUEERSPACE-recurring.png
ORGANIZER;CN="Cummer Avenue United Church":MAILTO:office@cummeravenueuc.ca
END:VEVENT
BEGIN:VEVENT
DTSTART;TZID=America/Toronto:20240603T120000
DTEND;TZID=America/Toronto:20240628T150000
DTSTAMP:20260419T213941
CREATED:20240628T202802Z
LAST-MODIFIED:20240628T202802Z
UID:10003980-1717416000-1719586800@shiningwatersregionalcouncil.ca
SUMMARY:Norval Morrisseau at Met
DESCRIPTION:Metropolitan United Church in downtown Toronto is working in partnership with the Estate of acclaimed Indigenous artist Norval Morrisseau. During the month of June reproductions of some of Morrisseau’s art are on display. Met is open to the public from noon to 3 pm Monday to Friday\, and on Sunday mornings.
URL:https://shiningwatersregionalcouncil.ca/event/norval-morrisseau-at-met/
LOCATION:Metropolitan United Church\, 56 Queen Street East\, Toronto
CATEGORIES:Community Events
ATTACH;FMTTYPE=image/jpeg:https://shiningwatersregionalcouncil.ca/wp-content/uploads/2024/06/unnamed-5.jpg
ORGANIZER;CN="Metropolitan United Church":MAILTO:communications@metunited.ca
END:VEVENT
BEGIN:VEVENT
DTSTART;TZID=America/Toronto:20240611T130000
DTEND;TZID=America/Toronto:20240611T150000
DTSTAMP:20260419T213941
CREATED:20240325T210744Z
LAST-MODIFIED:20240325T210852Z
UID:10003435-1718110800-1718118000@shiningwatersregionalcouncil.ca
SUMMARY:Seniors Social
DESCRIPTION:Come for a visit\, play cards or games\, make something by hand\, catch up on old friends or make new ones in the St. Matthew’s Parlour from 1-3 pm. Contact Betsy Anderson (andersonbetsy528@gmail.com) if you have questions. All are welcome!
URL:https://shiningwatersregionalcouncil.ca/event/seniors-social/2024-06-11/
LOCATION:St. Matthew’s United Church\, Toronto\, 729 St. Clair Ave W.\, Toronto\, Ontario\, M6C 1B3\, Canada
CATEGORIES:Community Events
ATTACH;FMTTYPE=image/jpeg:https://shiningwatersregionalcouncil.ca/wp-content/uploads/2024/03/IMG_9382-scaled-e1711400921624.jpg
ORGANIZER;CN="St. Matthew's United Church%2C Toronto":MAILTO:stmattsunited@gmail.com
END:VEVENT
BEGIN:VEVENT
DTSTART;TZID=America/Toronto:20240611T160000
DTEND;TZID=America/Toronto:20240611T200000
DTSTAMP:20260419T213941
CREATED:20231005T205901Z
LAST-MODIFIED:20231005T210004Z
UID:10001251-1718121600-1718136000@shiningwatersregionalcouncil.ca
SUMMARY:Queer Youth United
DESCRIPTION:Please join us on Tuesdays from 4 pm – 8pm every week – you may drop in at any time between those hours! \nQueer Youth United (QYU) is a 2SLGBTQ+ youth group for ages 15-29\, where you can come and engage with others in a safe space within the community\, while sharing meals\, finding support and resources. \nWe will have more information and photos on our Instagram account over at https://instagram.com/queeryouthunited
URL:https://shiningwatersregionalcouncil.ca/event/queer-youth-united/2024-06-11/
LOCATION:Beach United Church\, 140 Wineva Ave.\, Toronto\, Ontario\, M4E 2T4\, Canada
CATEGORIES:Affirming,Community Events
ATTACH;FMTTYPE=image/jpeg:https://shiningwatersregionalcouncil.ca/wp-content/uploads/2023/10/QYU-poster-social.jpg
END:VEVENT
BEGIN:VEVENT
DTSTART;VALUE=DATE:20240614
DTEND;VALUE=DATE:20240615
DTSTAMP:20260419T213941
CREATED:20240531T210506Z
LAST-MODIFIED:20240531T211218Z
UID:10003922-1718323200-1718409599@shiningwatersregionalcouncil.ca
SUMMARY:Jazz in the Courtyard
DESCRIPTION:St. Andrew’s United Church\, Toronto invites you to Jazz in the Courtyard featuring the Tom Reynolds Trio and refreshments.
URL:https://shiningwatersregionalcouncil.ca/event/jazz-in-the-courtyard/2024-06-14/
LOCATION:St. Andrew’s United Church\, Toronto\, 117 Bloor St. East\, Toronto\, Ontario\, M4W 1A9\, Canada
CATEGORIES:Community Events
ATTACH;FMTTYPE=image/png:https://shiningwatersregionalcouncil.ca/wp-content/uploads/2024/05/Jazz-in-the-Courtyard-2024-Postcard-11-x-17-in.png
ORGANIZER;CN="st. andrew's united Church%2C Toronto":MAILTO:standrewsunited@outlook.com
END:VEVENT
BEGIN:VEVENT
DTSTART;TZID=America/Toronto:20240614T180000
DTEND;TZID=America/Toronto:20240614T210000
DTSTAMP:20260419T213941
CREATED:20240328T143842Z
LAST-MODIFIED:20240328T143842Z
UID:10003446-1718388000-1718398800@shiningwatersregionalcouncil.ca
SUMMARY:Godly Play Core Training
DESCRIPTION:Over two weekends\, you will experience and tell Godly Play stories\, and learn how to set up and manage a Godly Play space and session. You will deepen your understanding of the spirituality of children. You will achieve greater clarity about the foundations of Godly Play\, and leave spiritually refreshed. Whether you practice Godly Play or not\, you will learn ways to creatively share the stories of the Christian faith and help children learn a religious language that will last a lifetime.
URL:https://shiningwatersregionalcouncil.ca/event/godly-play-core-training-3/2024-06-14/
LOCATION:Toronto Chinese United Church\, 3300 Kennedy Rd.\, Scarborough\, ON\, M1V 3S8\, Canada
CATEGORIES:Community Events
ATTACH;FMTTYPE=image/png:https://shiningwatersregionalcouncil.ca/wp-content/uploads/2024/03/2024-logo.png
END:VEVENT
BEGIN:VEVENT
DTSTART;TZID=America/Toronto:20240615T170000
DTEND;TZID=America/Toronto:20240615T190000
DTSTAMP:20260419T213941
CREATED:20240612T211057Z
LAST-MODIFIED:20240612T211234Z
UID:10003981-1718470800-1718478000@shiningwatersregionalcouncil.ca
SUMMARY:Queer Forum in Celebrating Pride Month
DESCRIPTION:It is a queer forum event for Korean-speaking people\, that will be hosted by Good Tree Korean UC in celebrating Pride Month. \nTheme: “Building a hospitable community of faith with Queers”\nPanelists: Hyerim Park and Yeseullyn Lee\nDate and time: Saturday\, June 15 at 5:00pm\nPlace: Good Tree Korean United Church\n255 Finch Ave W\, North York\, ON M2R 1M8 (parking available)\nLanguage: This event will be held in the Korean language.
URL:https://shiningwatersregionalcouncil.ca/event/queer-forum-in-celebrating-pride-month/
LOCATION:GoodTree Korean United Church\, 255 Finch west\, Toronto\, ON\, M4Y 1R6\, Canada
CATEGORIES:Community Events
ATTACH;FMTTYPE=image/jpeg:https://shiningwatersregionalcouncil.ca/wp-content/uploads/2024/06/446864786_122121940898285295_5928742706481984230_n.jpeg
ORGANIZER;CN="goodtreekoreanunitedchurch":MAILTO:kimyjung@gmail.com
END:VEVENT
BEGIN:VEVENT
DTSTART;TZID=America/Toronto:20240616T103000
DTEND;TZID=America/Toronto:20240616T233000
DTSTAMP:20260419T213941
CREATED:20240514T175831Z
LAST-MODIFIED:20240514T175831Z
UID:10003915-1718533800-1718580600@shiningwatersregionalcouncil.ca
SUMMARY:Blessing of the Pets Service
DESCRIPTION:Join us at Beach United Church (140 Wineva Ave.) for our Blessing of the Pets outdoor service on Sunday\, June 16th at 10:30am. All pets are welcome – from cats to cockatiels and hamsters to hares! \n– \nIn church tradition\, the Day of the Feast of St. Francis of Assisi\, has become known as a day to bless animals. The link to St. Francis and blessing animals flows from his theological stance regarding the care of creation and a belief of the interconnectedness of all things.
URL:https://shiningwatersregionalcouncil.ca/event/blessing-of-the-pets-service/
LOCATION:Beach United Church\, 140 Wineva Ave.\, Toronto\, Ontario\, M4E 2T4\, Canada
CATEGORIES:Community Events
ATTACH;FMTTYPE=image/jpeg:https://shiningwatersregionalcouncil.ca/wp-content/uploads/2024/05/Blessing-of-the-Pets-website-2024.jpg
END:VEVENT
BEGIN:VEVENT
DTSTART;TZID=America/Toronto:20240616T150000
DTEND;TZID=America/Toronto:20240616T170000
DTSTAMP:20260419T213941
CREATED:20240516T192123Z
LAST-MODIFIED:20240516T192123Z
UID:10003918-1718550000-1718557200@shiningwatersregionalcouncil.ca
SUMMARY:Ross and Friends Concert 2024
DESCRIPTION:Ross and Friends is a gathering of musicians to celebrate music.\nTickets are $30 and are available at the door.
URL:https://shiningwatersregionalcouncil.ca/event/ross-and-friends-concert-2024/
LOCATION:Knox United Church Agincourt\, 2569 Midland Avenue\, Toronto\, Ontario\, M1S 1R3\, Canada
CATEGORIES:Community Events
ATTACH;FMTTYPE=image/jpeg:https://shiningwatersregionalcouncil.ca/wp-content/uploads/2024/05/Ross-Friends.jpg
END:VEVENT
BEGIN:VEVENT
DTSTART;TZID=America/Toronto:20240616T170000
DTEND;TZID=America/Toronto:20240616T190000
DTSTAMP:20260419T213941
CREATED:20240613T191051Z
LAST-MODIFIED:20240613T191051Z
UID:10003983-1718557200-1718564400@shiningwatersregionalcouncil.ca
SUMMARY:Queer Forum in Celebrating Pride Month
DESCRIPTION:Invitation to Queer Forum in Celebrating Pride Month \nTheme: “Building a hospitable community of faith with Queers”\nPanelists: Hyerim Park and Yeseullyn Lee\nDate and time: June 15\, Saturday at 5:00 p.m\nPlace: Good Tree Korean United Church\n255 Finch Ave W\, North York\, ON M2R 1M8 (parking available) \nLanguage: This event will be held in Korean language.
URL:https://shiningwatersregionalcouncil.ca/event/queer-forum-in-celebrating-pride-month-2/
LOCATION:ON
CATEGORIES:Community Events
ATTACH;FMTTYPE=image/jpeg:https://shiningwatersregionalcouncil.ca/wp-content/uploads/2024/06/446864786_122121940898285295_5928742706481984230_n-1.jpeg
END:VEVENT
END:VCALENDAR