BEGIN:VCALENDAR
VERSION:2.0
PRODID:-//Shining Waters - ECPv6.15.20//NONSGML v1.0//EN
CALSCALE:GREGORIAN
METHOD:PUBLISH
X-WR-CALNAME:Shining Waters
X-ORIGINAL-URL:https://shiningwatersregionalcouncil.ca
X-WR-CALDESC:Events for Shining Waters
REFRESH-INTERVAL;VALUE=DURATION:PT1H
X-Robots-Tag:noindex
X-PUBLISHED-TTL:PT1H
BEGIN:VTIMEZONE
TZID:America/Toronto
BEGIN:DAYLIGHT
TZOFFSETFROM:-0500
TZOFFSETTO:-0400
TZNAME:EDT
DTSTART:20230312T070000
END:DAYLIGHT
BEGIN:STANDARD
TZOFFSETFROM:-0400
TZOFFSETTO:-0500
TZNAME:EST
DTSTART:20231105T060000
END:STANDARD
BEGIN:DAYLIGHT
TZOFFSETFROM:-0500
TZOFFSETTO:-0400
TZNAME:EDT
DTSTART:20240310T070000
END:DAYLIGHT
BEGIN:STANDARD
TZOFFSETFROM:-0400
TZOFFSETTO:-0500
TZNAME:EST
DTSTART:20241103T060000
END:STANDARD
BEGIN:DAYLIGHT
TZOFFSETFROM:-0500
TZOFFSETTO:-0400
TZNAME:EDT
DTSTART:20250309T070000
END:DAYLIGHT
BEGIN:STANDARD
TZOFFSETFROM:-0400
TZOFFSETTO:-0500
TZNAME:EST
DTSTART:20251102T060000
END:STANDARD
END:VTIMEZONE
BEGIN:VEVENT
DTSTART;TZID=America/Toronto:20240407T140000
DTEND;TZID=America/Toronto:20240707T160000
DTSTAMP:20260420T033652
CREATED:20240314T205150Z
LAST-MODIFIED:20240531T212933Z
UID:10003451-1712498400-1720368000@shiningwatersregionalcouncil.ca
SUMMARY:QueerSpace
DESCRIPTION:See attached image \n1st and 3rd Sunday every month until summer break
URL:https://shiningwatersregionalcouncil.ca/event/queerspace-3/2024-04-07/
LOCATION:Cummer Avenue United Church\, 53 Cummer Avenue\, Toronto\, Ontario\, M2M 2E5\, Canada
CATEGORIES:Community Events
ATTACH;FMTTYPE=image/png:https://shiningwatersregionalcouncil.ca/wp-content/uploads/2024/03/QUEERSPACE-recurring.png
ORGANIZER;CN="Cummer Avenue United Church":MAILTO:office@cummeravenueuc.ca
END:VEVENT
BEGIN:VEVENT
DTSTART;TZID=America/Toronto:20240414T100000
DTEND;TZID=America/Toronto:20240630T130000
DTSTAMP:20260420T033652
CREATED:20240326T162033Z
LAST-MODIFIED:20240326T162033Z
UID:10003438-1713088800-1719752400@shiningwatersregionalcouncil.ca
SUMMARY:WE Holy Fun Program
DESCRIPTION:Willowdale Emmanuel Young Family Ministry – WE Holy Fun Program\nDrop off from 10 a.m. to 1 p.m. every Sunday from April 14th to June 30th\n$20.00 for the whole program! Ages 4 to 11\nMusic\, Dance\, Arts\, Crafts\, Sports\, Games\, bible storytelling\, snacks\nWillowdale Emmanuel United Church\n349 Kenneth Ave.\nToronto\, ON M2N 4V9\n416-225-2309\nemail: weunitedchurch@hotmail.com
URL:https://shiningwatersregionalcouncil.ca/event/we-holy-fun-program/
LOCATION:Willowdale Emmanuel UC\, 349 Kenneth Ave.\, Toronto\, Ontario\, M2N4V9\, Canada
CATEGORIES:Community Events
ATTACH;FMTTYPE=image/jpeg:https://shiningwatersregionalcouncil.ca/wp-content/uploads/2024/03/Holy-Fun-Season-3-poster.jpg
END:VEVENT
BEGIN:VEVENT
DTSTART;TZID=America/Toronto:20240505T140000
DTEND;TZID=America/Toronto:20240804T160000
DTSTAMP:20260420T033652
CREATED:20240314T205150Z
LAST-MODIFIED:20240531T212933Z
UID:10003452-1714917600-1722787200@shiningwatersregionalcouncil.ca
SUMMARY:QueerSpace
DESCRIPTION:See attached image \n1st and 3rd Sunday every month until summer break
URL:https://shiningwatersregionalcouncil.ca/event/queerspace-3/2024-05-05/
LOCATION:Cummer Avenue United Church\, 53 Cummer Avenue\, Toronto\, Ontario\, M2M 2E5\, Canada
CATEGORIES:Community Events
ATTACH;FMTTYPE=image/png:https://shiningwatersregionalcouncil.ca/wp-content/uploads/2024/03/QUEERSPACE-recurring.png
ORGANIZER;CN="Cummer Avenue United Church":MAILTO:office@cummeravenueuc.ca
END:VEVENT
BEGIN:VEVENT
DTSTART;TZID=America/Toronto:20240602T140000
DTEND;TZID=America/Toronto:20240901T160000
DTSTAMP:20260420T033652
CREATED:20240314T205150Z
LAST-MODIFIED:20240531T212933Z
UID:10003453-1717336800-1725206400@shiningwatersregionalcouncil.ca
SUMMARY:QueerSpace
DESCRIPTION:See attached image \n1st and 3rd Sunday every month until summer break
URL:https://shiningwatersregionalcouncil.ca/event/queerspace-3/2024-06-02/
LOCATION:Cummer Avenue United Church\, 53 Cummer Avenue\, Toronto\, Ontario\, M2M 2E5\, Canada
CATEGORIES:Community Events
ATTACH;FMTTYPE=image/png:https://shiningwatersregionalcouncil.ca/wp-content/uploads/2024/03/QUEERSPACE-recurring.png
ORGANIZER;CN="Cummer Avenue United Church":MAILTO:office@cummeravenueuc.ca
END:VEVENT
BEGIN:VEVENT
DTSTART;TZID=America/Toronto:20240603T113000
DTEND;TZID=America/Toronto:20240603T140000
DTSTAMP:20260420T033652
CREATED:20240214T162820Z
LAST-MODIFIED:20240331T192004Z
UID:10002135-1717414200-1717423200@shiningwatersregionalcouncil.ca
SUMMARY:Dorothy's Place- Weekly
DESCRIPTION:Dorothy’s Place is a weekly drop-in program for 2SLGBTQIA+\, questioning\, and allied older adults and seniors aged 50+.\nWe offer homemade meals\, workshop and educational programming\, and social opportunities. \nWe are open on Mondays from 11:30am-2pm.
URL:https://shiningwatersregionalcouncil.ca/event/dorothys-place-weekly/2024-06-03/
LOCATION:Birchcliff Bluffs United Church\, 33 East Road\, Toronto\, Ontario\, M5A 4P8\, Canada
CATEGORIES:Community Events
ATTACH;FMTTYPE=image/jpeg:https://shiningwatersregionalcouncil.ca/wp-content/uploads/2024/02/dorothys-shining-waters.jpg
ORGANIZER;CN="Dorothy's Place":MAILTO:dorothysplace4u@gmail.com
END:VEVENT
BEGIN:VEVENT
DTSTART;TZID=America/Toronto:20240603T120000
DTEND;TZID=America/Toronto:20240628T150000
DTSTAMP:20260420T033652
CREATED:20240628T202802Z
LAST-MODIFIED:20240628T202802Z
UID:10003980-1717416000-1719586800@shiningwatersregionalcouncil.ca
SUMMARY:Norval Morrisseau at Met
DESCRIPTION:Metropolitan United Church in downtown Toronto is working in partnership with the Estate of acclaimed Indigenous artist Norval Morrisseau. During the month of June reproductions of some of Morrisseau’s art are on display. Met is open to the public from noon to 3 pm Monday to Friday\, and on Sunday mornings.
URL:https://shiningwatersregionalcouncil.ca/event/norval-morrisseau-at-met/
LOCATION:Metropolitan United Church\, 56 Queen Street East\, Toronto
CATEGORIES:Community Events
ATTACH;FMTTYPE=image/jpeg:https://shiningwatersregionalcouncil.ca/wp-content/uploads/2024/06/unnamed-5.jpg
ORGANIZER;CN="Metropolitan United Church":MAILTO:communications@metunited.ca
END:VEVENT
BEGIN:VEVENT
DTSTART;TZID=America/Toronto:20240603T153000
DTEND;TZID=America/Toronto:20240603T203000
DTSTAMP:20260420T033652
CREATED:20240214T162734Z
LAST-MODIFIED:20240331T191911Z
UID:10001874-1717428600-1717446600@shiningwatersregionalcouncil.ca
SUMMARY:Toby's Place- Weekly
DESCRIPTION:Toby’s Place is a weekly drop-in program for 2SLGBTQIA+ youth\, folks questioning their gender and/or sexuality\, and friends and allies\, 23-years-old and under. We feature meals from scratch\, workshop or entertainment programming\, a clothing swap\, book swap corner\, and more! \nWe run on Mondays from 3:30pm-8:30pm. \n​
URL:https://shiningwatersregionalcouncil.ca/event/tobys-place-weekly/2024-06-03/
LOCATION:Birchcliff Bluffs United Church\, 33 East Road\, Toronto\, Ontario\, M5A 4P8\, Canada
CATEGORIES:Community Events
ATTACH;FMTTYPE=image/jpeg:https://shiningwatersregionalcouncil.ca/wp-content/uploads/2024/02/Promo-for-The-Buzz.jpg
ORGANIZER;CN="Toby's Place":MAILTO:tobys.place33@gmail.com
END:VEVENT
BEGIN:VEVENT
DTSTART;TZID=America/Toronto:20240606T104500
DTEND;TZID=America/Toronto:20240606T114500
DTSTAMP:20260420T033652
CREATED:20240308T183052Z
LAST-MODIFIED:20240331T190311Z
UID:10003287-1717670700-1717674300@shiningwatersregionalcouncil.ca
SUMMARY:Rimbala: Music and Movement
DESCRIPTION:What is Rimbala? Rimbala combines live\, improvised music with simple and fun movement activities to help seniors improve balance\, mobility and memory. Similar programs in Europe have been scientifically proven to reduce the risk of falls by 54%. Scientists are also researching how these programs are effective in the prevention and control of Alzheimer’s disease. Rimbala was created by Dr. Daniel Rubinoff\, Music Director at Lawrence Park Community Church. He is also a professional performer\, composer and teacher.
URL:https://shiningwatersregionalcouncil.ca/event/rimbala-music-movement/2024-06-06/
LOCATION:Metropolitan United Church\, 56 Queen Street East\, Toronto
CATEGORIES:Community Events
ATTACH;FMTTYPE=image/jpeg:https://shiningwatersregionalcouncil.ca/wp-content/uploads/2024/03/Rimbala-at-Met.jpg
END:VEVENT
BEGIN:VEVENT
DTSTART;TZID=America/Toronto:20240606T160000
DTEND;TZID=America/Toronto:20240606T190000
DTSTAMP:20260420T033652
CREATED:20240111T203333Z
LAST-MODIFIED:20240531T211742Z
UID:10001559-1717689600-1717700400@shiningwatersregionalcouncil.ca
SUMMARY:Queer Youth United
DESCRIPTION:Queer Youth United (QYU) meets on Thursdays from 4-7pm at Beach United Church (140 Wineva Ave.) – you may drop in at any time between those hours. \nQYU is a weekly drop in for youth and young adults (15-29) who identify within the Queer community\, and more specifically with a desire to focus on the experiences and needs of transgender people. Beach United Church offers safe(r) space for transgender and questioning individuals in a space that offers positive alternatives to engaging the world. QYU is about celebrating and encouraging queer youth in the universal call to “live as our authentic selves”. \nWe post updates on our Instagram account over at @queeryouthunited\, which is maintained by our coordinator\, Corin Collins.
URL:https://shiningwatersregionalcouncil.ca/event/queer-youth-united-2/2024-06-06/
LOCATION:Beach United Church\, 140 Wineva Ave.\, Toronto\, Ontario\, M4E 2T4\, Canada
CATEGORIES:Community Events
ATTACH;FMTTYPE=image/jpeg:https://shiningwatersregionalcouncil.ca/wp-content/uploads/2024/01/QYU-Poster-Website-2024.jpg
END:VEVENT
BEGIN:VEVENT
DTSTART;TZID=America/Toronto:20240606T183000
DTEND;TZID=America/Toronto:20240606T193000
DTSTAMP:20260420T033652
CREATED:20240301T154022Z
LAST-MODIFIED:20240301T162928Z
UID:10003022-1717698600-1717702200@shiningwatersregionalcouncil.ca
SUMMARY:The Spark
DESCRIPTION:A break from screens. A joining of community. \nThe Spark is a back to basics time in community. We gather around a table as we worship and share a simple meal of soup and bread. We listen to old stories in new ways\, and share those things that are on our hearts.
URL:https://shiningwatersregionalcouncil.ca/event/the-spark/2024-06-06/
LOCATION:Glen Rhodes Campus\, 1470 Gerrard Street East\, Toronto\, Ontario\, M4L 2A3\, Canada
CATEGORIES:Community Events
ORGANIZER;CN="East End United Regional Ministry":MAILTO:info@eastendunited.ca
END:VEVENT
BEGIN:VEVENT
DTSTART;VALUE=DATE:20240607
DTEND;VALUE=DATE:20240608
DTSTAMP:20260420T033652
CREATED:20240531T210506Z
LAST-MODIFIED:20240531T211218Z
UID:10003921-1717718400-1717804799@shiningwatersregionalcouncil.ca
SUMMARY:Jazz in the Courtyard
DESCRIPTION:St. Andrew’s United Church\, Toronto invites you to Jazz in the Courtyard featuring the Tom Reynolds Trio and refreshments.
URL:https://shiningwatersregionalcouncil.ca/event/jazz-in-the-courtyard/2024-06-07/
LOCATION:St. Andrew’s United Church\, Toronto\, 117 Bloor St. East\, Toronto\, Ontario\, M4W 1A9\, Canada
CATEGORIES:Community Events
ATTACH;FMTTYPE=image/png:https://shiningwatersregionalcouncil.ca/wp-content/uploads/2024/05/Jazz-in-the-Courtyard-2024-Postcard-11-x-17-in.png
ORGANIZER;CN="st. andrew's united Church%2C Toronto":MAILTO:standrewsunited@outlook.com
END:VEVENT
BEGIN:VEVENT
DTSTART;TZID=America/Toronto:20240608T060000
DTEND;TZID=America/Toronto:20240608T060000
DTSTAMP:20260420T033652
CREATED:20240115T194244Z
LAST-MODIFIED:20240201T135629Z
UID:10001853-1717826400-1717826400@shiningwatersregionalcouncil.ca
SUMMARY:ALPHA
DESCRIPTION:North Bramalea United Church (NBUC) in Brampton will be offering a number of Alpha sessions beginning February 7th. \nAlpha Evening: In person Wednesday February 7th 6:30pm – 8:30pm (dinner included)\nOnline Wednesday February 7th 7:00pm – 8:30pm \nAlpha is a series of interactive sessions exploring the basics of the Christian faith.\nEach session looks at a different question\, and is designed to create conversation. There’s no pressure\, no follow-up and no charge; it’s just an open\, informal\, and honest space to explore and discuss life’s big questions together. \nEmail any questions to office@nbuc.ca and we would be happy to answer them.
URL:https://shiningwatersregionalcouncil.ca/event/alpha-2/2024-06-08/
LOCATION:North Bramalea United Church\, 3 Howden Blvd\, Brampton\, Ontario\, L6S 4L6\, Canada
CATEGORIES:Community Events
ORGANIZER;CN="North Bramalea United Church":MAILTO:rcanning@nbuc.ca
END:VEVENT
END:VCALENDAR