BEGIN:VCALENDAR
VERSION:2.0
PRODID:-//Shining Waters - ECPv6.15.20//NONSGML v1.0//EN
CALSCALE:GREGORIAN
METHOD:PUBLISH
X-WR-CALNAME:Shining Waters
X-ORIGINAL-URL:https://shiningwatersregionalcouncil.ca
X-WR-CALDESC:Events for Shining Waters
REFRESH-INTERVAL;VALUE=DURATION:PT1H
X-Robots-Tag:noindex
X-PUBLISHED-TTL:PT1H
BEGIN:VTIMEZONE
TZID:America/Toronto
BEGIN:DAYLIGHT
TZOFFSETFROM:-0500
TZOFFSETTO:-0400
TZNAME:EDT
DTSTART:20230312T070000
END:DAYLIGHT
BEGIN:STANDARD
TZOFFSETFROM:-0400
TZOFFSETTO:-0500
TZNAME:EST
DTSTART:20231105T060000
END:STANDARD
BEGIN:DAYLIGHT
TZOFFSETFROM:-0500
TZOFFSETTO:-0400
TZNAME:EDT
DTSTART:20240310T070000
END:DAYLIGHT
BEGIN:STANDARD
TZOFFSETFROM:-0400
TZOFFSETTO:-0500
TZNAME:EST
DTSTART:20241103T060000
END:STANDARD
BEGIN:DAYLIGHT
TZOFFSETFROM:-0500
TZOFFSETTO:-0400
TZNAME:EDT
DTSTART:20250309T070000
END:DAYLIGHT
BEGIN:STANDARD
TZOFFSETFROM:-0400
TZOFFSETTO:-0500
TZNAME:EST
DTSTART:20251102T060000
END:STANDARD
END:VTIMEZONE
BEGIN:VEVENT
DTSTART;TZID=America/Toronto:20240407T140000
DTEND;TZID=America/Toronto:20240707T160000
DTSTAMP:20260419T214821
CREATED:20240314T205150Z
LAST-MODIFIED:20240531T212933Z
UID:10003451-1712498400-1720368000@shiningwatersregionalcouncil.ca
SUMMARY:QueerSpace
DESCRIPTION:See attached image \n1st and 3rd Sunday every month until summer break
URL:https://shiningwatersregionalcouncil.ca/event/queerspace-3/2024-04-07/
LOCATION:Cummer Avenue United Church\, 53 Cummer Avenue\, Toronto\, Ontario\, M2M 2E5\, Canada
CATEGORIES:Community Events
ATTACH;FMTTYPE=image/png:https://shiningwatersregionalcouncil.ca/wp-content/uploads/2024/03/QUEERSPACE-recurring.png
ORGANIZER;CN="Cummer Avenue United Church":MAILTO:office@cummeravenueuc.ca
END:VEVENT
BEGIN:VEVENT
DTSTART;TZID=America/Toronto:20240414T100000
DTEND;TZID=America/Toronto:20240630T130000
DTSTAMP:20260419T214821
CREATED:20240326T162033Z
LAST-MODIFIED:20240326T162033Z
UID:10003438-1713088800-1719752400@shiningwatersregionalcouncil.ca
SUMMARY:WE Holy Fun Program
DESCRIPTION:Willowdale Emmanuel Young Family Ministry – WE Holy Fun Program\nDrop off from 10 a.m. to 1 p.m. every Sunday from April 14th to June 30th\n$20.00 for the whole program! Ages 4 to 11\nMusic\, Dance\, Arts\, Crafts\, Sports\, Games\, bible storytelling\, snacks\nWillowdale Emmanuel United Church\n349 Kenneth Ave.\nToronto\, ON M2N 4V9\n416-225-2309\nemail: weunitedchurch@hotmail.com
URL:https://shiningwatersregionalcouncil.ca/event/we-holy-fun-program/
LOCATION:Willowdale Emmanuel UC\, 349 Kenneth Ave.\, Toronto\, Ontario\, M2N4V9\, Canada
CATEGORIES:Community Events
ATTACH;FMTTYPE=image/jpeg:https://shiningwatersregionalcouncil.ca/wp-content/uploads/2024/03/Holy-Fun-Season-3-poster.jpg
END:VEVENT
BEGIN:VEVENT
DTSTART;TZID=America/Toronto:20240505T140000
DTEND;TZID=America/Toronto:20240804T160000
DTSTAMP:20260419T214821
CREATED:20240314T205150Z
LAST-MODIFIED:20240531T212933Z
UID:10003452-1714917600-1722787200@shiningwatersregionalcouncil.ca
SUMMARY:QueerSpace
DESCRIPTION:See attached image \n1st and 3rd Sunday every month until summer break
URL:https://shiningwatersregionalcouncil.ca/event/queerspace-3/2024-05-05/
LOCATION:Cummer Avenue United Church\, 53 Cummer Avenue\, Toronto\, Ontario\, M2M 2E5\, Canada
CATEGORIES:Community Events
ATTACH;FMTTYPE=image/png:https://shiningwatersregionalcouncil.ca/wp-content/uploads/2024/03/QUEERSPACE-recurring.png
ORGANIZER;CN="Cummer Avenue United Church":MAILTO:office@cummeravenueuc.ca
END:VEVENT
BEGIN:VEVENT
DTSTART;TZID=America/Toronto:20240524T190000
DTEND;TZID=America/Toronto:20240524T203000
DTSTAMP:20260419T214821
CREATED:20240531T211014Z
LAST-MODIFIED:20240531T211014Z
UID:10003914-1716577200-1716582600@shiningwatersregionalcouncil.ca
SUMMARY:Socially Responsible Investing
DESCRIPTION:On Friday\, May 24\, Brian Morris will be leading a discussion on “Socially Responsible Investing\,” at Midhurst United Church at 7:00 PM. He will be discussing\, “how to do good with your investing (and do well.)”\nBring your questions\, friends and/or financial advisor.
URL:https://shiningwatersregionalcouncil.ca/event/socially-responsible-investing/
LOCATION:Midhurst United Church\, 91 DORAN RD\, Midhurst\, ON\, L9X 0L5\, Canada
CATEGORIES:Community Events,Justice
ATTACH;FMTTYPE=image/jpeg:https://shiningwatersregionalcouncil.ca/wp-content/uploads/2024/05/Design-for-A-Coffee-Shop-in-Decorative.jpg
ORGANIZER;CN="Midhurst United Church":MAILTO:office@midhurstunitedchurch.ca
END:VEVENT
BEGIN:VEVENT
DTSTART;TZID=America/Toronto:20240525T083000
DTEND;TZID=America/Toronto:20240525T120000
DTSTAMP:20260419T214821
CREATED:20240531T210847Z
LAST-MODIFIED:20240531T210847Z
UID:10003912-1716625800-1716638400@shiningwatersregionalcouncil.ca
SUMMARY:Royal York Road United Church's Giant Garage Sale
DESCRIPTION:Royal York Road United Church is holding its GIANT GARAGE SALE again this year. Come and shop for treasures – housewares\, small furniture\, games\, toys and puzzles\, jewelry and purses. This year will feature a special gardening area with perennials\, houseplants and gardening accessories.\nLocation: 851 Royal York Road (3 blocks south of Bloor St. West) in Etobicoke (ryru.ca)\nTime: Saturday\, May 25th 8:30 a.m – Noon\nCost: Free\nPlease Note: Only service animals will be allowed inside
URL:https://shiningwatersregionalcouncil.ca/event/royal-york-road-united-churchs-giant-garage-sale/
LOCATION:Royal York Road United Church\, 851 Royal York Road\, Etobicoke\, Ontario\, M8Y 2V3
CATEGORIES:Community Events
ATTACH;FMTTYPE=image/jpeg:https://shiningwatersregionalcouncil.ca/wp-content/uploads/2024/05/IMG_3483.jpeg
END:VEVENT
BEGIN:VEVENT
DTSTART;TZID=America/Toronto:20240526T100000
DTEND;TZID=America/Toronto:20240526T110000
DTSTAMP:20260419T214821
CREATED:20230929T195142Z
LAST-MODIFIED:20240710T202535Z
UID:10004070-1716717600-1716721200@shiningwatersregionalcouncil.ca
SUMMARY:Rimbala Classes for Seniors
DESCRIPTION:Rimbala is an evidence-based falls prevention program that uses music as the principle means of intervention. Based on the work of visionary Swiss composer Émile Jaques-Dalcroze\, Rimbala enjoys one of the highest falls prevention results in the world\, with a 54% reduction in falls for community-dwelling seniors. \nOlder adults improve their gait (walking style)\, mobility\, cognitive skills and social intelligence in a relaxed but joyous setting. The improvised music brings fresh neuroplastic experiences that improves the connection between the body and brain in ways that conventional exercise cannot. Because music is broadly distributed in the brain\, there is a hypothesis that gentle exercise with cognitive components can prevent participants from the ravages of dementia — including Alzheimer’s. \nFor more information\, please visit: www.rimbala.com \nClasses are held at: \nRosedale United Church 159 Roxborough Dr\, Toronto Wednesdays 11:30 AM-12:30 PM $20.00 per session \nand online at various times throughout the week. \nPlease contact Dr. Daniel Rubinoff: 416.709.8381 doctor.rimbala@gmail.com
URL:https://shiningwatersregionalcouncil.ca/event/rimbala-classes-for-seniors/2024-05-26/
LOCATION:ON
CATEGORIES:Community Events
ATTACH;FMTTYPE=image/jpeg:https://shiningwatersregionalcouncil.ca/wp-content/uploads/2023/09/Rimbala-Picture-1-scaled.jpg
END:VEVENT
BEGIN:VEVENT
DTSTART;TZID=America/Toronto:20240526T140000
DTEND;TZID=America/Toronto:20240526T160000
DTSTAMP:20260419T214821
CREATED:20240531T210742Z
LAST-MODIFIED:20240531T210742Z
UID:10003917-1716732000-1716739200@shiningwatersregionalcouncil.ca
SUMMARY:Colours of Spring Concert: A Celebration in Jazz and Brass
DESCRIPTION:Colours of Spring Concert: A Celebration in Jazz and Brass of the Season. Join us for an afternoon of amazing music and good vibes. Featuring the Patti Payne Trio and Quaturo de Fleurs a trombone quartet from the Annex Brass Ensemble. Our talented musicians will entertain you with the best of jazz and brass tunes\, celebrating the beauty of spring. \nThis event is not just a concert\, it’s a Fundraiser for the Grandmothers to Grandmothers Campaign of the Stephen Lewis Foundation. Let’s make a difference together! Mark your calendars and get ready for a memorable time filled with music\, community\, and the spirit of giving. See you at 2:00pm on Sunday\, May 26th at St. Matthew’s United Church (729 St. Clair Ave West). \nTickets at the door or online: https://www.eventbrite.ca/e/colours-of-spring-concert-a-celebration-in-jazz-and-brass-tickets-886804154097?aff=ebdssbdestsearch
URL:https://shiningwatersregionalcouncil.ca/event/colours-of-spring-concert-a-celebration-in-jazz-and-brass/
LOCATION:St. Matthew’s United Church\, Toronto\, 729 St. Clair Ave W.\, Toronto\, Ontario\, M6C 1B3\, Canada
CATEGORIES:Community Events
ATTACH;FMTTYPE=image/png:https://shiningwatersregionalcouncil.ca/wp-content/uploads/2024/05/Final-Togogos-concert-poster-Instagram-Post-1.png
ORGANIZER;CN="Bloor Street United Church":MAILTO:martha@bloorstreetunited.org
END:VEVENT
BEGIN:VEVENT
DTSTART;TZID=America/Toronto:20240526T140000
DTEND;TZID=America/Toronto:20240526T160000
DTSTAMP:20260419T214821
CREATED:20240531T210941Z
LAST-MODIFIED:20240531T210941Z
UID:10003913-1716732000-1716739200@shiningwatersregionalcouncil.ca
SUMMARY:Colours of Spring
DESCRIPTION:Join us for a Togogos fundraising concert\, “Colours of Spring”\, celebrating Jazz and Brass music. We will be featuring performaces by the Patti Payne Trio and Quatuor de Fleurs. The $25 tickets can be purchased at the door on on Eventbrite using the QR code in the poster. Hope to see you there!
URL:https://shiningwatersregionalcouncil.ca/event/colours-of-spring/
LOCATION:729 St. Clair Avenue West\, 729\, Toronto\, ON\, M6J 2X1\, Canada
CATEGORIES:Community Events,Justice
ATTACH;FMTTYPE=image/png:https://shiningwatersregionalcouncil.ca/wp-content/uploads/2024/05/Togogos-concert-May26-24poster.png
END:VEVENT
END:VCALENDAR