BEGIN:VCALENDAR
VERSION:2.0
PRODID:-//Shining Waters - ECPv6.15.20//NONSGML v1.0//EN
CALSCALE:GREGORIAN
METHOD:PUBLISH
X-WR-CALNAME:Shining Waters
X-ORIGINAL-URL:https://shiningwatersregionalcouncil.ca
X-WR-CALDESC:Events for Shining Waters
REFRESH-INTERVAL;VALUE=DURATION:PT1H
X-Robots-Tag:noindex
X-PUBLISHED-TTL:PT1H
BEGIN:VTIMEZONE
TZID:America/Toronto
BEGIN:DAYLIGHT
TZOFFSETFROM:-0500
TZOFFSETTO:-0400
TZNAME:EDT
DTSTART:20230312T070000
END:DAYLIGHT
BEGIN:STANDARD
TZOFFSETFROM:-0400
TZOFFSETTO:-0500
TZNAME:EST
DTSTART:20231105T060000
END:STANDARD
BEGIN:DAYLIGHT
TZOFFSETFROM:-0500
TZOFFSETTO:-0400
TZNAME:EDT
DTSTART:20240310T070000
END:DAYLIGHT
BEGIN:STANDARD
TZOFFSETFROM:-0400
TZOFFSETTO:-0500
TZNAME:EST
DTSTART:20241103T060000
END:STANDARD
BEGIN:DAYLIGHT
TZOFFSETFROM:-0500
TZOFFSETTO:-0400
TZNAME:EDT
DTSTART:20250309T070000
END:DAYLIGHT
BEGIN:STANDARD
TZOFFSETFROM:-0400
TZOFFSETTO:-0500
TZNAME:EST
DTSTART:20251102T060000
END:STANDARD
END:VTIMEZONE
BEGIN:VEVENT
DTSTART;TZID=America/Toronto:20240407T140000
DTEND;TZID=America/Toronto:20240707T160000
DTSTAMP:20260420T003814
CREATED:20240314T205150Z
LAST-MODIFIED:20240531T212933Z
UID:10003451-1712498400-1720368000@shiningwatersregionalcouncil.ca
SUMMARY:QueerSpace
DESCRIPTION:See attached image \n1st and 3rd Sunday every month until summer break
URL:https://shiningwatersregionalcouncil.ca/event/queerspace-3/2024-04-07/
LOCATION:Cummer Avenue United Church\, 53 Cummer Avenue\, Toronto\, Ontario\, M2M 2E5\, Canada
CATEGORIES:Community Events
ATTACH;FMTTYPE=image/png:https://shiningwatersregionalcouncil.ca/wp-content/uploads/2024/03/QUEERSPACE-recurring.png
ORGANIZER;CN="Cummer Avenue United Church":MAILTO:office@cummeravenueuc.ca
END:VEVENT
BEGIN:VEVENT
DTSTART;TZID=America/Toronto:20240414T100000
DTEND;TZID=America/Toronto:20240630T130000
DTSTAMP:20260420T003814
CREATED:20240326T162033Z
LAST-MODIFIED:20240326T162033Z
UID:10003438-1713088800-1719752400@shiningwatersregionalcouncil.ca
SUMMARY:WE Holy Fun Program
DESCRIPTION:Willowdale Emmanuel Young Family Ministry – WE Holy Fun Program\nDrop off from 10 a.m. to 1 p.m. every Sunday from April 14th to June 30th\n$20.00 for the whole program! Ages 4 to 11\nMusic\, Dance\, Arts\, Crafts\, Sports\, Games\, bible storytelling\, snacks\nWillowdale Emmanuel United Church\n349 Kenneth Ave.\nToronto\, ON M2N 4V9\n416-225-2309\nemail: weunitedchurch@hotmail.com
URL:https://shiningwatersregionalcouncil.ca/event/we-holy-fun-program/
LOCATION:Willowdale Emmanuel UC\, 349 Kenneth Ave.\, Toronto\, Ontario\, M2N4V9\, Canada
CATEGORIES:Community Events
ATTACH;FMTTYPE=image/jpeg:https://shiningwatersregionalcouncil.ca/wp-content/uploads/2024/03/Holy-Fun-Season-3-poster.jpg
END:VEVENT
BEGIN:VEVENT
DTSTART;TZID=America/Toronto:20240505T140000
DTEND;TZID=America/Toronto:20240804T160000
DTSTAMP:20260420T003814
CREATED:20240314T205150Z
LAST-MODIFIED:20240531T212933Z
UID:10003452-1714917600-1722787200@shiningwatersregionalcouncil.ca
SUMMARY:QueerSpace
DESCRIPTION:See attached image \n1st and 3rd Sunday every month until summer break
URL:https://shiningwatersregionalcouncil.ca/event/queerspace-3/2024-05-05/
LOCATION:Cummer Avenue United Church\, 53 Cummer Avenue\, Toronto\, Ontario\, M2M 2E5\, Canada
CATEGORIES:Community Events
ATTACH;FMTTYPE=image/png:https://shiningwatersregionalcouncil.ca/wp-content/uploads/2024/03/QUEERSPACE-recurring.png
ORGANIZER;CN="Cummer Avenue United Church":MAILTO:office@cummeravenueuc.ca
END:VEVENT
BEGIN:VEVENT
DTSTART;TZID=America/Toronto:20240506T113000
DTEND;TZID=America/Toronto:20240506T140000
DTSTAMP:20260420T003814
CREATED:20240214T162820Z
LAST-MODIFIED:20240331T192004Z
UID:10002131-1714995000-1715004000@shiningwatersregionalcouncil.ca
SUMMARY:Dorothy's Place- Weekly
DESCRIPTION:Dorothy’s Place is a weekly drop-in program for 2SLGBTQIA+\, questioning\, and allied older adults and seniors aged 50+.\nWe offer homemade meals\, workshop and educational programming\, and social opportunities. \nWe are open on Mondays from 11:30am-2pm.
URL:https://shiningwatersregionalcouncil.ca/event/dorothys-place-weekly/2024-05-06/
LOCATION:Birchcliff Bluffs United Church\, 33 East Road\, Toronto\, Ontario\, M5A 4P8\, Canada
CATEGORIES:Community Events
ATTACH;FMTTYPE=image/jpeg:https://shiningwatersregionalcouncil.ca/wp-content/uploads/2024/02/dorothys-shining-waters.jpg
ORGANIZER;CN="Dorothy's Place":MAILTO:dorothysplace4u@gmail.com
END:VEVENT
BEGIN:VEVENT
DTSTART;TZID=America/Toronto:20240506T153000
DTEND;TZID=America/Toronto:20240506T203000
DTSTAMP:20260420T003814
CREATED:20240214T162734Z
LAST-MODIFIED:20240331T191911Z
UID:10001870-1715009400-1715027400@shiningwatersregionalcouncil.ca
SUMMARY:Toby's Place- Weekly
DESCRIPTION:Toby’s Place is a weekly drop-in program for 2SLGBTQIA+ youth\, folks questioning their gender and/or sexuality\, and friends and allies\, 23-years-old and under. We feature meals from scratch\, workshop or entertainment programming\, a clothing swap\, book swap corner\, and more! \nWe run on Mondays from 3:30pm-8:30pm. \n​
URL:https://shiningwatersregionalcouncil.ca/event/tobys-place-weekly/2024-05-06/
LOCATION:Birchcliff Bluffs United Church\, 33 East Road\, Toronto\, Ontario\, M5A 4P8\, Canada
CATEGORIES:Community Events
ATTACH;FMTTYPE=image/jpeg:https://shiningwatersregionalcouncil.ca/wp-content/uploads/2024/02/Promo-for-The-Buzz.jpg
ORGANIZER;CN="Toby's Place":MAILTO:tobys.place33@gmail.com
END:VEVENT
BEGIN:VEVENT
DTSTART;TZID=America/Toronto:20240507T100000
DTEND;TZID=America/Toronto:20240507T150000
DTSTAMP:20260420T003814
CREATED:20240429T174601Z
LAST-MODIFIED:20240507T161133Z
UID:10003535-1715076000-1715094000@shiningwatersregionalcouncil.ca
SUMMARY:No Cause for Despair: Finding Holy Joy in the Midst of Secularization with Dr. Stefan Paas
DESCRIPTION:Does the deep secularization of western societies mean that God has disappeared\, or is it rather a path through which God leads the people to new discoveries\, a new dependence on grace? Join Dr. Stefan Paas\, author and expert on church planting and mission\, for the day as he explores faithful responses to secularization. Two talks and accompanying breakout sessions will include material from his book Pilgrims and Priests: Christian Mission in a Post-Christian Society. Drawing on a wide range of practical insight with mission in one of the most secular contexts of the West\, Dr. Paas blends his experience with a thorough analysis of relevant biblical\, historical\, sociological\, theological\, and spiritual sources that bear relevance to missional identity in the challenging circumstances presented by the secular West. He presents a hopeful perspective\, rooted in a realistic appraisal of reality and rich theological reflections. \nThe format of the day includes lectures and group work for participants in person or online (via Zoom) as well as lunch for those who gather in person at Timothy Eaton Memorial Church\, Toronto. \nIn person: $75 lunch and snacks included\nOnline: pay what you can (suggested amount $25)
URL:https://shiningwatersregionalcouncil.ca/event/no-cause-for-despair-finding-holy-joy-in-the-midst-of-secularization-with-dr-stefan-paas/
LOCATION:Timothy Eaton Memorial Church\, 230 St. Clair Avenue West\, Toronto\, Ontario\, M4V 1R5\, Canada
CATEGORIES:Community Events
ATTACH;FMTTYPE=image/png:https://shiningwatersregionalcouncil.ca/wp-content/uploads/2024/04/Stefan_Paas_Promo_fixed-3.png
ORGANIZER;CN="Toronto United Church Council":MAILTO:imc@tucc.ca
END:VEVENT
BEGIN:VEVENT
DTSTART;TZID=America/Toronto:20240508T060000
DTEND;TZID=America/Toronto:20240508T060000
DTSTAMP:20260420T003814
CREATED:20240115T194244Z
LAST-MODIFIED:20240201T135629Z
UID:10001852-1715148000-1715148000@shiningwatersregionalcouncil.ca
SUMMARY:ALPHA
DESCRIPTION:North Bramalea United Church (NBUC) in Brampton will be offering a number of Alpha sessions beginning February 7th. \nAlpha Evening: In person Wednesday February 7th 6:30pm – 8:30pm (dinner included)\nOnline Wednesday February 7th 7:00pm – 8:30pm \nAlpha is a series of interactive sessions exploring the basics of the Christian faith.\nEach session looks at a different question\, and is designed to create conversation. There’s no pressure\, no follow-up and no charge; it’s just an open\, informal\, and honest space to explore and discuss life’s big questions together. \nEmail any questions to office@nbuc.ca and we would be happy to answer them.
URL:https://shiningwatersregionalcouncil.ca/event/alpha-2/2024-05-08/
LOCATION:North Bramalea United Church\, 3 Howden Blvd\, Brampton\, Ontario\, L6S 4L6\, Canada
CATEGORIES:Community Events
ORGANIZER;CN="North Bramalea United Church":MAILTO:rcanning@nbuc.ca
END:VEVENT
BEGIN:VEVENT
DTSTART;TZID=America/Toronto:20240509T120000
DTEND;TZID=America/Toronto:20240509T124500
DTSTAMP:20260420T003814
CREATED:20240214T190638Z
LAST-MODIFIED:20240308T201319Z
UID:10003296-1715256000-1715258700@shiningwatersregionalcouncil.ca
SUMMARY:Noon at Met
DESCRIPTION:Weekly lunch-time concerts featuring Toronto’s most talented musicians. Beautiful music in a beautiful space.
URL:https://shiningwatersregionalcouncil.ca/event/noon-at-met-2/2024-05-09/
LOCATION:Metropolitan United Church\, 56 Queen Street East\, Toronto
CATEGORIES:Community Events
ATTACH;FMTTYPE=image/jpeg:https://shiningwatersregionalcouncil.ca/wp-content/uploads/2024/02/noon-at-met-1.jpg
ORGANIZER;CN="Metropolitan United Church":MAILTO:communications@metunited.ca
END:VEVENT
BEGIN:VEVENT
DTSTART;TZID=America/Toronto:20240509T174500
DTEND;TZID=America/Toronto:20240509T183000
DTSTAMP:20260420T003814
CREATED:20231106T230136Z
LAST-MODIFIED:20231106T230136Z
UID:10001403-1715276700-1715279400@shiningwatersregionalcouncil.ca
SUMMARY:Beach United Children's Choir Practices
DESCRIPTION:Sheila Brand\, a member of our choir\, is leading our new Children’s Choir! Sheila is a former music teacher using the Orff Approach\, for vocal\, ukulele and drama/dance programs at Williamson Road Public School. \nChildren ages 7-12 are welcome\, and free to anyone to join! You may contact Sheila at sheilabb@rogers.com for more information \nPractices usually take place every Thursday from 5:45pm-6:30pm. \nPlease visit our website and social media accounts for updated times (beachunitedchurch.com)
URL:https://shiningwatersregionalcouncil.ca/event/beach-united-childrens-choir-practices/2024-05-09/
LOCATION:Beach United Church\, 140 Wineva Ave.\, Toronto\, Ontario\, M4E 2T4\, Canada
CATEGORIES:Community Events
ATTACH;FMTTYPE=image/jpeg:https://shiningwatersregionalcouncil.ca/wp-content/uploads/2023/11/ChildrensChoir-2023-8.5x11-scaled.jpg
END:VEVENT
BEGIN:VEVENT
DTSTART;TZID=America/Toronto:20240510T180000
DTEND;TZID=America/Toronto:20240510T210000
DTSTAMP:20260420T003814
CREATED:20240328T143842Z
LAST-MODIFIED:20240328T143842Z
UID:10003443-1715364000-1715374800@shiningwatersregionalcouncil.ca
SUMMARY:Godly Play Core Training
DESCRIPTION:Over two weekends\, you will experience and tell Godly Play stories\, and learn how to set up and manage a Godly Play space and session. You will deepen your understanding of the spirituality of children. You will achieve greater clarity about the foundations of Godly Play\, and leave spiritually refreshed. Whether you practice Godly Play or not\, you will learn ways to creatively share the stories of the Christian faith and help children learn a religious language that will last a lifetime.
URL:https://shiningwatersregionalcouncil.ca/event/godly-play-core-training-3/2024-05-10/
LOCATION:Toronto Chinese United Church\, 3300 Kennedy Rd.\, Scarborough\, ON\, M1V 3S8\, Canada
CATEGORIES:Community Events
ATTACH;FMTTYPE=image/png:https://shiningwatersregionalcouncil.ca/wp-content/uploads/2024/03/2024-logo.png
END:VEVENT
BEGIN:VEVENT
DTSTART;TZID=America/Toronto:20240511T090000
DTEND;TZID=America/Toronto:20240511T180000
DTSTAMP:20260420T003814
CREATED:20240328T143842Z
LAST-MODIFIED:20240328T143842Z
UID:10003444-1715418000-1715450400@shiningwatersregionalcouncil.ca
SUMMARY:Godly Play Core Training
DESCRIPTION:Over two weekends\, you will experience and tell Godly Play stories\, and learn how to set up and manage a Godly Play space and session. You will deepen your understanding of the spirituality of children. You will achieve greater clarity about the foundations of Godly Play\, and leave spiritually refreshed. Whether you practice Godly Play or not\, you will learn ways to creatively share the stories of the Christian faith and help children learn a religious language that will last a lifetime.
URL:https://shiningwatersregionalcouncil.ca/event/godly-play-core-training-3/2024-05-11/
LOCATION:Toronto Chinese United Church\, 3300 Kennedy Rd.\, Scarborough\, ON\, M1V 3S8\, Canada
CATEGORIES:Community Events
ATTACH;FMTTYPE=image/png:https://shiningwatersregionalcouncil.ca/wp-content/uploads/2024/03/2024-logo.png
END:VEVENT
BEGIN:VEVENT
DTSTART;TZID=America/Toronto:20240511T160000
DTEND;TZID=America/Toronto:20240511T180000
DTSTAMP:20260420T003814
CREATED:20240429T174506Z
LAST-MODIFIED:20240429T174506Z
UID:10003531-1715443200-1715450400@shiningwatersregionalcouncil.ca
SUMMARY:Take-Away Roast Beef Dinner – Midhurst United Church
DESCRIPTION:Join us at Midhurst United Church for a delicious Roast Beef Dinner! Enjoy a mouthwatering meal prepared with love by our talented chefs. This take-away event is a great opportunity to savor some home-cooked goodness. Whether you’re a foodie or just looking for a tasty meal\, this dinner is sure to hit the spot. Don’t miss out on this chance to treat yourself to a scrumptious feast! Dinner includes roast beef\, potatoes\, gravy\, mixed vegetables\, garden salad and dressing\, bun\, horseradish\, and homemade pie. \nDate: Saturday\, May 11\, 2024\nPlace: Midhurst United Church\, 91 Doran Road\, Midhurst\nTime: 4:00-6:00\nCost: $30 cash or $33.28 through Eventbrite\nhttps://www.eventbrite.com/e/copy-of-muc-takeaway-roast-beef-dinner-tickets-886458409967?aff=oddtdtcreator\nContact Liz at 705-722-7208
URL:https://shiningwatersregionalcouncil.ca/event/take-away-roast-beef-dinner-midhurst-united-church/
LOCATION:Midhurst United Church\, 91 DORAN RD\, Midhurst\, ON\, L9X 0L5\, Canada
CATEGORIES:Community Events
ORGANIZER;CN="Midhurst United Church":MAILTO:office@midhurstunitedchurch.ca
END:VEVENT
BEGIN:VEVENT
DTSTART;TZID=America/Toronto:20240511T190000
DTEND;TZID=America/Toronto:20240511T220000
DTSTAMP:20260420T003814
CREATED:20240429T174359Z
LAST-MODIFIED:20240429T174359Z
UID:10003538-1715454000-1715464800@shiningwatersregionalcouncil.ca
SUMMARY:Here I Stand: A Concert and Conversation with Julian Taylor
DESCRIPTION:“Here I Stand:” A Concert and Conversation with Julian Taylor will be an opportunity to listen deeply to Taylor’s music and understand how it resonates with Afro-Indigenous communities in his hometown of Tkaronto. Presided over by Anishinaabe Elder Peduhbun Migizi Kwe and hosted by MPP Dr. Jill Andrews\, the evening will include a cafe\, a traditional opening and closing\, and a time of sharing with St. Matt’s Afro-Tainu minister\, Rev. Brigid Maya Douglas\, and Afro-Mi’kmaq Indigenous Peoples Solidarity Group founding member\, Tamara Este. \nThis event will be held on Saturday\, May 11 at 7:00pm at St. Matthew’s United Church (729 St. Clair Ave West\, Toronto). Tickets are available on Eventbrite at https://www.eventbrite.ca/e/here-i-stand-a-concert-and-conversation-with-julian-taylor-tickets-847398831717
URL:https://shiningwatersregionalcouncil.ca/event/here-i-stand-a-concert-and-conversation-with-julian-taylor/
LOCATION:St. Matthew’s United Church\, Toronto\, 729 St. Clair Ave W.\, Toronto\, Ontario\, M6C 1B3\, Canada
CATEGORIES:Community Events
ATTACH;FMTTYPE=image/png:https://shiningwatersregionalcouncil.ca/wp-content/uploads/2024/04/JT-social-media-image.png
ORGANIZER;CN="St. Matthew's United Church%2C Toronto":MAILTO:stmattsunited@gmail.com
END:VEVENT
END:VCALENDAR