BEGIN:VCALENDAR
VERSION:2.0
PRODID:-//Shining Waters - ECPv6.15.20//NONSGML v1.0//EN
CALSCALE:GREGORIAN
METHOD:PUBLISH
X-ORIGINAL-URL:https://shiningwatersregionalcouncil.ca
X-WR-CALDESC:Events for Shining Waters
REFRESH-INTERVAL;VALUE=DURATION:PT1H
X-Robots-Tag:noindex
X-PUBLISHED-TTL:PT1H
BEGIN:VTIMEZONE
TZID:America/Toronto
BEGIN:DAYLIGHT
TZOFFSETFROM:-0500
TZOFFSETTO:-0400
TZNAME:EDT
DTSTART:20230312T070000
END:DAYLIGHT
BEGIN:STANDARD
TZOFFSETFROM:-0400
TZOFFSETTO:-0500
TZNAME:EST
DTSTART:20231105T060000
END:STANDARD
BEGIN:DAYLIGHT
TZOFFSETFROM:-0500
TZOFFSETTO:-0400
TZNAME:EDT
DTSTART:20240310T070000
END:DAYLIGHT
BEGIN:STANDARD
TZOFFSETFROM:-0400
TZOFFSETTO:-0500
TZNAME:EST
DTSTART:20241103T060000
END:STANDARD
BEGIN:DAYLIGHT
TZOFFSETFROM:-0500
TZOFFSETTO:-0400
TZNAME:EDT
DTSTART:20250309T070000
END:DAYLIGHT
BEGIN:STANDARD
TZOFFSETFROM:-0400
TZOFFSETTO:-0500
TZNAME:EST
DTSTART:20251102T060000
END:STANDARD
END:VTIMEZONE
BEGIN:VEVENT
DTSTART;TZID=America/Toronto:20240401T113000
DTEND;TZID=America/Toronto:20240401T140000
DTSTAMP:20260421T024606
CREATED:20240214T162820Z
LAST-MODIFIED:20240331T192004Z
UID:10002126-1711971000-1711980000@shiningwatersregionalcouncil.ca
SUMMARY:Dorothy's Place- Weekly
DESCRIPTION:Dorothy’s Place is a weekly drop-in program for 2SLGBTQIA+\, questioning\, and allied older adults and seniors aged 50+.\nWe offer homemade meals\, workshop and educational programming\, and social opportunities. \nWe are open on Mondays from 11:30am-2pm.
URL:https://shiningwatersregionalcouncil.ca/event/dorothys-place-weekly/2024-04-01/
LOCATION:Birchcliff Bluffs United Church\, 33 East Road\, Toronto\, Ontario\, M5A 4P8\, Canada
CATEGORIES:Community Events
ATTACH;FMTTYPE=image/jpeg:https://shiningwatersregionalcouncil.ca/wp-content/uploads/2024/02/dorothys-shining-waters.jpg
ORGANIZER;CN="Dorothy's Place":MAILTO:dorothysplace4u@gmail.com
END:VEVENT
BEGIN:VEVENT
DTSTART;TZID=America/Toronto:20240401T153000
DTEND;TZID=America/Toronto:20240401T203000
DTSTAMP:20260421T024607
CREATED:20240214T162734Z
LAST-MODIFIED:20240331T191911Z
UID:10001865-1711985400-1712003400@shiningwatersregionalcouncil.ca
SUMMARY:Toby's Place- Weekly
DESCRIPTION:Toby’s Place is a weekly drop-in program for 2SLGBTQIA+ youth\, folks questioning their gender and/or sexuality\, and friends and allies\, 23-years-old and under. We feature meals from scratch\, workshop or entertainment programming\, a clothing swap\, book swap corner\, and more! \nWe run on Mondays from 3:30pm-8:30pm. \n​
URL:https://shiningwatersregionalcouncil.ca/event/tobys-place-weekly/2024-04-01/
LOCATION:Birchcliff Bluffs United Church\, 33 East Road\, Toronto\, Ontario\, M5A 4P8\, Canada
CATEGORIES:Community Events
ATTACH;FMTTYPE=image/jpeg:https://shiningwatersregionalcouncil.ca/wp-content/uploads/2024/02/Promo-for-The-Buzz.jpg
ORGANIZER;CN="Toby's Place":MAILTO:tobys.place33@gmail.com
END:VEVENT
BEGIN:VEVENT
DTSTART;TZID=America/Toronto:20240402T130000
DTEND;TZID=America/Toronto:20240402T150000
DTSTAMP:20260421T024607
CREATED:20240325T210744Z
LAST-MODIFIED:20240325T210852Z
UID:10003430-1712062800-1712070000@shiningwatersregionalcouncil.ca
SUMMARY:Seniors Social
DESCRIPTION:Come for a visit\, play cards or games\, make something by hand\, catch up on old friends or make new ones in the St. Matthew’s Parlour from 1-3 pm. Contact Betsy Anderson (andersonbetsy528@gmail.com) if you have questions. All are welcome!
URL:https://shiningwatersregionalcouncil.ca/event/seniors-social/2024-04-02/
LOCATION:St. Matthew’s United Church\, Toronto\, 729 St. Clair Ave W.\, Toronto\, Ontario\, M6C 1B3\, Canada
CATEGORIES:Community Events
ATTACH;FMTTYPE=image/jpeg:https://shiningwatersregionalcouncil.ca/wp-content/uploads/2024/03/IMG_9382-scaled-e1711400921624.jpg
ORGANIZER;CN="St. Matthew's United Church%2C Toronto":MAILTO:stmattsunited@gmail.com
END:VEVENT
BEGIN:VEVENT
DTSTART;TZID=America/Toronto:20240403T163000
DTEND;TZID=America/Toronto:20240403T183000
DTSTAMP:20260421T024607
CREATED:20240315T153049Z
LAST-MODIFIED:20240315T153049Z
UID:10003370-1712161800-1712169000@shiningwatersregionalcouncil.ca
SUMMARY:Book Launch | "The Poetry of Belonging" by Iris J. Gildea
DESCRIPTION:Emmanuel College’s Centre for Religion and Its Contexts and the University of St. Michael’s College in the University of Toronto invite you to the launch of Iris J. Gildea’s book\, The Poetry of Belonging: Healing With the Language of the Wound. \nWhere: Emmanuel College Chapel (EM319) and Online \nGildea offers a radical reframing of trauma theory through embodiment\, earth-based spirituality and poetic inquiry. Gildea works with her own poetically mediated memories as creative fragments to enter and explore an embodiment of liminal realms and what she calls ‘the language of the wound.’ The Poetry of Belonging is a part of the “Doing Radical Trauma Work” series from The Mad and Crip Theology Press.
URL:https://shiningwatersregionalcouncil.ca/event/book-launch-the-poetry-of-belonging-by-iris-j-gildea/
LOCATION:Emmanuel College\, 75 Queen's Park Crescent East\, Toronto\, Ontario\, M5S 1K7\, Canada
CATEGORIES:Community Events
ATTACH;FMTTYPE=image/jpeg:https://shiningwatersregionalcouncil.ca/wp-content/uploads/2024/03/Poetry-of-Belonging-Book-Launch-Poster.jpg
ORGANIZER;CN="Emmanuel College":MAILTO:ec.events@utoronto.ca
END:VEVENT
BEGIN:VEVENT
DTSTART;TZID=America/Toronto:20240404T103000
DTEND;TZID=America/Toronto:20240421T123000
DTSTAMP:20260421T024607
CREATED:20240408T221636Z
LAST-MODIFIED:20240408T221636Z
UID:10003457-1712226600-1713702600@shiningwatersregionalcouncil.ca
SUMMARY:Dr. Izzeldin Abuelaish\, "Faith\, Action and Hope: I Shall not Hate"
DESCRIPTION:Dr. Izzeldin Abuelaish\, a Palestinian Canadian medical doctor is speaking on Sunday April 21st at 10:30 am at Trinity-St. Paul’s United Church at 427 Bloor Street West in Toronto. Dr. Abuelaish was born in a refugee camp in Gaza and was the first Palestinian doctor to work in an Israeli hospital. In 2009\, he lost three daughters to an Israeli bomb in Gaza and has lost more than thirty family members since October 7th. As a devout Muslim\, his talk is called\, “Faith\, Action and Hope: I Shall not Hate.” Dr. Abuelaish believes that Palestinians and Israelis are like “conjoined twins.” He has been nominated for the Nobel Peace Prize four times and is often referred to as the Martin Luther King\, Jr.\, the Matatma Gandhi and the Nelson Mandela of the Middle East. Please see the poster and join us for this important event. The Zoom link is on the poster. Please contact Joanne Clarke at joanne.josito@gmail.com for more information.
URL:https://shiningwatersregionalcouncil.ca/event/dr-izzeldin-abuelaish-faith-action-and-hope-i-shall-not-hate/
LOCATION:Ontario
CATEGORIES:Community Events
ATTACH;FMTTYPE=image/png:https://shiningwatersregionalcouncil.ca/wp-content/uploads/2024/04/Izzeldin-Abeulaish-Poster.png
END:VEVENT
BEGIN:VEVENT
DTSTART;TZID=America/Toronto:20240404T103000
DTEND;TZID=America/Toronto:20240421T123000
DTSTAMP:20260421T024607
CREATED:20240408T221723Z
LAST-MODIFIED:20240408T221723Z
UID:10003458-1712226600-1713702600@shiningwatersregionalcouncil.ca
SUMMARY:Dr. Izzeldin Abuelaish\, "Faith\, Action and Hope: I Shall not Hate"
DESCRIPTION:Dr. Izzeldin Abuelaish\, a Palestinian Canadian medical doctor is speaking on Sunday April 21st at 10:30 am at Trinity-St. Paul’s United Church at 427 Bloor Street West in Toronto. Dr. Abuelaish was born in a refugee camp in Gaza and was the first Palestinian doctor to work in an Israeli hospital. In 2009\, he lost three daughters to an Israeli bomb in Gaza and has lost more than thirty family members since October 7th. As a devout Muslim\, his talk is called\, “Faith\, Action and Hope: I Shall not Hate.” Dr. Abuelaish believes that Palestinians and Israelis are like “conjoined twins.” He has been nominated for the Nobel Peace Prize four times and is often referred to as the Martin Luther King\, Jr.\, the Matatma Gandhi and the Nelson Mandela of the Middle East. Please see the poster and join us for this important event. The Zoom link is on the poster. Please contact Joanne Clarke at joanne.josito@gmail.com for more information.
URL:https://shiningwatersregionalcouncil.ca/event/dr-izzeldin-abuelaish-faith-action-and-hope-i-shall-not-hate-2/
LOCATION:Ontario
ATTACH;FMTTYPE=image/png:https://shiningwatersregionalcouncil.ca/wp-content/uploads/2024/04/Izzeldin-Abeulaish-Poster-1.png
END:VEVENT
BEGIN:VEVENT
DTSTART;TZID=America/Toronto:20240404T104500
DTEND;TZID=America/Toronto:20240404T114500
DTSTAMP:20260421T024607
CREATED:20240308T183052Z
LAST-MODIFIED:20240331T190311Z
UID:10003278-1712227500-1712231100@shiningwatersregionalcouncil.ca
SUMMARY:Rimbala: Music and Movement
DESCRIPTION:What is Rimbala? Rimbala combines live\, improvised music with simple and fun movement activities to help seniors improve balance\, mobility and memory. Similar programs in Europe have been scientifically proven to reduce the risk of falls by 54%. Scientists are also researching how these programs are effective in the prevention and control of Alzheimer’s disease. Rimbala was created by Dr. Daniel Rubinoff\, Music Director at Lawrence Park Community Church. He is also a professional performer\, composer and teacher.
URL:https://shiningwatersregionalcouncil.ca/event/rimbala-music-movement/2024-04-04/
LOCATION:Metropolitan United Church\, 56 Queen Street East\, Toronto
CATEGORIES:Community Events
ATTACH;FMTTYPE=image/jpeg:https://shiningwatersregionalcouncil.ca/wp-content/uploads/2024/03/Rimbala-at-Met.jpg
END:VEVENT
BEGIN:VEVENT
DTSTART;TZID=America/Toronto:20240404T160000
DTEND;TZID=America/Toronto:20240404T190000
DTSTAMP:20260421T024607
CREATED:20240111T203333Z
LAST-MODIFIED:20240531T211742Z
UID:10001550-1712246400-1712257200@shiningwatersregionalcouncil.ca
SUMMARY:Queer Youth United
DESCRIPTION:Queer Youth United (QYU) meets on Thursdays from 4-7pm at Beach United Church (140 Wineva Ave.) – you may drop in at any time between those hours. \nQYU is a weekly drop in for youth and young adults (15-29) who identify within the Queer community\, and more specifically with a desire to focus on the experiences and needs of transgender people. Beach United Church offers safe(r) space for transgender and questioning individuals in a space that offers positive alternatives to engaging the world. QYU is about celebrating and encouraging queer youth in the universal call to “live as our authentic selves”. \nWe post updates on our Instagram account over at @queeryouthunited\, which is maintained by our coordinator\, Corin Collins.
URL:https://shiningwatersregionalcouncil.ca/event/queer-youth-united-2/2024-04-04/
LOCATION:Beach United Church\, 140 Wineva Ave.\, Toronto\, Ontario\, M4E 2T4\, Canada
CATEGORIES:Community Events
ATTACH;FMTTYPE=image/jpeg:https://shiningwatersregionalcouncil.ca/wp-content/uploads/2024/01/QYU-Poster-Website-2024.jpg
END:VEVENT
BEGIN:VEVENT
DTSTART;TZID=America/Toronto:20240404T174500
DTEND;TZID=America/Toronto:20240404T183000
DTSTAMP:20260421T024607
CREATED:20231106T230136Z
LAST-MODIFIED:20231106T230136Z
UID:10001398-1712252700-1712255400@shiningwatersregionalcouncil.ca
SUMMARY:Beach United Children's Choir Practices
DESCRIPTION:Sheila Brand\, a member of our choir\, is leading our new Children’s Choir! Sheila is a former music teacher using the Orff Approach\, for vocal\, ukulele and drama/dance programs at Williamson Road Public School. \nChildren ages 7-12 are welcome\, and free to anyone to join! You may contact Sheila at sheilabb@rogers.com for more information \nPractices usually take place every Thursday from 5:45pm-6:30pm. \nPlease visit our website and social media accounts for updated times (beachunitedchurch.com)
URL:https://shiningwatersregionalcouncil.ca/event/beach-united-childrens-choir-practices/2024-04-04/
LOCATION:Beach United Church\, 140 Wineva Ave.\, Toronto\, Ontario\, M4E 2T4\, Canada
CATEGORIES:Community Events
ATTACH;FMTTYPE=image/jpeg:https://shiningwatersregionalcouncil.ca/wp-content/uploads/2023/11/ChildrensChoir-2023-8.5x11-scaled.jpg
END:VEVENT
BEGIN:VEVENT
DTSTART;TZID=America/Toronto:20240404T183000
DTEND;TZID=America/Toronto:20240404T193000
DTSTAMP:20260421T024607
CREATED:20240301T154022Z
LAST-MODIFIED:20240301T162928Z
UID:10003013-1712255400-1712259000@shiningwatersregionalcouncil.ca
SUMMARY:The Spark
DESCRIPTION:A break from screens. A joining of community. \nThe Spark is a back to basics time in community. We gather around a table as we worship and share a simple meal of soup and bread. We listen to old stories in new ways\, and share those things that are on our hearts.
URL:https://shiningwatersregionalcouncil.ca/event/the-spark/2024-04-04/
LOCATION:Glen Rhodes Campus\, 1470 Gerrard Street East\, Toronto\, Ontario\, M4L 2A3\, Canada
CATEGORIES:Community Events
ORGANIZER;CN="East End United Regional Ministry":MAILTO:info@eastendunited.ca
END:VEVENT
BEGIN:VEVENT
DTSTART;TZID=America/Toronto:20240406T100000
DTEND;TZID=America/Toronto:20240406T160000
DTSTAMP:20260421T024607
CREATED:20240326T160231Z
LAST-MODIFIED:20240326T160231Z
UID:10003439-1712397600-1712419200@shiningwatersregionalcouncil.ca
SUMMARY:Kingsway-Lambton Charity Art Show & Sale
DESCRIPTION:Over the past 26 years\, KIngsway-Lambton United Church as raised over $640\,000 for local charities and has featured over 325 local artists. \nAgain this year\, we will be showcasing the work of 32 artists\, displaying and selling over 500 pieces of fine art. Come and support this event with all proceeds going to charities. It’s “Art for Goodness’ Sake”
URL:https://shiningwatersregionalcouncil.ca/event/kingsway-lambton-charity-art-show-sale/
LOCATION:Kingsway-Lambton United Church\, 85 The Kingsway\, Etobicoke\, Ontario\, M8X 2T6\, Canada
CATEGORIES:Community Events
ATTACH;FMTTYPE=image/png:https://shiningwatersregionalcouncil.ca/wp-content/uploads/2024/03/Tickets-on-Sale-2.png
ORGANIZER;CN="Kingsway-Lambton United Church":MAILTO:office@kingswaylambton.ca
END:VEVENT
BEGIN:VEVENT
DTSTART;TZID=America/Toronto:20240406T163000
DTEND;TZID=America/Toronto:20240406T173000
DTSTAMP:20260421T024607
CREATED:20240308T183143Z
LAST-MODIFIED:20240308T183143Z
UID:10003292-1712421000-1712424600@shiningwatersregionalcouncil.ca
SUMMARY:Jazz & Reflection with The OCTOKATS
DESCRIPTION:Come experience local big band\, The OCTOKATS\, as they treat you all to ‘Martinis with Mancini’ – a special exploration of the musical mind of American film composer Henry Mancini on Saturday\, April 6th at 4:30pm. \n– \nHenry Mancini\, born as Enrico Nicola Mancini\, was an American Composer extraordinaire! So how is it that this remarkable individual who had 18 Academy Award nominations with 4 wins\, 11 Golden Globe nominations with 1 win\, and an astounding 75 Grammy Nominations with 20 wins would have a split personality? While one side of his brain would function to achieve very orchestral compositions and arrangements for the movie industry\, the other side would focus on the very essence of hip\, Cool West Coast Jazz! Known to his friends and colleagues simply as “Hank”\, in the late 50s and 60s his iconic work for the Peter Gunn TV series featured many tunes that had a cool vibe reminiscent of other West Coast Jazz artists such as Gerry Mulligan\, Art Pepper and Shorty Rogers. Stay tuned as The OCTOKATS treat you all with an exploration of the darker\, hip vibe from the mind of Mancini! \nThe OCTOKATS\, formed in 2012\, specialize in a type of jazz that is quite different from the mainstream jazz bands around the GTA and offer something unique and different. West Coast Jazz was a style of Jazz that was developed in the Los Angeles area in and around the time of the 1950’s. This was the very beginning of the essence of Cool Jazz. Unlike many of the big bands\, West Coast Jazz simply focuses on arrangements that are less frenetic yet enriched with smooth voicing and are heavily arranged. This style is very relaxed and calming\, a perfect combination for either easy listening or dancing. Sorely missing from the Toronto Jazz scene\, The OCTOKATS have resurrected this West Coast Cool Groove while breathing new life into the music with a fresh new zeal. \nBeach United’s warm\, inviting hall serves as the perfect backdrop for this concert – the concert is pay-what-you-can\, and proceeds support our year-round community programs.
URL:https://shiningwatersregionalcouncil.ca/event/jazz-reflection-with-the-octokats/
LOCATION:Beach United Church\, 140 Wineva Ave.\, Toronto\, Ontario\, M4E 2T4\, Canada
CATEGORIES:Community Events
ATTACH;FMTTYPE=image/jpeg:https://shiningwatersregionalcouncil.ca/wp-content/uploads/2024/03/JR-TheOctokats-2024.jpg
END:VEVENT
BEGIN:VEVENT
DTSTART;TZID=America/Toronto:20240407T120000
DTEND;TZID=America/Toronto:20240407T140000
DTSTAMP:20260421T024607
CREATED:20240325T212715Z
LAST-MODIFIED:20240325T212715Z
UID:10003437-1712491200-1712498400@shiningwatersregionalcouncil.ca
SUMMARY:Cultural Learning Circle
DESCRIPTION:The Right Relations Circle of Islington United Church invites you to join Philip Cote III\, MFA\, Young Spiritual Elder\, Artist\, Activist and Educator\, in a Cultural Learning Circle on Sunday\, April 7\, 2024 from 12:15 to 2:00 pm in the Chapel. \nPhilip will share traditional teachings and offer a step-by-step understanding of the medicine wheel as a guide for living a full life through the four stages of life. \nThe session will start with a smudge. Participants will receive a take-home booklet as a reference for future practice. \nMedicine Wheel Teachings is the first Cultural Learning Circle in a series by Philip Cote on the 8th Fire Prophecy Studies. \nThe Circle is limited to 30 participants. Please register today. \nTicket pricing \nGeneral Admission: $15.00 \nSupporter Ticket: $30.00 \nComplimentary Ticket \nFor more information about Philip’s teaching on the Medicine Wheel\, visit 8th Fire at https://roncesvallesvillage.ca/8thfire/ \nTo register\, see https://islingtonunited.org/event/cultural-learning-circle-medicine-wheel-teachings-registration/
URL:https://shiningwatersregionalcouncil.ca/event/cultural-learning-circle/
LOCATION:Islington United Church\, 25 Burnhamthorpe Road\, Toronto\, ON\, M9A 1G9
CATEGORIES:Educational,Intercultural,Right Relations
ATTACH;FMTTYPE=image/jpeg:https://shiningwatersregionalcouncil.ca/wp-content/uploads/2024/03/Cultural-Learning-Circle-Instagram-Post.jpg
ORGANIZER;CN="Islington United Church":MAILTO:office@islingtonunited.org
END:VEVENT
BEGIN:VEVENT
DTSTART;TZID=America/Toronto:20240407T140000
DTEND;TZID=America/Toronto:20240707T160000
DTSTAMP:20260421T024607
CREATED:20240314T205150Z
LAST-MODIFIED:20240531T212933Z
UID:10003451-1712498400-1720368000@shiningwatersregionalcouncil.ca
SUMMARY:QueerSpace
DESCRIPTION:See attached image \n1st and 3rd Sunday every month until summer break
URL:https://shiningwatersregionalcouncil.ca/event/queerspace-3/2024-04-07/
LOCATION:Cummer Avenue United Church\, 53 Cummer Avenue\, Toronto\, Ontario\, M2M 2E5\, Canada
CATEGORIES:Community Events
ATTACH;FMTTYPE=image/png:https://shiningwatersregionalcouncil.ca/wp-content/uploads/2024/03/QUEERSPACE-recurring.png
ORGANIZER;CN="Cummer Avenue United Church":MAILTO:office@cummeravenueuc.ca
END:VEVENT
END:VCALENDAR