BEGIN:VCALENDAR
VERSION:2.0
PRODID:-//Shining Waters - ECPv6.15.20//NONSGML v1.0//EN
CALSCALE:GREGORIAN
METHOD:PUBLISH
X-ORIGINAL-URL:https://shiningwatersregionalcouncil.ca
X-WR-CALDESC:Events for Shining Waters
REFRESH-INTERVAL;VALUE=DURATION:PT1H
X-Robots-Tag:noindex
X-PUBLISHED-TTL:PT1H
BEGIN:VTIMEZONE
TZID:America/Toronto
BEGIN:DAYLIGHT
TZOFFSETFROM:-0500
TZOFFSETTO:-0400
TZNAME:EDT
DTSTART:20230312T070000
END:DAYLIGHT
BEGIN:STANDARD
TZOFFSETFROM:-0400
TZOFFSETTO:-0500
TZNAME:EST
DTSTART:20231105T060000
END:STANDARD
BEGIN:DAYLIGHT
TZOFFSETFROM:-0500
TZOFFSETTO:-0400
TZNAME:EDT
DTSTART:20240310T070000
END:DAYLIGHT
BEGIN:STANDARD
TZOFFSETFROM:-0400
TZOFFSETTO:-0500
TZNAME:EST
DTSTART:20241103T060000
END:STANDARD
BEGIN:DAYLIGHT
TZOFFSETFROM:-0500
TZOFFSETTO:-0400
TZNAME:EDT
DTSTART:20250309T070000
END:DAYLIGHT
BEGIN:STANDARD
TZOFFSETFROM:-0400
TZOFFSETTO:-0500
TZNAME:EST
DTSTART:20251102T060000
END:STANDARD
END:VTIMEZONE
BEGIN:VEVENT
DTSTART;TZID=America/Toronto:20240326T100000
DTEND;TZID=America/Toronto:20240326T110000
DTSTAMP:20260421T065836
CREATED:20230929T195142Z
LAST-MODIFIED:20240710T202535Z
UID:10004068-1711447200-1711450800@shiningwatersregionalcouncil.ca
SUMMARY:Rimbala Classes for Seniors
DESCRIPTION:Rimbala is an evidence-based falls prevention program that uses music as the principle means of intervention. Based on the work of visionary Swiss composer Émile Jaques-Dalcroze\, Rimbala enjoys one of the highest falls prevention results in the world\, with a 54% reduction in falls for community-dwelling seniors. \nOlder adults improve their gait (walking style)\, mobility\, cognitive skills and social intelligence in a relaxed but joyous setting. The improvised music brings fresh neuroplastic experiences that improves the connection between the body and brain in ways that conventional exercise cannot. Because music is broadly distributed in the brain\, there is a hypothesis that gentle exercise with cognitive components can prevent participants from the ravages of dementia — including Alzheimer’s. \nFor more information\, please visit: www.rimbala.com \nClasses are held at: \nRosedale United Church 159 Roxborough Dr\, Toronto Wednesdays 11:30 AM-12:30 PM $20.00 per session \nand online at various times throughout the week. \nPlease contact Dr. Daniel Rubinoff: 416.709.8381 doctor.rimbala@gmail.com
URL:https://shiningwatersregionalcouncil.ca/event/rimbala-classes-for-seniors/2024-03-26/
LOCATION:Ontario
CATEGORIES:Community Events
ATTACH;FMTTYPE=image/jpeg:https://shiningwatersregionalcouncil.ca/wp-content/uploads/2023/09/Rimbala-Picture-1-scaled.jpg
END:VEVENT
BEGIN:VEVENT
DTSTART;TZID=America/Toronto:20240328T174500
DTEND;TZID=America/Toronto:20240328T183000
DTSTAMP:20260421T065836
CREATED:20231106T230136Z
LAST-MODIFIED:20231106T230136Z
UID:10001397-1711647900-1711650600@shiningwatersregionalcouncil.ca
SUMMARY:Beach United Children's Choir Practices
DESCRIPTION:Sheila Brand\, a member of our choir\, is leading our new Children’s Choir! Sheila is a former music teacher using the Orff Approach\, for vocal\, ukulele and drama/dance programs at Williamson Road Public School. \nChildren ages 7-12 are welcome\, and free to anyone to join! You may contact Sheila at sheilabb@rogers.com for more information \nPractices usually take place every Thursday from 5:45pm-6:30pm. \nPlease visit our website and social media accounts for updated times (beachunitedchurch.com)
URL:https://shiningwatersregionalcouncil.ca/event/beach-united-childrens-choir-practices/2024-03-28/
LOCATION:Beach United Church\, 140 Wineva Ave.\, Toronto\, Ontario\, M4E 2T4\, Canada
CATEGORIES:Community Events
ATTACH;FMTTYPE=image/jpeg:https://shiningwatersregionalcouncil.ca/wp-content/uploads/2023/11/ChildrensChoir-2023-8.5x11-scaled.jpg
END:VEVENT
BEGIN:VEVENT
DTSTART;TZID=America/Toronto:20240328T180000
DTEND;TZID=America/Toronto:20240328T190000
DTSTAMP:20260421T065836
CREATED:20240327T213826Z
LAST-MODIFIED:20240327T213826Z
UID:10003440-1711648800-1711652400@shiningwatersregionalcouncil.ca
SUMMARY:Holy Week at Bloor Street United Church
DESCRIPTION:Everyone is invited to Holy Week 2024: \nMAUNDY THURSDAY ~ Footwashing (or hand) on March 28th 6:00pm (St. Matthew’s UC\, in-person only)\nGOOD FRIDAY ~ Contemplative Stations of the Cross Service on March 29th 10:30am (Trinity-St. Paul’s UC and TSP Zoom)\nEASTER SUNDAY ~ March 31st 10:30am (St. Matthew’s UC\, in-person and on Zoomchurch) \nDetails: https://bloorstreetunited.org/holy-week-2024/
URL:https://shiningwatersregionalcouncil.ca/event/holy-week-at-bloor-street-united-church/2024-03-28/
LOCATION:Bloor Street United Church\, 300 Bloor St. West\, Toronto\, Ontario\, M5S 1W3\, Canada
CATEGORIES:Community Events
ATTACH;FMTTYPE=image/jpeg:https://shiningwatersregionalcouncil.ca/wp-content/uploads/2024/03/holy-week.jpeg
ORGANIZER;CN="Bloor Street United Church":MAILTO:martha@bloorstreetunited.org
END:VEVENT
BEGIN:VEVENT
DTSTART;TZID=America/Toronto:20240329T103000
DTEND;TZID=America/Toronto:20240329T113000
DTSTAMP:20260421T065836
CREATED:20240327T213826Z
LAST-MODIFIED:20240327T213826Z
UID:10003441-1711708200-1711711800@shiningwatersregionalcouncil.ca
SUMMARY:Holy Week at Bloor Street United Church
DESCRIPTION:Everyone is invited to Holy Week 2024: \nMAUNDY THURSDAY ~ Footwashing (or hand) on March 28th 6:00pm (St. Matthew’s UC\, in-person only)\nGOOD FRIDAY ~ Contemplative Stations of the Cross Service on March 29th 10:30am (Trinity-St. Paul’s UC and TSP Zoom)\nEASTER SUNDAY ~ March 31st 10:30am (St. Matthew’s UC\, in-person and on Zoomchurch) \nDetails: https://bloorstreetunited.org/holy-week-2024/
URL:https://shiningwatersregionalcouncil.ca/event/holy-week-at-bloor-street-united-church/2024-03-29/
LOCATION:Bloor Street United Church\, 300 Bloor St. West\, Toronto\, Ontario\, M5S 1W3\, Canada
CATEGORIES:Community Events
ATTACH;FMTTYPE=image/jpeg:https://shiningwatersregionalcouncil.ca/wp-content/uploads/2024/03/holy-week.jpeg
ORGANIZER;CN="Bloor Street United Church":MAILTO:martha@bloorstreetunited.org
END:VEVENT
BEGIN:VEVENT
DTSTART;TZID=America/Toronto:20240329T190000
DTEND;TZID=America/Toronto:20240329T200000
DTSTAMP:20260421T065836
CREATED:20240214T185613Z
LAST-MODIFIED:20240214T185613Z
UID:10002390-1711738800-1711742400@shiningwatersregionalcouncil.ca
SUMMARY:Maundy Thursday Service
DESCRIPTION:We recall the Lord’s Supper\, Jesus’s example of washing his disciples’ feet as an act of service\, and the institution of the sacrament of Holy Communion.
URL:https://shiningwatersregionalcouncil.ca/event/maundy-thursday-service/
LOCATION:Metropolitan United Church\, 56 Queen Street East\, Toronto
CATEGORIES:Community Events
ATTACH;FMTTYPE=image/jpeg:https://shiningwatersregionalcouncil.ca/wp-content/uploads/2024/02/MT.jpg
ORGANIZER;CN="Metropolitan United Church":MAILTO:communications@metunited.ca
END:VEVENT
BEGIN:VEVENT
DTSTART;TZID=America/Toronto:20240329T193000
DTEND;TZID=America/Toronto:20240329T213000
DTSTAMP:20260421T065836
CREATED:20240301T135547Z
LAST-MODIFIED:20240301T153515Z
UID:10002486-1711740600-1711747800@shiningwatersregionalcouncil.ca
SUMMARY:What if God Was One of Us?: 90s Passion Sing-a-long
DESCRIPTION:Join East End United Regional Ministry for a special sing-a-long event where we’ll tell the story of Jesus’ journey towards the cross through the music of: \nREM\nRed Hot Chilli Peppers\nSarah McLaughlan\nJoan OsborneRadiohead\nU2\nNo Doubt\nSinead O’Connor\nNirvana
URL:https://shiningwatersregionalcouncil.ca/event/what-if-god-was-one-of-us-90s-passion-sing-a-long/
LOCATION:Factory Girl\, 193 Danforth Avenue\, Toronto\, Ontario\, M4K 1N2\, Canada
CATEGORIES:Community Events
ATTACH;FMTTYPE=image/jpeg:https://shiningwatersregionalcouncil.ca/wp-content/uploads/2024/02/20240329_YT-1-1.jpeg
ORGANIZER;CN="East End United Regional Ministry":MAILTO:info@eastendunited.ca
END:VEVENT
BEGIN:VEVENT
DTSTART;TZID=America/Toronto:20240329T193000
DTEND;TZID=America/Toronto:20240329T220000
DTSTAMP:20260421T065836
CREATED:20240214T185458Z
LAST-MODIFIED:20240214T185458Z
UID:10002389-1711740600-1711749600@shiningwatersregionalcouncil.ca
SUMMARY:J.S. Bach's Markus Passion
DESCRIPTION:The second Canadian performance of Bach’s Markus Passion\, BWV 247\, as reconstructed by Robert Koolstra (2017). The Met Choir and Baroque Orchestra are joined by Evangelist Philippe Gagné\, and Clarence Frazer as Jesus. Jonathan Oldengarm\, direction and continuo. Pre-concert talk by Jonathan Oldengarm at 6:30 pm. Pre-concert organ recital at 7:00 pm. Tickets ($40 in-person; $17 online) are available at https://www.rcmusic.com/tickets/seats/335401
URL:https://shiningwatersregionalcouncil.ca/event/j-s-bachs-markus-passion-2/
LOCATION:Metropolitan United Church\, 56 Queen Street East\, Toronto
CATEGORIES:Community Events
ATTACH;FMTTYPE=image/jpeg:https://shiningwatersregionalcouncil.ca/wp-content/uploads/2024/02/GF-concert.jpg
ORGANIZER;CN="Metropolitan United Church":MAILTO:communications@metunited.ca
END:VEVENT
BEGIN:VEVENT
DTSTART;TZID=America/Toronto:20240330T193000
DTEND;TZID=America/Toronto:20240330T220000
DTSTAMP:20260421T065836
CREATED:20240214T163854Z
LAST-MODIFIED:20240214T163854Z
UID:10002388-1711827000-1711836000@shiningwatersregionalcouncil.ca
SUMMARY:J.S. Bach's Markus Passion
DESCRIPTION:The second Canadian performance of Bach’s Markus Passion\, BWV 247\, as reconstructed by Robert Koolstra (2017). The Met Choir and Baroque Orchestra are joined by Evangelist Philippe Gagné\, and Clarence Frazer as Jesus. Jonathan Oldengarm\, direction and continuo. Pre-concert talk by Jonathan Oldengarm at 6:30 pm. Pre-concert organ recital at 7:00 pm. Tickets ($40 in-person; $17 online) are available at https://www.rcmusic.com/tickets/seats/335401
URL:https://shiningwatersregionalcouncil.ca/event/j-s-bachs-markus-passion/
LOCATION:Metropolitan United Church\, 56 Queen Street East\, Toronto
CATEGORIES:Community Events
ORGANIZER;CN="Metropolitan United Church":MAILTO:communications@metunited.ca
END:VEVENT
BEGIN:VEVENT
DTSTART;TZID=America/Toronto:20240330T210000
DTEND;TZID=America/Toronto:20240330T230000
DTSTAMP:20260421T065836
CREATED:20240214T190440Z
LAST-MODIFIED:20240214T190440Z
UID:10002391-1711832400-1711839600@shiningwatersregionalcouncil.ca
SUMMARY:The Great Vigil of Easter
DESCRIPTION:In the darkness of the tomb a light flickers and grows. Christ’s triumph over death is proclaimed. Christ is risen! Alleluia!
URL:https://shiningwatersregionalcouncil.ca/event/the-great-vigil-of-easter/
LOCATION:Metropolitan United Church\, 56 Queen Street East\, Toronto
CATEGORIES:Community Events
ATTACH;FMTTYPE=image/jpeg:https://shiningwatersregionalcouncil.ca/wp-content/uploads/2024/02/Vigil.jpg
ORGANIZER;CN="Metropolitan United Church":MAILTO:communications@metunited.ca
END:VEVENT
BEGIN:VEVENT
DTSTART;TZID=America/Toronto:20240330T210000
DTEND;TZID=America/Toronto:20240330T230000
DTSTAMP:20260421T065836
CREATED:20240214T190514Z
LAST-MODIFIED:20240214T190514Z
UID:10002392-1711832400-1711839600@shiningwatersregionalcouncil.ca
SUMMARY:The Great Vigil of Easter
DESCRIPTION:In the darkness of the tomb a light flickers and grows. Christ’s triumph over death is proclaimed. Christ is risen! Alleluia!
URL:https://shiningwatersregionalcouncil.ca/event/the-great-vigil-of-easter-2/
LOCATION:Metropolitan United Church\, 56 Queen Street East\, Toronto
CATEGORIES:Community Events
ATTACH;FMTTYPE=image/jpeg:https://shiningwatersregionalcouncil.ca/wp-content/uploads/2024/02/Vigil-1.jpg
ORGANIZER;CN="Metropolitan United Church":MAILTO:communications@metunited.ca
END:VEVENT
BEGIN:VEVENT
DTSTART;TZID=America/Toronto:20240331T103000
DTEND;TZID=America/Toronto:20240331T113000
DTSTAMP:20260421T065836
CREATED:20240327T213826Z
LAST-MODIFIED:20240327T213826Z
UID:10003442-1711881000-1711884600@shiningwatersregionalcouncil.ca
SUMMARY:Holy Week at Bloor Street United Church
DESCRIPTION:Everyone is invited to Holy Week 2024: \nMAUNDY THURSDAY ~ Footwashing (or hand) on March 28th 6:00pm (St. Matthew’s UC\, in-person only)\nGOOD FRIDAY ~ Contemplative Stations of the Cross Service on March 29th 10:30am (Trinity-St. Paul’s UC and TSP Zoom)\nEASTER SUNDAY ~ March 31st 10:30am (St. Matthew’s UC\, in-person and on Zoomchurch) \nDetails: https://bloorstreetunited.org/holy-week-2024/
URL:https://shiningwatersregionalcouncil.ca/event/holy-week-at-bloor-street-united-church/2024-03-31/
LOCATION:Bloor Street United Church\, 300 Bloor St. West\, Toronto\, Ontario\, M5S 1W3\, Canada
CATEGORIES:Community Events
ATTACH;FMTTYPE=image/jpeg:https://shiningwatersregionalcouncil.ca/wp-content/uploads/2024/03/holy-week.jpeg
ORGANIZER;CN="Bloor Street United Church":MAILTO:martha@bloorstreetunited.org
END:VEVENT
END:VCALENDAR