BEGIN:VCALENDAR
VERSION:2.0
PRODID:-//Shining Waters - ECPv6.15.20//NONSGML v1.0//EN
CALSCALE:GREGORIAN
METHOD:PUBLISH
X-WR-CALNAME:Shining Waters
X-ORIGINAL-URL:https://shiningwatersregionalcouncil.ca
X-WR-CALDESC:Events for Shining Waters
REFRESH-INTERVAL;VALUE=DURATION:PT1H
X-Robots-Tag:noindex
X-PUBLISHED-TTL:PT1H
BEGIN:VTIMEZONE
TZID:America/Toronto
BEGIN:DAYLIGHT
TZOFFSETFROM:-0500
TZOFFSETTO:-0400
TZNAME:EDT
DTSTART:20230312T070000
END:DAYLIGHT
BEGIN:STANDARD
TZOFFSETFROM:-0400
TZOFFSETTO:-0500
TZNAME:EST
DTSTART:20231105T060000
END:STANDARD
BEGIN:DAYLIGHT
TZOFFSETFROM:-0500
TZOFFSETTO:-0400
TZNAME:EDT
DTSTART:20240310T070000
END:DAYLIGHT
BEGIN:STANDARD
TZOFFSETFROM:-0400
TZOFFSETTO:-0500
TZNAME:EST
DTSTART:20241103T060000
END:STANDARD
BEGIN:DAYLIGHT
TZOFFSETFROM:-0500
TZOFFSETTO:-0400
TZNAME:EDT
DTSTART:20250309T070000
END:DAYLIGHT
BEGIN:STANDARD
TZOFFSETFROM:-0400
TZOFFSETTO:-0500
TZNAME:EST
DTSTART:20251102T060000
END:STANDARD
END:VTIMEZONE
BEGIN:VEVENT
DTSTART;TZID=America/Toronto:20240312T080000
DTEND;TZID=America/Toronto:20240312T170000
DTSTAMP:20260421T173155
CREATED:20240312T203739Z
LAST-MODIFIED:20240312T203739Z
UID:10003302-1710230400-1710262800@shiningwatersregionalcouncil.ca
SUMMARY:Women in a Leadership Role Luncheon with Guest Speaker Elizabeth Manley
DESCRIPTION:Olympic Medalist Elizabeth Manley will be the guest speaker at the Women in a Leadership Role Luncheon on April 20\, 2024 at 1:00 PM at Midhurst United Church. Come listen to Elizabeth speak on her involvement in many mental health initiatives while enjoying a delicious lunch! Tickets are $50 and can be purchased by contacting Jean at annmidhurst@gmail.com or by calling 705-721-7629. You can also purchase tickets at Midhurst United Church\, 91 Doran Road\, Midhurst\, ON\, on Wednesdays between 10:00 AM and 1:00 PM.
URL:https://shiningwatersregionalcouncil.ca/event/women-in-a-leadership-role-luncheon-with-guest-speaker-elizabeth-manley/
LOCATION:Midhurst United Church\, 91 DORAN RD\, Midhurst\, ON\, L9X 0L5\, Canada
CATEGORIES:Community Events
ATTACH;FMTTYPE=image/jpeg:https://shiningwatersregionalcouncil.ca/wp-content/uploads/2024/03/Elizabeth-Manley-Luncheon-1080-x-1350-px-1.jpg
END:VEVENT
BEGIN:VEVENT
DTSTART;TZID=America/Toronto:20240312T160000
DTEND;TZID=America/Toronto:20240312T200000
DTSTAMP:20260421T173155
CREATED:20231005T205901Z
LAST-MODIFIED:20231005T210004Z
UID:10001238-1710259200-1710273600@shiningwatersregionalcouncil.ca
SUMMARY:Queer Youth United
DESCRIPTION:Please join us on Tuesdays from 4 pm – 8pm every week – you may drop in at any time between those hours! \nQueer Youth United (QYU) is a 2SLGBTQ+ youth group for ages 15-29\, where you can come and engage with others in a safe space within the community\, while sharing meals\, finding support and resources. \nWe will have more information and photos on our Instagram account over at https://instagram.com/queeryouthunited
URL:https://shiningwatersregionalcouncil.ca/event/queer-youth-united/2024-03-12/
LOCATION:Beach United Church\, 140 Wineva Ave.\, Toronto\, Ontario\, M4E 2T4\, Canada
CATEGORIES:Affirming,Community Events
ATTACH;FMTTYPE=image/jpeg:https://shiningwatersregionalcouncil.ca/wp-content/uploads/2023/10/QYU-poster-social.jpg
END:VEVENT
BEGIN:VEVENT
DTSTART;TZID=America/Toronto:20240314T120000
DTEND;TZID=America/Toronto:20240314T124500
DTSTAMP:20260421T173155
CREATED:20240214T190638Z
LAST-MODIFIED:20240308T201319Z
UID:10002407-1710417600-1710420300@shiningwatersregionalcouncil.ca
SUMMARY:Noon at Met
DESCRIPTION:Weekly lunch-time concerts featuring Toronto’s most talented musicians. Beautiful music in a beautiful space.
URL:https://shiningwatersregionalcouncil.ca/event/noon-at-met-2/2024-03-14/
LOCATION:Metropolitan United Church\, 56 Queen Street East\, Toronto
CATEGORIES:Community Events
ATTACH;FMTTYPE=image/jpeg:https://shiningwatersregionalcouncil.ca/wp-content/uploads/2024/02/noon-at-met-1.jpg
ORGANIZER;CN="Metropolitan United Church":MAILTO:communications@metunited.ca
END:VEVENT
BEGIN:VEVENT
DTSTART;TZID=America/Toronto:20240314T174500
DTEND;TZID=America/Toronto:20240314T183000
DTSTAMP:20260421T173155
CREATED:20231106T230136Z
LAST-MODIFIED:20231106T230136Z
UID:10001395-1710438300-1710441000@shiningwatersregionalcouncil.ca
SUMMARY:Beach United Children's Choir Practices
DESCRIPTION:Sheila Brand\, a member of our choir\, is leading our new Children’s Choir! Sheila is a former music teacher using the Orff Approach\, for vocal\, ukulele and drama/dance programs at Williamson Road Public School. \nChildren ages 7-12 are welcome\, and free to anyone to join! You may contact Sheila at sheilabb@rogers.com for more information \nPractices usually take place every Thursday from 5:45pm-6:30pm. \nPlease visit our website and social media accounts for updated times (beachunitedchurch.com)
URL:https://shiningwatersregionalcouncil.ca/event/beach-united-childrens-choir-practices/2024-03-14/
LOCATION:Beach United Church\, 140 Wineva Ave.\, Toronto\, Ontario\, M4E 2T4\, Canada
CATEGORIES:Community Events
ATTACH;FMTTYPE=image/jpeg:https://shiningwatersregionalcouncil.ca/wp-content/uploads/2023/11/ChildrensChoir-2023-8.5x11-scaled.jpg
END:VEVENT
BEGIN:VEVENT
DTSTART;TZID=America/Toronto:20240316T093000
DTEND;TZID=America/Toronto:20240316T140000
DTSTAMP:20260421T173155
CREATED:20240301T181447Z
LAST-MODIFIED:20240301T181447Z
UID:10003273-1710581400-1710597600@shiningwatersregionalcouncil.ca
SUMMARY:Jubilee Spring Market
DESCRIPTION:Shop for Easter and Mother’s Day gifts\, jewelry\, hand-crafted items\, books\, beauty products\, kitchen items\,\nbaking\, sewing\, knitting. \nStay for lunch!
URL:https://shiningwatersregionalcouncil.ca/event/jubilee-spring-market/
LOCATION:Jubilee United Church\, 40 Underhill Drive\, Toronto\, Ontario (ON)\, M3A 2J5\, Canada
CATEGORIES:Community Events
ATTACH;FMTTYPE=image/png:https://shiningwatersregionalcouncil.ca/wp-content/uploads/2024/03/Screenshot-2024-03-01-122539.png
ORGANIZER;CN="Jubilee United Church":MAILTO:admin@jubileeunited.ca
END:VEVENT
BEGIN:VEVENT
DTSTART;TZID=America/Toronto:20240316T163000
DTEND;TZID=America/Toronto:20240316T173000
DTSTAMP:20260421T173155
CREATED:20240301T154342Z
LAST-MODIFIED:20240301T154342Z
UID:10002485-1710606600-1710610200@shiningwatersregionalcouncil.ca
SUMMARY:Organ Stops with Ryan Baxter
DESCRIPTION:Come hear accomplished organist Ryan Baxter perform the works of Mendelssohn\, Bach\, Rheinberger and Duruflé on our magnificent Guibault-Thérien organ on Saturday\, Marc h 16th at 4:30pm.
URL:https://shiningwatersregionalcouncil.ca/event/organ-stops-with-ryan-baxter/
LOCATION:Beach United Church\, 140 Wineva Ave.\, Toronto\, Ontario\, M4E 2T4\, Canada
CATEGORIES:Community Events
ATTACH;FMTTYPE=image/jpeg:https://shiningwatersregionalcouncil.ca/wp-content/uploads/2024/02/Zeffy-Header-Ryan-Baxter.jpg
END:VEVENT
BEGIN:VEVENT
DTSTART;TZID=America/Toronto:20240317T110000
DTEND;TZID=America/Toronto:20240317T123000
DTSTAMP:20260421T173155
CREATED:20240221T000444Z
LAST-MODIFIED:20240221T000444Z
UID:10002421-1710673200-1710678600@shiningwatersregionalcouncil.ca
SUMMARY:Pancake Breakfast
DESCRIPTION:Join us for a pancake breakfast after church! Church service begins at 10 am and pancakes will be served at 11am. Call for details 289-380-9404
URL:https://shiningwatersregionalcouncil.ca/event/pancake-breakfast/
LOCATION:Lemonville United Church\, 13523 McCowan Rd\, Whitchurch-Stouffville\, Ontario\, L4A 7X5\, Canada
CATEGORIES:Community Events
ATTACH;FMTTYPE=image/jpeg:https://shiningwatersregionalcouncil.ca/wp-content/uploads/2024/02/Pancake-breakfast.jpg
END:VEVENT
END:VCALENDAR