BEGIN:VCALENDAR
VERSION:2.0
PRODID:-//Shining Waters - ECPv6.15.20//NONSGML v1.0//EN
CALSCALE:GREGORIAN
METHOD:PUBLISH
X-ORIGINAL-URL:https://shiningwatersregionalcouncil.ca
X-WR-CALDESC:Events for Shining Waters
REFRESH-INTERVAL;VALUE=DURATION:PT1H
X-Robots-Tag:noindex
X-PUBLISHED-TTL:PT1H
BEGIN:VTIMEZONE
TZID:America/Toronto
BEGIN:DAYLIGHT
TZOFFSETFROM:-0500
TZOFFSETTO:-0400
TZNAME:EDT
DTSTART:20230312T070000
END:DAYLIGHT
BEGIN:STANDARD
TZOFFSETFROM:-0400
TZOFFSETTO:-0500
TZNAME:EST
DTSTART:20231105T060000
END:STANDARD
BEGIN:DAYLIGHT
TZOFFSETFROM:-0500
TZOFFSETTO:-0400
TZNAME:EDT
DTSTART:20240310T070000
END:DAYLIGHT
BEGIN:STANDARD
TZOFFSETFROM:-0400
TZOFFSETTO:-0500
TZNAME:EST
DTSTART:20241103T060000
END:STANDARD
BEGIN:DAYLIGHT
TZOFFSETFROM:-0500
TZOFFSETTO:-0400
TZNAME:EDT
DTSTART:20250309T070000
END:DAYLIGHT
BEGIN:STANDARD
TZOFFSETFROM:-0400
TZOFFSETTO:-0500
TZNAME:EST
DTSTART:20251102T060000
END:STANDARD
END:VTIMEZONE
BEGIN:VEVENT
DTSTART;TZID=America/Toronto:20240226T100000
DTEND;TZID=America/Toronto:20240226T110000
DTSTAMP:20260422T204428
CREATED:20230929T195142Z
LAST-MODIFIED:20240710T202535Z
UID:10004067-1708941600-1708945200@shiningwatersregionalcouncil.ca
SUMMARY:Rimbala Classes for Seniors
DESCRIPTION:Rimbala is an evidence-based falls prevention program that uses music as the principle means of intervention. Based on the work of visionary Swiss composer Émile Jaques-Dalcroze\, Rimbala enjoys one of the highest falls prevention results in the world\, with a 54% reduction in falls for community-dwelling seniors. \nOlder adults improve their gait (walking style)\, mobility\, cognitive skills and social intelligence in a relaxed but joyous setting. The improvised music brings fresh neuroplastic experiences that improves the connection between the body and brain in ways that conventional exercise cannot. Because music is broadly distributed in the brain\, there is a hypothesis that gentle exercise with cognitive components can prevent participants from the ravages of dementia — including Alzheimer’s. \nFor more information\, please visit: www.rimbala.com \nClasses are held at: \nRosedale United Church 159 Roxborough Dr\, Toronto Wednesdays 11:30 AM-12:30 PM $20.00 per session \nand online at various times throughout the week. \nPlease contact Dr. Daniel Rubinoff: 416.709.8381 doctor.rimbala@gmail.com
URL:https://shiningwatersregionalcouncil.ca/event/rimbala-classes-for-seniors/2024-02-26/
LOCATION:Ontario
CATEGORIES:Community Events
ATTACH;FMTTYPE=image/jpeg:https://shiningwatersregionalcouncil.ca/wp-content/uploads/2023/09/Rimbala-Picture-1-scaled.jpg
END:VEVENT
BEGIN:VEVENT
DTSTART;TZID=America/Toronto:20240226T160000
DTEND;TZID=America/Toronto:20240226T173000
DTSTAMP:20260422T204428
CREATED:20240222T200544Z
LAST-MODIFIED:20240331T185744Z
UID:10002422-1708963200-1708968600@shiningwatersregionalcouncil.ca
SUMMARY:Lenten Book Study
DESCRIPTION:Everyone is invited to a 6-week Lenten book study. It will be held on Zoom weekly on Mondays from 4:15-5:45pm\, beginning on Monday\, February 19th. It will run until March 25. \nWe will be discussing The Last Week by Marcus J. Borg and John Dominic Crossan. Using Mark’s gospel as a guide\, they present a day-by-day account of Jesus’ final week of life. They intentionally play on the term «passion»\, opposing Jesus’ passion for the Justice of God\, a fair share for all\, against the familiar emphasis on his «suffering» (Passion Week). The book sets the events of the week into the political and cultural context of the time; this realism should inspire insight and lively discussion. \nDetails and Zoom link at https://bloorstreetunited.org/churchsocial-calendar/?event_id=59847&event_date=2024-02-19
URL:https://shiningwatersregionalcouncil.ca/event/lenten-book-study/
LOCATION:Online via Zoom
CATEGORIES:Community Events
ATTACH;FMTTYPE=image/png:https://shiningwatersregionalcouncil.ca/wp-content/uploads/2024/02/The-Last-Week.png
ORGANIZER;CN="Bloor Street United Church":MAILTO:martha@bloorstreetunited.org
END:VEVENT
BEGIN:VEVENT
DTSTART;TZID=America/Toronto:20240229T174500
DTEND;TZID=America/Toronto:20240229T183000
DTSTAMP:20260422T204428
CREATED:20231106T230136Z
LAST-MODIFIED:20231106T230136Z
UID:10001393-1709228700-1709231400@shiningwatersregionalcouncil.ca
SUMMARY:Beach United Children's Choir Practices
DESCRIPTION:Sheila Brand\, a member of our choir\, is leading our new Children’s Choir! Sheila is a former music teacher using the Orff Approach\, for vocal\, ukulele and drama/dance programs at Williamson Road Public School. \nChildren ages 7-12 are welcome\, and free to anyone to join! You may contact Sheila at sheilabb@rogers.com for more information \nPractices usually take place every Thursday from 5:45pm-6:30pm. \nPlease visit our website and social media accounts for updated times (beachunitedchurch.com)
URL:https://shiningwatersregionalcouncil.ca/event/beach-united-childrens-choir-practices/2024-02-29/
LOCATION:Beach United Church\, 140 Wineva Ave.\, Toronto\, Ontario\, M4E 2T4\, Canada
CATEGORIES:Community Events
ATTACH;FMTTYPE=image/jpeg:https://shiningwatersregionalcouncil.ca/wp-content/uploads/2023/11/ChildrensChoir-2023-8.5x11-scaled.jpg
END:VEVENT
BEGIN:VEVENT
DTSTART;TZID=America/Toronto:20240301T190000
DTEND;TZID=America/Toronto:20240301T210000
DTSTAMP:20260422T204428
CREATED:20240201T134344Z
LAST-MODIFIED:20240208T192814Z
UID:10001588-1709319600-1709326800@shiningwatersregionalcouncil.ca
SUMMARY:Listen Up! Discovering the Joy of Deep Listening
DESCRIPTION:Women’s Retreat\, March 1 & 2: You’re invited to Islington United Church in west Toronto for its spring Connecting to You Women’s Retreat\, Listen Up! Discovering the Joy of Deep Listening. It’s being held on Friday\, March 1\, from 7 to 9 p.m.\, and Saturday\, March 2\, from 9:30 a.m. to 2 p.m. We will gather in the church gym (Stewart East Hall)\, so enter by the back door. On Friday\, we will learn how to deepen the ways we listen to others. On Saturday\, we will examine ways to deepen how we listen to ourselves and to God. Bring a pen\, notebook\, and water bottle both days and a bagged lunch for Saturday. Registration is $50. Check https://islingtonunited.org/event/connecting-to-you-womens-retreat-spring-2024/ for more details and to register. We hope to see you there!
URL:https://shiningwatersregionalcouncil.ca/event/listen-up-discovering-the-joy-of-deep-listening/
LOCATION:Islington United Church\, 25 Burnhamthorpe Road\, Toronto\, ON\, M9A 1G9
CATEGORIES:Community Events
ATTACH;FMTTYPE=image/png:https://shiningwatersregionalcouncil.ca/wp-content/uploads/2024/02/Connecting_to_You_Retreat_Spring_11_x_17_in_1.png
ORGANIZER;CN="Noelle Boughton":MAILTO:n.boughton@sympatico.ca
END:VEVENT
BEGIN:VEVENT
DTSTART;TZID=America/Toronto:20240302T100000
DTEND;TZID=America/Toronto:20240302T150000
DTSTAMP:20260422T204428
CREATED:20240112T204848Z
LAST-MODIFIED:20240112T205139Z
UID:10001566-1709373600-1709391600@shiningwatersregionalcouncil.ca
SUMMARY:Emmanuel College - 'Day with Emmanuel' Open House
DESCRIPTION:Prospective students are invited to join us in person on Saturday\, March 2\, from 10 a.m. to 3 p.m. to explore the Emmanuel community. \nMeet faculty and students\, experience a mini-lecture\, learn about programs and applications\, ask questions\, and enjoy a free lunch! \nFor more info\, email emmanuel.admissions@utoronto.ca. See you there!
URL:https://shiningwatersregionalcouncil.ca/event/emmanuel-college-day-with-emmanuel-open-house/
LOCATION:Emmanuel College\, 75 Queen's Park Crescent East\, Toronto\, Ontario\, M5S 1K7\, Canada
CATEGORIES:Community Events,Educational
ATTACH;FMTTYPE=image/jpeg:https://shiningwatersregionalcouncil.ca/wp-content/uploads/2024/01/Day-With-Emmanuel-2024.jpg
ORGANIZER;CN="Emmanuel College":MAILTO:ec.events@utoronto.ca
END:VEVENT
BEGIN:VEVENT
DTSTART;TZID=America/Toronto:20240302T163000
DTEND;TZID=America/Toronto:20240302T173000
DTSTAMP:20260422T204428
CREATED:20240301T154500Z
LAST-MODIFIED:20240301T154500Z
UID:10002386-1709397000-1709400600@shiningwatersregionalcouncil.ca
SUMMARY:Jazz & Reflection with Jim Clayton & Friends
DESCRIPTION:Join pianist/vocalist Jim Clayton\, bassist Peter Telford and drummer Adam Warner for an afternoon of jazz at Beach United Church on Saturday\, March 2nd at 4:30pm. \n– \nAbout Jim Clayton \nDownBeat Magazine called Jim’s music “warm\, happy\, and soulful\,” and Jersey Jazz called him “hip and swinging.” He’s has been heard internationally on TV and radio and in movies. A two-time winner of Group Of The Year (Canadian Smooth Jazz Awards)\, Jim’s performed on four continents and has an online following of nearly 30\,000 fans. His latest album\, Look Out\, is his vocal debut\, and features drummer Herlin Riley (Wynton Marsalis; Harry Connick\, Jr.) and bassist Amina Scott (DeeDee Bridgewater; Christian Scott). \n– \nBeach United’s warm\, inviting hall serves as the perfect backdrop for this concert – the concert is pay-what-you-can\, and proceeds support our year-round community programs.
URL:https://shiningwatersregionalcouncil.ca/event/jazz-reflection-with-jim-clayton-friends/
LOCATION:Beach United Church\, 140 Wineva Ave.\, Toronto\, Ontario\, M4E 2T4\, Canada
CATEGORIES:Community Events
ATTACH;FMTTYPE=image/jpeg:https://shiningwatersregionalcouncil.ca/wp-content/uploads/2024/02/JR-Jim-Clayton-QR-Code.jpg
END:VEVENT
END:VCALENDAR