BEGIN:VCALENDAR
VERSION:2.0
PRODID:-//Shining Waters - ECPv6.15.20//NONSGML v1.0//EN
CALSCALE:GREGORIAN
METHOD:PUBLISH
X-ORIGINAL-URL:https://shiningwatersregionalcouncil.ca
X-WR-CALDESC:Events for Shining Waters
REFRESH-INTERVAL;VALUE=DURATION:PT1H
X-Robots-Tag:noindex
X-PUBLISHED-TTL:PT1H
BEGIN:VTIMEZONE
TZID:America/Toronto
BEGIN:DAYLIGHT
TZOFFSETFROM:-0500
TZOFFSETTO:-0400
TZNAME:EDT
DTSTART:20230312T070000
END:DAYLIGHT
BEGIN:STANDARD
TZOFFSETFROM:-0400
TZOFFSETTO:-0500
TZNAME:EST
DTSTART:20231105T060000
END:STANDARD
BEGIN:DAYLIGHT
TZOFFSETFROM:-0500
TZOFFSETTO:-0400
TZNAME:EDT
DTSTART:20240310T070000
END:DAYLIGHT
BEGIN:STANDARD
TZOFFSETFROM:-0400
TZOFFSETTO:-0500
TZNAME:EST
DTSTART:20241103T060000
END:STANDARD
BEGIN:DAYLIGHT
TZOFFSETFROM:-0500
TZOFFSETTO:-0400
TZNAME:EDT
DTSTART:20250309T070000
END:DAYLIGHT
BEGIN:STANDARD
TZOFFSETFROM:-0400
TZOFFSETTO:-0500
TZNAME:EST
DTSTART:20251102T060000
END:STANDARD
END:VTIMEZONE
BEGIN:VEVENT
DTSTART;TZID=America/Toronto:20240221T090000
DTEND;TZID=America/Toronto:20240221T170000
DTSTAMP:20260423T140600
CREATED:20240117T172505Z
LAST-MODIFIED:20240117T172505Z
UID:10001573-1708506000-1708534800@shiningwatersregionalcouncil.ca
SUMMARY:Two-Day Workshop with Heather Morgan Emm 2T3: Values-Based Integration Process (VBIP)
DESCRIPTION:VBIP is a unique\, embodied approach to coaching neurodivergent and trauma-affected individuals towards living in a more holistic\, grounded understanding of themselves and their potential for agency\, autonomy and active participation in their daily lives. \nFebruary 21–22\, 9 a.m. –5 p.m. daily
URL:https://shiningwatersregionalcouncil.ca/event/two-day-workshop-with-heather-morgan-emm-2t3-values-based-integration-process-vbip/2024-02-21/
LOCATION:Emmanuel College\, 75 Queen's Park Crescent East\, Toronto\, Ontario\, M5S 1K7\, Canada
CATEGORIES:Community Events
ATTACH;FMTTYPE=image/jpeg:https://shiningwatersregionalcouncil.ca/wp-content/uploads/2024/01/2024-02-21-22-Heather-Morgan-VBIP-Workshop-IG.jpeg
ORGANIZER;CN="Emmanuel College":MAILTO:ec.events@utoronto.ca
END:VEVENT
BEGIN:VEVENT
DTSTART;TZID=America/Toronto:20240222T090000
DTEND;TZID=America/Toronto:20240222T170000
DTSTAMP:20260423T140600
CREATED:20240117T172505Z
LAST-MODIFIED:20240117T172505Z
UID:10001574-1708592400-1708621200@shiningwatersregionalcouncil.ca
SUMMARY:Two-Day Workshop with Heather Morgan Emm 2T3: Values-Based Integration Process (VBIP)
DESCRIPTION:VBIP is a unique\, embodied approach to coaching neurodivergent and trauma-affected individuals towards living in a more holistic\, grounded understanding of themselves and their potential for agency\, autonomy and active participation in their daily lives. \nFebruary 21–22\, 9 a.m. –5 p.m. daily
URL:https://shiningwatersregionalcouncil.ca/event/two-day-workshop-with-heather-morgan-emm-2t3-values-based-integration-process-vbip/2024-02-22/
LOCATION:Emmanuel College\, 75 Queen's Park Crescent East\, Toronto\, Ontario\, M5S 1K7\, Canada
CATEGORIES:Community Events
ATTACH;FMTTYPE=image/jpeg:https://shiningwatersregionalcouncil.ca/wp-content/uploads/2024/01/2024-02-21-22-Heather-Morgan-VBIP-Workshop-IG.jpeg
ORGANIZER;CN="Emmanuel College":MAILTO:ec.events@utoronto.ca
END:VEVENT
BEGIN:VEVENT
DTSTART;TZID=America/Toronto:20240222T174500
DTEND;TZID=America/Toronto:20240222T183000
DTSTAMP:20260423T140600
CREATED:20231106T230136Z
LAST-MODIFIED:20231106T230136Z
UID:10001392-1708623900-1708626600@shiningwatersregionalcouncil.ca
SUMMARY:Beach United Children's Choir Practices
DESCRIPTION:Sheila Brand\, a member of our choir\, is leading our new Children’s Choir! Sheila is a former music teacher using the Orff Approach\, for vocal\, ukulele and drama/dance programs at Williamson Road Public School. \nChildren ages 7-12 are welcome\, and free to anyone to join! You may contact Sheila at sheilabb@rogers.com for more information \nPractices usually take place every Thursday from 5:45pm-6:30pm. \nPlease visit our website and social media accounts for updated times (beachunitedchurch.com)
URL:https://shiningwatersregionalcouncil.ca/event/beach-united-childrens-choir-practices/2024-02-22/
LOCATION:Beach United Church\, 140 Wineva Ave.\, Toronto\, Ontario\, M4E 2T4\, Canada
CATEGORIES:Community Events
ATTACH;FMTTYPE=image/jpeg:https://shiningwatersregionalcouncil.ca/wp-content/uploads/2023/11/ChildrensChoir-2023-8.5x11-scaled.jpg
END:VEVENT
BEGIN:VEVENT
DTSTART;TZID=America/Toronto:20240224T100000
DTEND;TZID=America/Toronto:20240224T120000
DTSTAMP:20260423T140600
CREATED:20240124T195816Z
LAST-MODIFIED:20240124T195816Z
UID:10001580-1708768800-1708776000@shiningwatersregionalcouncil.ca
SUMMARY:Effective Settlement of LGBTQIA+ Newcomers
DESCRIPTION:The need for refugee sponsors to settle LGBTQIA+ newcomers is great. Join us to acquire a better understanding of how to support these newcomers live the life of their own choosing. Hear from three presenters who will provide a context\, address unique challenges in settlement along with resources and agencies who can help.
URL:https://shiningwatersregionalcouncil.ca/event/effective-settlement-of-lgbtqia-newcomers/
LOCATION:online\, 12 Craiglee Drive\, Scarborough\, Ontario\, M1N 2L6\, Canada
CATEGORIES:Community Events
ATTACH;FMTTYPE=image/jpeg:https://shiningwatersregionalcouncil.ca/wp-content/uploads/2024/01/PRSN-Workshop-Feb-24-JPeg.jpg
ORGANIZER;CN="Private refugee Sponsor Network (Ontario)":MAILTO:b.sheffield@rogers.com
END:VEVENT
END:VCALENDAR