BEGIN:VCALENDAR
VERSION:2.0
PRODID:-//Shining Waters - ECPv6.15.20//NONSGML v1.0//EN
CALSCALE:GREGORIAN
METHOD:PUBLISH
X-ORIGINAL-URL:https://shiningwatersregionalcouncil.ca
X-WR-CALDESC:Events for Shining Waters
REFRESH-INTERVAL;VALUE=DURATION:PT1H
X-Robots-Tag:noindex
X-PUBLISHED-TTL:PT1H
BEGIN:VTIMEZONE
TZID:America/Toronto
BEGIN:DAYLIGHT
TZOFFSETFROM:-0500
TZOFFSETTO:-0400
TZNAME:EDT
DTSTART:20230312T070000
END:DAYLIGHT
BEGIN:STANDARD
TZOFFSETFROM:-0400
TZOFFSETTO:-0500
TZNAME:EST
DTSTART:20231105T060000
END:STANDARD
BEGIN:DAYLIGHT
TZOFFSETFROM:-0500
TZOFFSETTO:-0400
TZNAME:EDT
DTSTART:20240310T070000
END:DAYLIGHT
BEGIN:STANDARD
TZOFFSETFROM:-0400
TZOFFSETTO:-0500
TZNAME:EST
DTSTART:20241103T060000
END:STANDARD
BEGIN:DAYLIGHT
TZOFFSETFROM:-0500
TZOFFSETTO:-0400
TZNAME:EDT
DTSTART:20250309T070000
END:DAYLIGHT
BEGIN:STANDARD
TZOFFSETFROM:-0400
TZOFFSETTO:-0500
TZNAME:EST
DTSTART:20251102T060000
END:STANDARD
END:VTIMEZONE
BEGIN:VEVENT
DTSTART;TZID=America/Toronto:20240212T113000
DTEND;TZID=America/Toronto:20240212T140000
DTSTAMP:20260422T212100
CREATED:20240214T162820Z
LAST-MODIFIED:20240331T192004Z
UID:10002119-1707737400-1707746400@shiningwatersregionalcouncil.ca
SUMMARY:Dorothy's Place- Weekly
DESCRIPTION:Dorothy’s Place is a weekly drop-in program for 2SLGBTQIA+\, questioning\, and allied older adults and seniors aged 50+.\nWe offer homemade meals\, workshop and educational programming\, and social opportunities. \nWe are open on Mondays from 11:30am-2pm.
URL:https://shiningwatersregionalcouncil.ca/event/dorothys-place-weekly/2024-02-12/
LOCATION:Birchcliff Bluffs United Church\, 33 East Road\, Toronto\, Ontario\, M5A 4P8\, Canada
CATEGORIES:Community Events
ATTACH;FMTTYPE=image/jpeg:https://shiningwatersregionalcouncil.ca/wp-content/uploads/2024/02/dorothys-shining-waters.jpg
ORGANIZER;CN="Dorothy's Place":MAILTO:dorothysplace4u@gmail.com
END:VEVENT
BEGIN:VEVENT
DTSTART;TZID=America/Toronto:20240212T153000
DTEND;TZID=America/Toronto:20240212T203000
DTSTAMP:20260422T212100
CREATED:20240214T162734Z
LAST-MODIFIED:20240331T191911Z
UID:10001858-1707751800-1707769800@shiningwatersregionalcouncil.ca
SUMMARY:Toby's Place- Weekly
DESCRIPTION:Toby’s Place is a weekly drop-in program for 2SLGBTQIA+ youth\, folks questioning their gender and/or sexuality\, and friends and allies\, 23-years-old and under. We feature meals from scratch\, workshop or entertainment programming\, a clothing swap\, book swap corner\, and more! \nWe run on Mondays from 3:30pm-8:30pm. \n​
URL:https://shiningwatersregionalcouncil.ca/event/tobys-place-weekly/2024-02-12/
LOCATION:Birchcliff Bluffs United Church\, 33 East Road\, Toronto\, Ontario\, M5A 4P8\, Canada
CATEGORIES:Community Events
ATTACH;FMTTYPE=image/jpeg:https://shiningwatersregionalcouncil.ca/wp-content/uploads/2024/02/Promo-for-The-Buzz.jpg
ORGANIZER;CN="Toby's Place":MAILTO:tobys.place33@gmail.com
END:VEVENT
BEGIN:VEVENT
DTSTART;TZID=America/Toronto:20240213T160000
DTEND;TZID=America/Toronto:20240213T200000
DTSTAMP:20260422T212100
CREATED:20231005T205901Z
LAST-MODIFIED:20231005T210004Z
UID:10001234-1707840000-1707854400@shiningwatersregionalcouncil.ca
SUMMARY:Queer Youth United
DESCRIPTION:Please join us on Tuesdays from 4 pm – 8pm every week – you may drop in at any time between those hours! \nQueer Youth United (QYU) is a 2SLGBTQ+ youth group for ages 15-29\, where you can come and engage with others in a safe space within the community\, while sharing meals\, finding support and resources. \nWe will have more information and photos on our Instagram account over at https://instagram.com/queeryouthunited
URL:https://shiningwatersregionalcouncil.ca/event/queer-youth-united/2024-02-13/
LOCATION:Beach United Church\, 140 Wineva Ave.\, Toronto\, Ontario\, M4E 2T4\, Canada
CATEGORIES:Affirming,Community Events
ATTACH;FMTTYPE=image/jpeg:https://shiningwatersregionalcouncil.ca/wp-content/uploads/2023/10/QYU-poster-social.jpg
END:VEVENT
BEGIN:VEVENT
DTSTART;TZID=America/Toronto:20240213T170000
DTEND;TZID=America/Toronto:20240213T190000
DTSTAMP:20260422T212100
CREATED:20240301T161011Z
LAST-MODIFIED:20240301T161011Z
UID:10001854-1707843600-1707850800@shiningwatersregionalcouncil.ca
SUMMARY:Pancake Supper Fundraiser: Starthrower Haiti
DESCRIPTION:Join us for a Lenten Fundraiser for\nStarthrower Foundation:\nAll proceeds help teens and\nyoung adults living in poverty\non Haiti’s north coast.\nVisit starthrowerfoundation.org for more details and to make a personal donation!\nMenu: Pancakes\nHomemade\nBlueberry Sauce\nFresh Strawberries\nWhipped Cream\nChicken/Pork Sausages \nCost:\n$20 families (4 ppl +)\n$10 per person\n$5 12 & Under\nFREE under 3 yrs!
URL:https://shiningwatersregionalcouncil.ca/event/pancake-supper-fundraiser-starthrower-haiti/
LOCATION:Knox United Church\, Caledon Village\, 2976 Charleston Sideroad\, Caledon Village\, ON\, Caledon Village\, ON\, L7K 0V8\, Canada
ATTACH;FMTTYPE=image/jpeg:https://shiningwatersregionalcouncil.ca/wp-content/uploads/2024/02/F4A13193-FCCD-4165-83AE-838319FF52DB.jpeg
ORGANIZER;CN="Knox United Church%2C Caledon Village":MAILTO:ministeratknox@gmail.com
END:VEVENT
BEGIN:VEVENT
DTSTART;TZID=America/Toronto:20240214T140000
DTEND;TZID=America/Toronto:20240214T150000
DTSTAMP:20260422T212100
CREATED:20240201T134953Z
LAST-MODIFIED:20240201T134953Z
UID:10001848-1707919200-1707922800@shiningwatersregionalcouncil.ca
SUMMARY:Ash Wednesday Service
DESCRIPTION:An Ash Wednesday Service will be held in the sanctuary at Knox at 2 pm.
URL:https://shiningwatersregionalcouncil.ca/event/ash-wednesday-service/
LOCATION:Knox United Church Agincourt\, 2569 Midland Avenue\, Toronto\, Ontario\, M1S 1R3\, Canada
CATEGORIES:Community Events
END:VEVENT
BEGIN:VEVENT
DTSTART;TZID=America/Toronto:20240215T120000
DTEND;TZID=America/Toronto:20240215T124500
DTSTAMP:20260422T212100
CREATED:20240214T190638Z
LAST-MODIFIED:20240308T201319Z
UID:10002403-1707998400-1708001100@shiningwatersregionalcouncil.ca
SUMMARY:Noon at Met
DESCRIPTION:Weekly lunch-time concerts featuring Toronto’s most talented musicians. Beautiful music in a beautiful space.
URL:https://shiningwatersregionalcouncil.ca/event/noon-at-met-2/2024-02-15/
LOCATION:Metropolitan United Church\, 56 Queen Street East\, Toronto
CATEGORIES:Community Events
ATTACH;FMTTYPE=image/jpeg:https://shiningwatersregionalcouncil.ca/wp-content/uploads/2024/02/noon-at-met-1.jpg
ORGANIZER;CN="Metropolitan United Church":MAILTO:communications@metunited.ca
END:VEVENT
BEGIN:VEVENT
DTSTART;TZID=America/Toronto:20240215T174500
DTEND;TZID=America/Toronto:20240215T183000
DTSTAMP:20260422T212100
CREATED:20231106T230136Z
LAST-MODIFIED:20231106T230136Z
UID:10001391-1708019100-1708021800@shiningwatersregionalcouncil.ca
SUMMARY:Beach United Children's Choir Practices
DESCRIPTION:Sheila Brand\, a member of our choir\, is leading our new Children’s Choir! Sheila is a former music teacher using the Orff Approach\, for vocal\, ukulele and drama/dance programs at Williamson Road Public School. \nChildren ages 7-12 are welcome\, and free to anyone to join! You may contact Sheila at sheilabb@rogers.com for more information \nPractices usually take place every Thursday from 5:45pm-6:30pm. \nPlease visit our website and social media accounts for updated times (beachunitedchurch.com)
URL:https://shiningwatersregionalcouncil.ca/event/beach-united-childrens-choir-practices/2024-02-15/
LOCATION:Beach United Church\, 140 Wineva Ave.\, Toronto\, Ontario\, M4E 2T4\, Canada
CATEGORIES:Community Events
ATTACH;FMTTYPE=image/jpeg:https://shiningwatersregionalcouncil.ca/wp-content/uploads/2023/11/ChildrensChoir-2023-8.5x11-scaled.jpg
END:VEVENT
BEGIN:VEVENT
DTSTART;TZID=America/Toronto:20240215T183000
DTEND;TZID=America/Toronto:20240215T191500
DTSTAMP:20260422T212100
CREATED:20240201T134857Z
LAST-MODIFIED:20240201T134857Z
UID:10001589-1708021800-1708024500@shiningwatersregionalcouncil.ca
SUMMARY:The Spark: Tech Free Evening Worship
DESCRIPTION:A spark to ignite. A spark to pass on. \nThis Thursday evening worship offering at Glen Rhodes (1470 Gerrard Street East) is meant to nourish those: \n-who need a break from screens and technology\n-who find it difficult to attend worship on Sunday mornings\n-who are interested in a more intimate and informal worship experience \nThe service lasts between 30 and 45 minutes and is led by Rev. Bri-anne Swan\, who provides accompaniment for hymns and music on guitar. \nThe worship space is accessible to wheelchairs via an elevator. If you plan on attending and require use of the elevator\, please email: bswan@eastendunited.ca
URL:https://shiningwatersregionalcouncil.ca/event/the-spark-tech-free-evening-worship/2024-02-15/
LOCATION:Glen Rhodes Campus\, 1470 Gerrard Street East\, Toronto\, Ontario\, M4L 2A3\, Canada
CATEGORIES:Community Events
ATTACH;FMTTYPE=image/jpeg:https://shiningwatersregionalcouncil.ca/wp-content/uploads/2024/01/The-Spark-1.jpeg
ORGANIZER;CN="East End United Regional Ministry":MAILTO:info@eastendunited.ca
END:VEVENT
BEGIN:VEVENT
DTSTART;TZID=America/Toronto:20240217T163000
DTEND;TZID=America/Toronto:20240217T173000
DTSTAMP:20260422T212100
CREATED:20240117T172305Z
LAST-MODIFIED:20240117T221129Z
UID:10001571-1708187400-1708191000@shiningwatersregionalcouncil.ca
SUMMARY:Music for the Soul with Opera Revue
DESCRIPTION:Beach United Church is excited to present the hit opera show everyone is talking about: Opera Revue. Tickets are pay-what-you-can and proceeds go towards supporting our musicians and our year-round community programs. \nOpera Revue began with the question “Why does opera get such a bad rap?”. Founder and lead Soprano\, Danie Friesen\, came up with several answers: It’s expensive. You have to dress up. It’s snobby. You can’t drink\, except during intermission. You can’t talk. It’s snobby. You can’t get up and move around. And it’s snobby. \nSo\, that’s what Opera Revue has set out to change. Their shows are a great way to introduce opera to people who have never seen it before\, as well as a new way for opera lovers to enjoy it. \nSo come out to opera in a casual setting\, where you can feel comfortable to talk and share the experience with those around you\, without breaking the bank to afford a ticket! Opera Revue aims to take away the exclusive nature of opera\, and make it accessible for all audiences. \nOpera Revue was founded in 2017 by soprano Danie Friesen.
URL:https://shiningwatersregionalcouncil.ca/event/music-for-the-soul-with-opera-revue/
LOCATION:Beach United Church\, 140 Wineva Ave.\, Toronto\, Ontario\, M4E 2T4\, Canada
CATEGORIES:Community Events
ATTACH;FMTTYPE=image/jpeg:https://shiningwatersregionalcouncil.ca/wp-content/uploads/2024/01/Music-For-The-Soul-Opera-Revue-FB.jpg
END:VEVENT
END:VCALENDAR