BEGIN:VCALENDAR
VERSION:2.0
PRODID:-//Shining Waters - ECPv6.15.20//NONSGML v1.0//EN
CALSCALE:GREGORIAN
METHOD:PUBLISH
X-ORIGINAL-URL:https://shiningwatersregionalcouncil.ca
X-WR-CALDESC:Events for Shining Waters
REFRESH-INTERVAL;VALUE=DURATION:PT1H
X-Robots-Tag:noindex
X-PUBLISHED-TTL:PT1H
BEGIN:VTIMEZONE
TZID:America/Toronto
BEGIN:DAYLIGHT
TZOFFSETFROM:-0500
TZOFFSETTO:-0400
TZNAME:EDT
DTSTART:20230312T070000
END:DAYLIGHT
BEGIN:STANDARD
TZOFFSETFROM:-0400
TZOFFSETTO:-0500
TZNAME:EST
DTSTART:20231105T060000
END:STANDARD
BEGIN:DAYLIGHT
TZOFFSETFROM:-0500
TZOFFSETTO:-0400
TZNAME:EDT
DTSTART:20240310T070000
END:DAYLIGHT
BEGIN:STANDARD
TZOFFSETFROM:-0400
TZOFFSETTO:-0500
TZNAME:EST
DTSTART:20241103T060000
END:STANDARD
BEGIN:DAYLIGHT
TZOFFSETFROM:-0500
TZOFFSETTO:-0400
TZNAME:EDT
DTSTART:20250309T070000
END:DAYLIGHT
BEGIN:STANDARD
TZOFFSETFROM:-0400
TZOFFSETTO:-0500
TZNAME:EST
DTSTART:20251102T060000
END:STANDARD
END:VTIMEZONE
BEGIN:VEVENT
DTSTART;TZID=America/Toronto:20240206T130000
DTEND;TZID=America/Toronto:20240206T150000
DTSTAMP:20260422T061656
CREATED:20240124T195656Z
LAST-MODIFIED:20240124T195736Z
UID:10001578-1707224400-1707231600@shiningwatersregionalcouncil.ca
SUMMARY:St. Matthew's Seniors' Social
DESCRIPTION:Our next Senior’s Social will be in the St. Matt’s Parlour (in-person only) on Tuesday\, January 23 beginning at 1pm. Contact Betsy (andersonbetsy528@gmail.com) for details\, or if you have any questions. All are welcome!
URL:https://shiningwatersregionalcouncil.ca/event/st-matthews-seniors-social/
LOCATION:St. Matthew’s United Church\, Toronto\, 729 St. Clair Ave W.\, Toronto\, Ontario\, M6C 1B3\, Canada
CATEGORIES:Community Events
ATTACH;FMTTYPE=image/jpeg:https://shiningwatersregionalcouncil.ca/wp-content/uploads/2024/01/pexels-andrew-neel-4264049-scaled.jpg
ORGANIZER;CN="St. Matthew's United Church":MAILTO:stmattsunited@gmail.com
END:VEVENT
BEGIN:VEVENT
DTSTART;TZID=America/Toronto:20240206T190000
DTEND;TZID=America/Toronto:20240206T210000
DTSTAMP:20260422T061656
CREATED:20240301T160842Z
LAST-MODIFIED:20240301T160842Z
UID:10003270-1707246000-1707253200@shiningwatersregionalcouncil.ca
SUMMARY:Youth Forum on Mental Health
DESCRIPTION:Danforth Multifaith Commons’ Forum on Youth Mental Health \nDanforth Multifaith Commons is hosting a youth mental health forum on February 6th at Eastminster Church (310 Danforth Ave) at 7 p.m. \nThe forum will feature speakers with knowledge on the issues faced by youth today along with resources available in East Toronto that can help. \nThis is part of the annual speakers series on social justice issues hosted by Danforth Multifaith Commons\, which includes Danforth Jewish Circle\, East End United and Neighbourhood Unitarian Universalist Congregation. \nCheck out their Facebook event to learn more.
URL:https://shiningwatersregionalcouncil.ca/event/youth-forum-on-mental-health/
LOCATION:Eastminster United Church\, 310 Danforth Ave\, Toronto\, Ontario\, M4K 1N6\, Canada
END:VEVENT
BEGIN:VEVENT
DTSTART;TZID=America/Toronto:20240206T190000
DTEND;TZID=America/Toronto:20240206T210000
DTSTAMP:20260422T061656
CREATED:20240301T160914Z
LAST-MODIFIED:20240301T160914Z
UID:10003271-1707246000-1707253200@shiningwatersregionalcouncil.ca
SUMMARY:Youth Forum on Mental Health
DESCRIPTION:Danforth Multifaith Commons’ Forum on Youth Mental Health \nDanforth Multifaith Commons is hosting a youth mental health forum on February 6th at Eastminster Church (310 Danforth Ave) at 7 p.m. \nThe forum will feature speakers with knowledge on the issues faced by youth today along with resources available in East Toronto that can help. \nThis is part of the annual speakers series on social justice issues hosted by Danforth Multifaith Commons\, which includes Danforth Jewish Circle\, East End United and Neighbourhood Unitarian Universalist Congregation. \nCheck out their Facebook event to learn more.
URL:https://shiningwatersregionalcouncil.ca/event/youth-forum-on-mental-health-2/
LOCATION:Eastminster United Church\, 310 Danforth Ave\, Toronto\, Ontario\, M4K 1N6\, Canada
END:VEVENT
BEGIN:VEVENT
DTSTART;TZID=America/Toronto:20240206T190000
DTEND;TZID=America/Toronto:20240206T210000
DTSTAMP:20260422T061656
CREATED:20240301T160945Z
LAST-MODIFIED:20240301T160945Z
UID:10003272-1707246000-1707253200@shiningwatersregionalcouncil.ca
SUMMARY:Youth Forum on Mental Health
DESCRIPTION:Danforth Multifaith Commons’ Forum on Youth Mental Health \nDanforth Multifaith Commons is hosting a youth mental health forum on February 6th at Eastminster Church (310 Danforth Ave) at 7 p.m. \nThe forum will feature speakers with knowledge on the issues faced by youth today along with resources available in East Toronto that can help. \nThis is part of the annual speakers series on social justice issues hosted by Danforth Multifaith Commons\, which includes Danforth Jewish Circle\, East End United and Neighbourhood Unitarian Universalist Congregation. \nCheck out their Facebook event to learn more.
URL:https://shiningwatersregionalcouncil.ca/event/youth-forum-on-mental-health-3/
LOCATION:Eastminster United Church\, 310 Danforth Ave\, Toronto\, Ontario\, M4K 1N6\, Canada
END:VEVENT
BEGIN:VEVENT
DTSTART;TZID=America/Toronto:20240207T100000
DTEND;TZID=America/Toronto:20240207T110000
DTSTAMP:20260422T061656
CREATED:20240111T203707Z
LAST-MODIFIED:20240111T203707Z
UID:10001522-1707300000-1707303600@shiningwatersregionalcouncil.ca
SUMMARY:ALPHA
DESCRIPTION:North Bramalea United Church (NBUC) in Brampton will be offering a number of Alpha sessions beginning February 7th. \nAlpha Evening: In person Wednesday February 7th 10:00am – 11:00am \nAlpha is a series of interactive sessions exploring the basics of the Christian faith.\nEach session looks at a different question\, and is designed to create conversation. There’s no pressure\, no follow-up and no charge; it’s just an open\, informal\, and honest space to explore and discuss life’s big questions together. \nEmail any questions to office@nbuc.ca and we would be happy to answer them.
URL:https://shiningwatersregionalcouncil.ca/event/alpha/
LOCATION:North Bramalea United Church\, 3 Howden Blvd\, Brampton\, Ontario\, L6S 4L6\, Canada
CATEGORIES:Community Events
ORGANIZER;CN="North Bramalea United Church":MAILTO:rcanning@nbuc.ca
END:VEVENT
BEGIN:VEVENT
DTSTART;TZID=America/Toronto:20240208T060000
DTEND;TZID=America/Toronto:20240208T060000
DTSTAMP:20260422T061656
CREATED:20240115T194244Z
LAST-MODIFIED:20240201T135629Z
UID:10001849-1707372000-1707372000@shiningwatersregionalcouncil.ca
SUMMARY:ALPHA
DESCRIPTION:North Bramalea United Church (NBUC) in Brampton will be offering a number of Alpha sessions beginning February 7th. \nAlpha Evening: In person Wednesday February 7th 6:30pm – 8:30pm (dinner included)\nOnline Wednesday February 7th 7:00pm – 8:30pm \nAlpha is a series of interactive sessions exploring the basics of the Christian faith.\nEach session looks at a different question\, and is designed to create conversation. There’s no pressure\, no follow-up and no charge; it’s just an open\, informal\, and honest space to explore and discuss life’s big questions together. \nEmail any questions to office@nbuc.ca and we would be happy to answer them.
URL:https://shiningwatersregionalcouncil.ca/event/alpha-2/2024-02-08/
LOCATION:North Bramalea United Church\, 3 Howden Blvd\, Brampton\, Ontario\, L6S 4L6\, Canada
CATEGORIES:Community Events
ORGANIZER;CN="North Bramalea United Church":MAILTO:rcanning@nbuc.ca
END:VEVENT
BEGIN:VEVENT
DTSTART;TZID=America/Toronto:20240208T174500
DTEND;TZID=America/Toronto:20240208T183000
DTSTAMP:20260422T061656
CREATED:20231106T230136Z
LAST-MODIFIED:20231106T230136Z
UID:10001390-1707414300-1707417000@shiningwatersregionalcouncil.ca
SUMMARY:Beach United Children's Choir Practices
DESCRIPTION:Sheila Brand\, a member of our choir\, is leading our new Children’s Choir! Sheila is a former music teacher using the Orff Approach\, for vocal\, ukulele and drama/dance programs at Williamson Road Public School. \nChildren ages 7-12 are welcome\, and free to anyone to join! You may contact Sheila at sheilabb@rogers.com for more information \nPractices usually take place every Thursday from 5:45pm-6:30pm. \nPlease visit our website and social media accounts for updated times (beachunitedchurch.com)
URL:https://shiningwatersregionalcouncil.ca/event/beach-united-childrens-choir-practices/2024-02-08/
LOCATION:Beach United Church\, 140 Wineva Ave.\, Toronto\, Ontario\, M4E 2T4\, Canada
CATEGORIES:Community Events
ATTACH;FMTTYPE=image/jpeg:https://shiningwatersregionalcouncil.ca/wp-content/uploads/2023/11/ChildrensChoir-2023-8.5x11-scaled.jpg
END:VEVENT
BEGIN:VEVENT
DTSTART;TZID=America/Toronto:20240210T190000
DTEND;TZID=America/Toronto:20240210T210000
DTSTAMP:20260422T061656
CREATED:20240201T135201Z
LAST-MODIFIED:20240201T135201Z
UID:10001584-1707591600-1707598800@shiningwatersregionalcouncil.ca
SUMMARY:For the Love of Jazz. Where Love Songs Meet Jazz with an Evening of Romantic Classics Plus Sing Along Karaoke.
DESCRIPTION:Join us for “For the Love of Jazz”\, an evening of jazzy love songs\, a perfect way to warm up for Valentine’s Day. Loralee McGuirl is back again to sing torch songs and love songs from across the decades. She’ll be playing with a wonderful jazz trio of bass\, piano\, and saxophone. Daniel will be on sax\, and he’s lined up two well-known Toronto musicians to bring some swing to the evening. Like last year\, there will be a few tunes we’ll all get to sing\, and there will be some room to dance\, if you’re so inspired. \nTickets are $30 online\, $25 in person\, or $15 for students. – Secure your ticket now on Eventbrite. If you require assistance to book tickets\, please contact Judi at judi@lawrenceparkchurch.ca \n“For the Love of Jazz” a celebration of love\, life\, and jazz’s captivating rhythms.
URL:https://shiningwatersregionalcouncil.ca/event/for-the-love-of-jazz-where-love-songs-meet-jazz-with-an-evening-of-romantic-classics-plus-sing-along-karaoke/
LOCATION:Lawrence Park Community Church\, 2180 Bayview Ave\, North York\, Ontario\, M4N 3K7\, Canada
CATEGORIES:Community Events
ATTACH;FMTTYPE=image/png:https://shiningwatersregionalcouncil.ca/wp-content/uploads/2024/01/LPCC-Presents-For-The-Love-of-Jazz-1500-x-784-px-1500-x-784-px-1.png
ORGANIZER;CN="Lawrence Park Community Church":MAILTO:info@lawrenceparkchurch.ca
END:VEVENT
BEGIN:VEVENT
DTSTART;TZID=America/Toronto:20240211T120000
DTEND;TZID=America/Toronto:20240211T140000
DTSTAMP:20260422T061656
CREATED:20240115T194341Z
LAST-MODIFIED:20240201T135111Z
UID:10001523-1707652800-1707660000@shiningwatersregionalcouncil.ca
SUMMARY:ALPHA
DESCRIPTION:More than ever before\, young people are asking questions about life and meaning. This 9 week series will help give you the space to wrestle with your thoughts and share your opinions in a safe and friendly environment. \nWe know how nerve racking it can be to put yourself out there\, so feel free to bring a friend with you! \nWhen: Sundays; February 11-April 7 for 9 weeks \nTime: 12-2pm \nIn-person at NBUC\nIf you have any questions\, please email us at office@nbuc.ca
URL:https://shiningwatersregionalcouncil.ca/event/alpha-3/2024-02-11/
LOCATION:North Bramalea United Church\, 3 Howden Blvd\, Brampton\, Ontario\, L6S 4L6\, Canada
CATEGORIES:Community Events
ORGANIZER;CN="North Bramalea United Church":MAILTO:rcanning@nbuc.ca
END:VEVENT
END:VCALENDAR