BEGIN:VCALENDAR
VERSION:2.0
PRODID:-//Shining Waters - ECPv6.15.20//NONSGML v1.0//EN
CALSCALE:GREGORIAN
METHOD:PUBLISH
X-ORIGINAL-URL:https://shiningwatersregionalcouncil.ca
X-WR-CALDESC:Events for Shining Waters
REFRESH-INTERVAL;VALUE=DURATION:PT1H
X-Robots-Tag:noindex
X-PUBLISHED-TTL:PT1H
BEGIN:VTIMEZONE
TZID:America/Toronto
BEGIN:DAYLIGHT
TZOFFSETFROM:-0500
TZOFFSETTO:-0400
TZNAME:EDT
DTSTART:20230312T070000
END:DAYLIGHT
BEGIN:STANDARD
TZOFFSETFROM:-0400
TZOFFSETTO:-0500
TZNAME:EST
DTSTART:20231105T060000
END:STANDARD
BEGIN:DAYLIGHT
TZOFFSETFROM:-0500
TZOFFSETTO:-0400
TZNAME:EDT
DTSTART:20240310T070000
END:DAYLIGHT
BEGIN:STANDARD
TZOFFSETFROM:-0400
TZOFFSETTO:-0500
TZNAME:EST
DTSTART:20241103T060000
END:STANDARD
BEGIN:DAYLIGHT
TZOFFSETFROM:-0500
TZOFFSETTO:-0400
TZNAME:EDT
DTSTART:20250309T070000
END:DAYLIGHT
BEGIN:STANDARD
TZOFFSETFROM:-0400
TZOFFSETTO:-0500
TZNAME:EST
DTSTART:20251102T060000
END:STANDARD
END:VTIMEZONE
BEGIN:VEVENT
DTSTART;TZID=America/Toronto:20240131T163000
DTEND;TZID=America/Toronto:20240131T180000
DTSTAMP:20260421T125850
CREATED:20240117T172412Z
LAST-MODIFIED:20240117T172429Z
UID:10001572-1706718600-1706724000@shiningwatersregionalcouncil.ca
SUMMARY:Book Launch – Mona Tokarek LaFosse's Honouring Age: The Social Dynamics of Age Structure in 1 Timothy
DESCRIPTION:Join us as we launch Prof. Mona Tokarek LaFosse’s Honouring Age: The Social Dynamics of Age Structure in 1 Timothy (McGill-Queen’s University Press)\, a new reading of an enigmatic Christian text shaped by an investigation of ancient Mediterranean experiences of age. \nWednesday\, January 31\, 4:30–6 p.m.\, Emmanuel College Chapel (EM319\, third floor) and Online
URL:https://shiningwatersregionalcouncil.ca/event/book-launch-mona-tokarek-lafosses-honouring-age-the-social-dynamics-of-age-structure-in-1-timothy/
LOCATION:Emmanuel College\, 75 Queen's Park Crescent East\, Toronto\, Ontario\, M5S 1K7\, Canada
CATEGORIES:Community Events
ATTACH;FMTTYPE=image/jpeg:https://shiningwatersregionalcouncil.ca/wp-content/uploads/2024/01/2024-01-31-Mona-Tokarek-LaFosse-Book-Launch-v2.jpeg
ORGANIZER;CN="Emmanuel College":MAILTO:ec.events@utoronto.ca
END:VEVENT
BEGIN:VEVENT
DTSTART;TZID=America/Toronto:20240201T160000
DTEND;TZID=America/Toronto:20240201T190000
DTSTAMP:20260421T125850
CREATED:20240111T203333Z
LAST-MODIFIED:20240531T211742Z
UID:10001541-1706803200-1706814000@shiningwatersregionalcouncil.ca
SUMMARY:Queer Youth United
DESCRIPTION:Queer Youth United (QYU) meets on Thursdays from 4-7pm at Beach United Church (140 Wineva Ave.) – you may drop in at any time between those hours. \nQYU is a weekly drop in for youth and young adults (15-29) who identify within the Queer community\, and more specifically with a desire to focus on the experiences and needs of transgender people. Beach United Church offers safe(r) space for transgender and questioning individuals in a space that offers positive alternatives to engaging the world. QYU is about celebrating and encouraging queer youth in the universal call to “live as our authentic selves”. \nWe post updates on our Instagram account over at @queeryouthunited\, which is maintained by our coordinator\, Corin Collins.
URL:https://shiningwatersregionalcouncil.ca/event/queer-youth-united-2/2024-02-01/
LOCATION:Beach United Church\, 140 Wineva Ave.\, Toronto\, Ontario\, M4E 2T4\, Canada
CATEGORIES:Community Events
ATTACH;FMTTYPE=image/jpeg:https://shiningwatersregionalcouncil.ca/wp-content/uploads/2024/01/QYU-Poster-Website-2024.jpg
END:VEVENT
BEGIN:VEVENT
DTSTART;TZID=America/Toronto:20240201T174500
DTEND;TZID=America/Toronto:20240201T183000
DTSTAMP:20260421T125850
CREATED:20231106T230136Z
LAST-MODIFIED:20231106T230136Z
UID:10001389-1706809500-1706812200@shiningwatersregionalcouncil.ca
SUMMARY:Beach United Children's Choir Practices
DESCRIPTION:Sheila Brand\, a member of our choir\, is leading our new Children’s Choir! Sheila is a former music teacher using the Orff Approach\, for vocal\, ukulele and drama/dance programs at Williamson Road Public School. \nChildren ages 7-12 are welcome\, and free to anyone to join! You may contact Sheila at sheilabb@rogers.com for more information \nPractices usually take place every Thursday from 5:45pm-6:30pm. \nPlease visit our website and social media accounts for updated times (beachunitedchurch.com)
URL:https://shiningwatersregionalcouncil.ca/event/beach-united-childrens-choir-practices/2024-02-01/
LOCATION:Beach United Church\, 140 Wineva Ave.\, Toronto\, Ontario\, M4E 2T4\, Canada
CATEGORIES:Community Events
ATTACH;FMTTYPE=image/jpeg:https://shiningwatersregionalcouncil.ca/wp-content/uploads/2023/11/ChildrensChoir-2023-8.5x11-scaled.jpg
END:VEVENT
BEGIN:VEVENT
DTSTART;VALUE=DATE:20240202
DTEND;VALUE=DATE:20240205
DTSTAMP:20260421T125850
CREATED:20240115T155713Z
LAST-MODIFIED:20240115T155740Z
UID:10001565-1706832000-1707091199@shiningwatersregionalcouncil.ca
SUMMARY:Winter Youth Retreat
DESCRIPTION:All youth in grades 6 to 12 are invited to participate in the 2024 Winter Youth “Be Real” Retreat taking place February 2 to 4\, 2024. \nWHAT: Youth will enjoy tons of fun winter activities while spending time learning what it means to open up and to be real with others\, themselves and God. Planned activities include ball hockey\, sledding\, karaoke\, capture the flag\, art workshops\, and more. \nWHO: With roughly 40 youth in grades 6 to 12 coming together on this retreat from six churches (and counting)\, there will be loads of opportunities to make connections and meet new friends from across the Greater Toronto Area. \nWHERE: The retreat will take place at the amazing Medeba facility in Haliburton\, located about three hours north of Toronto for a real winter getaway. \nWHEN: February 2 to 4\, 2024. Register by January 12 or sooner\, as space is limited. \nCOST: $180 per youth (includes accommodation\, food and bus transportation). Financial subsidies available. \nQUESTIONS: Contact Brianna Coutlee (families@islingtonuntied.org; 416-239-1131 ext 224) to learn more or inquire about financial aid. \nDetails and registration at https://islingtonunited.org/youth/
URL:https://shiningwatersregionalcouncil.ca/event/winter-youth-retreat/
LOCATION:Ontario
CATEGORIES:Community Events
ATTACH;FMTTYPE=image/png:https://shiningwatersregionalcouncil.ca/wp-content/uploads/2024/01/Screen-Shot-2024-01-11-at-4.51.04-PM.png
ORGANIZER;CN="Islington United Church":MAILTO:office@islingtonunited.org
END:VEVENT
BEGIN:VEVENT
DTSTART;TZID=America/Toronto:20240203T083000
DTEND;TZID=America/Toronto:20240203T103000
DTSTAMP:20260421T125850
CREATED:20240301T160308Z
LAST-MODIFIED:20240301T160308Z
UID:10001855-1706949000-1706956200@shiningwatersregionalcouncil.ca
SUMMARY:Monthly FREE Community Breakfasts
DESCRIPTION:Join Caledon East United Church for monthly free breakfasts! \nWho needs to cook? join us! 😇 if you have any questions please let us know in the comments! \nMenu:\n– fluffy pancakes\n– real maple syrup and plain syrup\n– scrambled eggs\n– chicken sausages\n– mixed fruits\n– yogurt\n– Coffee/Tea/Juice\n– Gluten free waffles/pancakes on request!
URL:https://shiningwatersregionalcouncil.ca/event/monthly-free-community-breakfasts/
LOCATION:Caledon East United Church\, 6046 Old ChurchRoad\, Caledon East\, Ontario\, L7C 1H8\, Canada
CATEGORIES:Community Events
ATTACH;FMTTYPE=image/jpeg:https://shiningwatersregionalcouncil.ca/wp-content/uploads/2024/02/A02EFC2E-6271-496D-9404-8AF12AB50F6C.jpeg
ORGANIZER;CN="Caledon East United Church":MAILTO:caledoneastuc@on.aibn.com
END:VEVENT
BEGIN:VEVENT
DTSTART;TZID=America/Toronto:20240203T163000
DTEND;TZID=America/Toronto:20240203T173000
DTSTAMP:20260421T125850
CREATED:20240111T203539Z
LAST-MODIFIED:20240111T203557Z
UID:10001563-1706977800-1706981400@shiningwatersregionalcouncil.ca
SUMMARY:Jazz and Reflection with Paul Novotny and Friends
DESCRIPTION:Join celebrated jazz bassist Paul Novotny\, guitarist David Occhipinti and pianist Amanda Tosoff for an afternoon of jazz originals and favourites at Beach United Church on Saturday\, February 3rd at 4:30pm. \nTickets are pay-what-you-can\, and proceeds support our year-round community programs\nhttps://www.zeffy.com/en-CA/ticketing/60e642c7-78db-4aee-bbf5-289246abd9d6 \n– \nAt age five\, Paul Novotny found the piano-sound to be mesmerizing\, then with piano lessons he began his journey into music. During high school Paul played bass\, drums\, piano and trombone and attended two Stan Kenton jazz workshops. He graduated with a major in graphic arts and is in the hall of honour at Thomas A. Stewart Secondary School. This was the first sign of his interdisciplinary approach to the arts. At seventeen Paul began formal music study at Humber College in Toronto and at nineteen he was invited to play bass in the Brian Browne trio. Browne was the 1974 Canadian songwriting award winner — Paul began performing with him five nights a week while learning repertoire from the great American songbook. \nPaul has now performed with jazz luminaries Cedar Walton\, Geoff Keezer\, Kenny Wheeler\, Scott Hamilton\, Jo-Anne Brackeen\, Lynn Arrial\, Richard Wyands\, Moncef Genoud\, Junior Mance\, and Don Thompson. He has accompanied singers Roger Whitaker\, Molly Johnson\, Tabe Johnson\, Jackie Richardson\, Susannah McCorkle\, Trudy Desmond\, Alana Bridgewater\, Michael Dunston\, Carol Welsman\, Barbra Lica\, and David Clayton Thomas. As a studio bassist\, he played on the 2018 platinum selling video game soundtrack Cuphead .For more information on Paul\, please visit his website.
URL:https://shiningwatersregionalcouncil.ca/event/jazz-reflection-with-paul-novotny-and-friends/
LOCATION:Beach United Church\, 140 Wineva Ave.\, Toronto\, Ontario\, M4E 2T4\, Canada
CATEGORIES:Community Events
ATTACH;FMTTYPE=image/jpeg:https://shiningwatersregionalcouncil.ca/wp-content/uploads/2024/01/JR-Paul-Novotny-website.jpg
END:VEVENT
BEGIN:VEVENT
DTSTART;TZID=America/Toronto:20240204T160000
DTEND;TZID=America/Toronto:20240204T180000
DTSTAMP:20260421T125850
CREATED:20240118T211615Z
LAST-MODIFIED:20240118T211615Z
UID:10001576-1707062400-1707069600@shiningwatersregionalcouncil.ca
SUMMARY:ROMANTIC FAVOURITES
DESCRIPTION:An afternoon of popular music from the classical and musical theatre genres\, presented by world-class musicians Dr. Anton Yeretsky on Violin\,\nand Robert Hennig on Piano and Organ. \nHosted by Humber Valley United Church\, 76 Anglesey Blvd. Etobicoke. Tickets $30 via Eventbrite.com or call 416-231-2263 X39. \nA great way to kick-off the Valentine season. \nProceeds support the church ministries. Details at www.hvuc.ca
URL:https://shiningwatersregionalcouncil.ca/event/romantic-favourites/
LOCATION:Humber Valley United Church\, 76 Anglesey Blvd.\, Toronto\, ON\, M9A 3C1\, Canada
CATEGORIES:Community Events
ATTACH;FMTTYPE=image/jpeg:https://shiningwatersregionalcouncil.ca/wp-content/uploads/2024/01/Romantic-favourites-2.jpeg
ORGANIZER;CN="Humber Valley United Church":MAILTO:info@hvuc.ca
END:VEVENT
END:VCALENDAR