BEGIN:VCALENDAR
VERSION:2.0
PRODID:-//Shining Waters - ECPv6.15.20//NONSGML v1.0//EN
CALSCALE:GREGORIAN
METHOD:PUBLISH
X-ORIGINAL-URL:https://shiningwatersregionalcouncil.ca
X-WR-CALDESC:Events for Shining Waters
REFRESH-INTERVAL;VALUE=DURATION:PT1H
X-Robots-Tag:noindex
X-PUBLISHED-TTL:PT1H
BEGIN:VTIMEZONE
TZID:America/Toronto
BEGIN:DAYLIGHT
TZOFFSETFROM:-0500
TZOFFSETTO:-0400
TZNAME:EDT
DTSTART:20230312T070000
END:DAYLIGHT
BEGIN:STANDARD
TZOFFSETFROM:-0400
TZOFFSETTO:-0500
TZNAME:EST
DTSTART:20231105T060000
END:STANDARD
BEGIN:DAYLIGHT
TZOFFSETFROM:-0500
TZOFFSETTO:-0400
TZNAME:EDT
DTSTART:20240310T070000
END:DAYLIGHT
BEGIN:STANDARD
TZOFFSETFROM:-0400
TZOFFSETTO:-0500
TZNAME:EST
DTSTART:20241103T060000
END:STANDARD
BEGIN:DAYLIGHT
TZOFFSETFROM:-0500
TZOFFSETTO:-0400
TZNAME:EDT
DTSTART:20250309T070000
END:DAYLIGHT
BEGIN:STANDARD
TZOFFSETFROM:-0400
TZOFFSETTO:-0500
TZNAME:EST
DTSTART:20251102T060000
END:STANDARD
END:VTIMEZONE
BEGIN:VEVENT
DTSTART;TZID=America/Toronto:20240124T190000
DTEND;TZID=America/Toronto:20240124T210000
DTSTAMP:20260422T190805
CREATED:20240111T203241Z
LAST-MODIFIED:20240111T203255Z
UID:10001538-1706122800-1706130000@shiningwatersregionalcouncil.ca
SUMMARY:Facing Tears and Fire
DESCRIPTION:Everyone is invited to Facing Tears & Fire\, a two-part online series creating a space to reflect on global conflict from a Christian perspective\, explore various responses to difficult media reports\, and look together at what resources we might draw on. And\, how might we be peace agents\, wherever we are. \nFacilitated by: Paul Hutchinson (mediator\, peace activist) \nWednesday\, January 17\, 2024\nWednesday\, January 24\, 2024\n7:00 to 9:00 pm \nDetails and registration at: https://islingtonunited.org/event/facing-tears-fire/2024-01-17/
URL:https://shiningwatersregionalcouncil.ca/event/facing-tears-and-fire/2024-01-24/
LOCATION:Online via Zoom
CATEGORIES:Community Events
ATTACH;FMTTYPE=image/png:https://shiningwatersregionalcouncil.ca/wp-content/uploads/2024/01/Facing-Tears-Fire.png
ORGANIZER;CN="Islington United Church":MAILTO:office@islingtonunited.org
END:VEVENT
BEGIN:VEVENT
DTSTART;TZID=America/Toronto:20240125T174500
DTEND;TZID=America/Toronto:20240125T183000
DTSTAMP:20260422T190805
CREATED:20231106T230136Z
LAST-MODIFIED:20231106T230136Z
UID:10001388-1706204700-1706207400@shiningwatersregionalcouncil.ca
SUMMARY:Beach United Children's Choir Practices
DESCRIPTION:Sheila Brand\, a member of our choir\, is leading our new Children’s Choir! Sheila is a former music teacher using the Orff Approach\, for vocal\, ukulele and drama/dance programs at Williamson Road Public School. \nChildren ages 7-12 are welcome\, and free to anyone to join! You may contact Sheila at sheilabb@rogers.com for more information \nPractices usually take place every Thursday from 5:45pm-6:30pm. \nPlease visit our website and social media accounts for updated times (beachunitedchurch.com)
URL:https://shiningwatersregionalcouncil.ca/event/beach-united-childrens-choir-practices/2024-01-25/
LOCATION:Beach United Church\, 140 Wineva Ave.\, Toronto\, Ontario\, M4E 2T4\, Canada
CATEGORIES:Community Events
ATTACH;FMTTYPE=image/jpeg:https://shiningwatersregionalcouncil.ca/wp-content/uploads/2023/11/ChildrensChoir-2023-8.5x11-scaled.jpg
END:VEVENT
BEGIN:VEVENT
DTSTART;TZID=America/Toronto:20240126T100000
DTEND;TZID=America/Toronto:20240126T110000
DTSTAMP:20260422T190805
CREATED:20230929T195142Z
LAST-MODIFIED:20240710T202535Z
UID:10004066-1706263200-1706266800@shiningwatersregionalcouncil.ca
SUMMARY:Rimbala Classes for Seniors
DESCRIPTION:Rimbala is an evidence-based falls prevention program that uses music as the principle means of intervention. Based on the work of visionary Swiss composer Émile Jaques-Dalcroze\, Rimbala enjoys one of the highest falls prevention results in the world\, with a 54% reduction in falls for community-dwelling seniors. \nOlder adults improve their gait (walking style)\, mobility\, cognitive skills and social intelligence in a relaxed but joyous setting. The improvised music brings fresh neuroplastic experiences that improves the connection between the body and brain in ways that conventional exercise cannot. Because music is broadly distributed in the brain\, there is a hypothesis that gentle exercise with cognitive components can prevent participants from the ravages of dementia — including Alzheimer’s. \nFor more information\, please visit: www.rimbala.com \nClasses are held at: \nRosedale United Church 159 Roxborough Dr\, Toronto Wednesdays 11:30 AM-12:30 PM $20.00 per session \nand online at various times throughout the week. \nPlease contact Dr. Daniel Rubinoff: 416.709.8381 doctor.rimbala@gmail.com
URL:https://shiningwatersregionalcouncil.ca/event/rimbala-classes-for-seniors/2024-01-26/
LOCATION:Ontario
CATEGORIES:Community Events
ATTACH;FMTTYPE=image/jpeg:https://shiningwatersregionalcouncil.ca/wp-content/uploads/2023/09/Rimbala-Picture-1-scaled.jpg
END:VEVENT
BEGIN:VEVENT
DTSTART;TZID=America/Toronto:20240126T180000
DTEND;TZID=America/Toronto:20240126T200000
DTSTAMP:20260422T190805
CREATED:20240111T203441Z
LAST-MODIFIED:20240111T203441Z
UID:10001535-1706292000-1706299200@shiningwatersregionalcouncil.ca
SUMMARY:Lets Talk ...Climate Change and What We Can Do
DESCRIPTION:In person and online – see website for link\n6:30 pm Gathering\n7 pm Guest Speaker Esther Collier\, United Church of Canada\nFollowed by discussion
URL:https://shiningwatersregionalcouncil.ca/event/lets-talk-climate-change-and-what-we-can-do/
LOCATION:Bolton United Church\, 8 Nancy Street\, Bolton\, Ontario\, L7E 1C7\, Canada
CATEGORIES:Community Events
ATTACH;FMTTYPE=image/jpeg:https://shiningwatersregionalcouncil.ca/wp-content/uploads/2024/01/Lets-Talk-.-January-26-2024.jpg
ORGANIZER;CN="Bolton United Church":MAILTO:office@boltonunitedchurch.com
END:VEVENT
END:VCALENDAR