BEGIN:VCALENDAR
VERSION:2.0
PRODID:-//Shining Waters - ECPv6.15.20//NONSGML v1.0//EN
CALSCALE:GREGORIAN
METHOD:PUBLISH
X-ORIGINAL-URL:https://shiningwatersregionalcouncil.ca
X-WR-CALDESC:Events for Shining Waters
REFRESH-INTERVAL;VALUE=DURATION:PT1H
X-Robots-Tag:noindex
X-PUBLISHED-TTL:PT1H
BEGIN:VTIMEZONE
TZID:America/Toronto
BEGIN:DAYLIGHT
TZOFFSETFROM:-0500
TZOFFSETTO:-0400
TZNAME:EDT
DTSTART:20230312T070000
END:DAYLIGHT
BEGIN:STANDARD
TZOFFSETFROM:-0400
TZOFFSETTO:-0500
TZNAME:EST
DTSTART:20231105T060000
END:STANDARD
BEGIN:DAYLIGHT
TZOFFSETFROM:-0500
TZOFFSETTO:-0400
TZNAME:EDT
DTSTART:20240310T070000
END:DAYLIGHT
BEGIN:STANDARD
TZOFFSETFROM:-0400
TZOFFSETTO:-0500
TZNAME:EST
DTSTART:20241103T060000
END:STANDARD
BEGIN:DAYLIGHT
TZOFFSETFROM:-0500
TZOFFSETTO:-0400
TZNAME:EDT
DTSTART:20250309T070000
END:DAYLIGHT
BEGIN:STANDARD
TZOFFSETFROM:-0400
TZOFFSETTO:-0500
TZNAME:EST
DTSTART:20251102T060000
END:STANDARD
END:VTIMEZONE
BEGIN:VEVENT
DTSTART;TZID=America/Toronto:20240117T120000
DTEND;TZID=America/Toronto:20240117T130000
DTSTAMP:20260425T213949
CREATED:20231219T221100Z
LAST-MODIFIED:20231219T221100Z
UID:10001452-1705492800-1705496400@shiningwatersregionalcouncil.ca
SUMMARY:Benefits of Engaging Newcomer Youth in Community
DESCRIPTION:This event is for private refugee sponsors. Discussions will explore building self-esteem\, acquiring new skills\, connection and inclusion\, and how they all lead to effective settlement. Join us to learn how to better understand the importance of\nyouth engagement when we hear from an expert who lives this topic every day. Bring your experience to share in breakout\ndiscussion with your fellow sponsors. Or\, if a first-time sponsor bring your questions. One-hour of your time is all it takes to\nwork toward best practice in your own sponsor group.\n• Learn how to create opportunities for youth to express themselves\n• Discuss how you can help young people build skills and networks\n• Identify how to improve social-emotional well-being\n• Explore the importance of volunteering\n• Learn about the benefits of the arts and sports in community engagement
URL:https://shiningwatersregionalcouncil.ca/event/benefits-of-engaging-newcomer-youth-in-community/
LOCATION:Online
CATEGORIES:Community Events
ATTACH;FMTTYPE=image/jpeg:https://shiningwatersregionalcouncil.ca/wp-content/uploads/2023/12/Lunch-and-learn_Jan-2024__JPegfnl.jpg
ORGANIZER;CN="Private refugee Sponsor Network (Ontario)":MAILTO:b.sheffield@rogers.com
END:VEVENT
BEGIN:VEVENT
DTSTART;TZID=America/Toronto:20240117T190000
DTEND;TZID=America/Toronto:20240117T210000
DTSTAMP:20260425T213949
CREATED:20240111T203241Z
LAST-MODIFIED:20240111T203255Z
UID:10001537-1705518000-1705525200@shiningwatersregionalcouncil.ca
SUMMARY:Facing Tears and Fire
DESCRIPTION:Everyone is invited to Facing Tears & Fire\, a two-part online series creating a space to reflect on global conflict from a Christian perspective\, explore various responses to difficult media reports\, and look together at what resources we might draw on. And\, how might we be peace agents\, wherever we are. \nFacilitated by: Paul Hutchinson (mediator\, peace activist) \nWednesday\, January 17\, 2024\nWednesday\, January 24\, 2024\n7:00 to 9:00 pm \nDetails and registration at: https://islingtonunited.org/event/facing-tears-fire/2024-01-17/
URL:https://shiningwatersregionalcouncil.ca/event/facing-tears-and-fire/2024-01-17/
LOCATION:Online via Zoom
CATEGORIES:Community Events
ATTACH;FMTTYPE=image/png:https://shiningwatersregionalcouncil.ca/wp-content/uploads/2024/01/Facing-Tears-Fire.png
ORGANIZER;CN="Islington United Church":MAILTO:office@islingtonunited.org
END:VEVENT
BEGIN:VEVENT
DTSTART;TZID=America/Toronto:20240118T160000
DTEND;TZID=America/Toronto:20240118T190000
DTSTAMP:20260425T213949
CREATED:20240111T203333Z
LAST-MODIFIED:20240531T211742Z
UID:10001539-1705593600-1705604400@shiningwatersregionalcouncil.ca
SUMMARY:Queer Youth United
DESCRIPTION:Queer Youth United (QYU) meets on Thursdays from 4-7pm at Beach United Church (140 Wineva Ave.) – you may drop in at any time between those hours. \nQYU is a weekly drop in for youth and young adults (15-29) who identify within the Queer community\, and more specifically with a desire to focus on the experiences and needs of transgender people. Beach United Church offers safe(r) space for transgender and questioning individuals in a space that offers positive alternatives to engaging the world. QYU is about celebrating and encouraging queer youth in the universal call to “live as our authentic selves”. \nWe post updates on our Instagram account over at @queeryouthunited\, which is maintained by our coordinator\, Corin Collins.
URL:https://shiningwatersregionalcouncil.ca/event/queer-youth-united-2/2024-01-18/
LOCATION:Beach United Church\, 140 Wineva Ave.\, Toronto\, Ontario\, M4E 2T4\, Canada
CATEGORIES:Community Events
ATTACH;FMTTYPE=image/jpeg:https://shiningwatersregionalcouncil.ca/wp-content/uploads/2024/01/QYU-Poster-Website-2024.jpg
END:VEVENT
BEGIN:VEVENT
DTSTART;TZID=America/Toronto:20240118T174500
DTEND;TZID=America/Toronto:20240118T183000
DTSTAMP:20260425T213949
CREATED:20231106T230136Z
LAST-MODIFIED:20231106T230136Z
UID:10001387-1705599900-1705602600@shiningwatersregionalcouncil.ca
SUMMARY:Beach United Children's Choir Practices
DESCRIPTION:Sheila Brand\, a member of our choir\, is leading our new Children’s Choir! Sheila is a former music teacher using the Orff Approach\, for vocal\, ukulele and drama/dance programs at Williamson Road Public School. \nChildren ages 7-12 are welcome\, and free to anyone to join! You may contact Sheila at sheilabb@rogers.com for more information \nPractices usually take place every Thursday from 5:45pm-6:30pm. \nPlease visit our website and social media accounts for updated times (beachunitedchurch.com)
URL:https://shiningwatersregionalcouncil.ca/event/beach-united-childrens-choir-practices/2024-01-18/
LOCATION:Beach United Church\, 140 Wineva Ave.\, Toronto\, Ontario\, M4E 2T4\, Canada
CATEGORIES:Community Events
ATTACH;FMTTYPE=image/jpeg:https://shiningwatersregionalcouncil.ca/wp-content/uploads/2023/11/ChildrensChoir-2023-8.5x11-scaled.jpg
END:VEVENT
END:VCALENDAR