BEGIN:VCALENDAR
VERSION:2.0
PRODID:-//Shining Waters - ECPv6.15.20//NONSGML v1.0//EN
CALSCALE:GREGORIAN
METHOD:PUBLISH
X-WR-CALNAME:Shining Waters
X-ORIGINAL-URL:https://shiningwatersregionalcouncil.ca
X-WR-CALDESC:Events for Shining Waters
REFRESH-INTERVAL;VALUE=DURATION:PT1H
X-Robots-Tag:noindex
X-PUBLISHED-TTL:PT1H
BEGIN:VTIMEZONE
TZID:America/Toronto
BEGIN:DAYLIGHT
TZOFFSETFROM:-0500
TZOFFSETTO:-0400
TZNAME:EDT
DTSTART:20240310T070000
END:DAYLIGHT
BEGIN:STANDARD
TZOFFSETFROM:-0400
TZOFFSETTO:-0500
TZNAME:EST
DTSTART:20241103T060000
END:STANDARD
BEGIN:DAYLIGHT
TZOFFSETFROM:-0500
TZOFFSETTO:-0400
TZNAME:EDT
DTSTART:20250309T070000
END:DAYLIGHT
BEGIN:STANDARD
TZOFFSETFROM:-0400
TZOFFSETTO:-0500
TZNAME:EST
DTSTART:20251102T060000
END:STANDARD
BEGIN:DAYLIGHT
TZOFFSETFROM:-0500
TZOFFSETTO:-0400
TZNAME:EDT
DTSTART:20260308T070000
END:DAYLIGHT
BEGIN:STANDARD
TZOFFSETFROM:-0400
TZOFFSETTO:-0500
TZNAME:EST
DTSTART:20261101T060000
END:STANDARD
END:VTIMEZONE
BEGIN:VEVENT
DTSTART;TZID=America/Toronto:20250921T103000
DTEND;TZID=America/Toronto:20250921T123000
DTSTAMP:20260423T125538
CREATED:20250902T210141Z
LAST-MODIFIED:20250902T210141Z
UID:10004792-1758450600-1758457800@shiningwatersregionalcouncil.ca
SUMMARY:Outdoor Worship and Barbecue
DESCRIPTION:On Sunday\, September 21st\, enjoy a special outdoor worship service\, live-streamed on YouTube\, followed by our annual BBQ with burgers\, hot dogs\, and veggie/gluten-free options. \nJust bring yourself—food and fellowship await! \nIn case of rain\, we’ll move indoors to Memorial Hall.
URL:https://shiningwatersregionalcouncil.ca/event/outdoor-worship-and-barbecue/
LOCATION:Runnymede United Church\, 432 Runnymede Rd\, Toronto\, ON\, M6S 2Y8\, Canada
CATEGORIES:Community Events,Livestreaming
ORGANIZER;CN="Runnymede United Church":MAILTO:office@runnymedeunited.org
END:VEVENT
END:VCALENDAR