BEGIN:VCALENDAR
VERSION:2.0
PRODID:-//Shining Waters - ECPv6.15.20//NONSGML v1.0//EN
CALSCALE:GREGORIAN
METHOD:PUBLISH
X-ORIGINAL-URL:https://shiningwatersregionalcouncil.ca
X-WR-CALDESC:Events for Shining Waters
REFRESH-INTERVAL;VALUE=DURATION:PT1H
X-Robots-Tag:noindex
X-PUBLISHED-TTL:PT1H
BEGIN:VTIMEZONE
TZID:America/Toronto
BEGIN:DAYLIGHT
TZOFFSETFROM:-0500
TZOFFSETTO:-0400
TZNAME:EDT
DTSTART:20210314T070000
END:DAYLIGHT
BEGIN:STANDARD
TZOFFSETFROM:-0400
TZOFFSETTO:-0500
TZNAME:EST
DTSTART:20211107T060000
END:STANDARD
BEGIN:DAYLIGHT
TZOFFSETFROM:-0500
TZOFFSETTO:-0400
TZNAME:EDT
DTSTART:20220313T070000
END:DAYLIGHT
BEGIN:STANDARD
TZOFFSETFROM:-0400
TZOFFSETTO:-0500
TZNAME:EST
DTSTART:20221106T060000
END:STANDARD
BEGIN:DAYLIGHT
TZOFFSETFROM:-0500
TZOFFSETTO:-0400
TZNAME:EDT
DTSTART:20230312T070000
END:DAYLIGHT
BEGIN:STANDARD
TZOFFSETFROM:-0400
TZOFFSETTO:-0500
TZNAME:EST
DTSTART:20231105T060000
END:STANDARD
END:VTIMEZONE
BEGIN:VEVENT
DTSTART;TZID=America/Toronto:20220213T103000
DTEND;TZID=America/Toronto:20220213T113000
DTSTAMP:20260419T150527
CREATED:20220105T190438Z
LAST-MODIFIED:20220105T190438Z
UID:10000013-1644748200-1644751800@shiningwatersregionalcouncil.ca
SUMMARY:Sunday Morning Online Service at Lawrence Park Community Church
DESCRIPTION:Welcome to Lawrence Park Community Church. \nSmart sermons\, great music\, and a passion for justice. That’s what we’re about. \nWhere are we? Well\, physically we’re located in North Toronto\, in the Lawrence Park neighbourhood\, but we also live\, hang out\, pray\, talk and explore online. We are an affirming congregation\, which means we welcome people of all genders\, sexualities and abilities. \nWe’re a vibrant congregation of people who like to ask questions\, and push our faith to be relevant to life in our times. We like to ask questions\, talk about difficult issues\, and make a difference to our lives and the lives of others. \nLike most churches\, we worship every Sunday morning at 10:30 a.m.. We value smart sermons that wrestle with the Bible and apply it to the modern world in a way that is insightful and useful. We have a great music program\, with live musicians and singers. We broadcast our services from our beautiful\, modern sanctuary\, and we have congregants in house when allowed. You can check out past services on our YouTube channel\, and past sermons on our website.
URL:https://shiningwatersregionalcouncil.ca/event/sunday-morning-online-service-at-lawrence-park-community-church-5/2022-02-13/
LOCATION:Lawrence Park Community Church\, 2180 Bayview Ave\, North York\, Ontario\, M4N 3K7\, Canada
CATEGORIES:Affirming,Educational,Justice,Livestreaming
ATTACH;FMTTYPE=image/png:https://shiningwatersregionalcouncil.ca/wp-content/uploads/2022/01/Church-Pic-e1641409434912.png
ORGANIZER;CN="Lawrence Park Community Church":MAILTO:info@lawrenceparkchurch.ca
END:VEVENT
BEGIN:VEVENT
DTSTART;TZID=America/Toronto:20220206T103000
DTEND;TZID=America/Toronto:20220206T113000
DTSTAMP:20260419T150527
CREATED:20220119T210135Z
LAST-MODIFIED:20220119T210135Z
UID:10000025-1644143400-1644147000@shiningwatersregionalcouncil.ca
SUMMARY:Sunday Morning Worship
DESCRIPTION:Online Sunday Morning Worship Service
URL:https://shiningwatersregionalcouncil.ca/event/sunday-morning-worship-6/2022-02-06/
LOCATION:Runnymede United Church\, 432 Runnymede Rd\, Toronto\, ON\, M6S 2Y8\, Canada
CATEGORIES:Livestreaming
ORGANIZER;CN="Runnymede United Church":MAILTO:office@runnymedeunited.org
END:VEVENT
BEGIN:VEVENT
DTSTART;TZID=America/Toronto:20220206T103000
DTEND;TZID=America/Toronto:20220206T113000
DTSTAMP:20260419T150527
CREATED:20220105T190438Z
LAST-MODIFIED:20220105T190438Z
UID:10000012-1644143400-1644147000@shiningwatersregionalcouncil.ca
SUMMARY:Sunday Morning Online Service at Lawrence Park Community Church
DESCRIPTION:Welcome to Lawrence Park Community Church. \nSmart sermons\, great music\, and a passion for justice. That’s what we’re about. \nWhere are we? Well\, physically we’re located in North Toronto\, in the Lawrence Park neighbourhood\, but we also live\, hang out\, pray\, talk and explore online. We are an affirming congregation\, which means we welcome people of all genders\, sexualities and abilities. \nWe’re a vibrant congregation of people who like to ask questions\, and push our faith to be relevant to life in our times. We like to ask questions\, talk about difficult issues\, and make a difference to our lives and the lives of others. \nLike most churches\, we worship every Sunday morning at 10:30 a.m.. We value smart sermons that wrestle with the Bible and apply it to the modern world in a way that is insightful and useful. We have a great music program\, with live musicians and singers. We broadcast our services from our beautiful\, modern sanctuary\, and we have congregants in house when allowed. You can check out past services on our YouTube channel\, and past sermons on our website.
URL:https://shiningwatersregionalcouncil.ca/event/sunday-morning-online-service-at-lawrence-park-community-church-5/2022-02-06/
LOCATION:Lawrence Park Community Church\, 2180 Bayview Ave\, North York\, Ontario\, M4N 3K7\, Canada
CATEGORIES:Affirming,Educational,Justice,Livestreaming
ATTACH;FMTTYPE=image/png:https://shiningwatersregionalcouncil.ca/wp-content/uploads/2022/01/Church-Pic-e1641409434912.png
ORGANIZER;CN="Lawrence Park Community Church":MAILTO:info@lawrenceparkchurch.ca
END:VEVENT
BEGIN:VEVENT
DTSTART;TZID=America/Toronto:20220130T103000
DTEND;TZID=America/Toronto:20220130T113000
DTSTAMP:20260419T150527
CREATED:20220119T210135Z
LAST-MODIFIED:20220119T210135Z
UID:10000024-1643538600-1643542200@shiningwatersregionalcouncil.ca
SUMMARY:Sunday Morning Worship
DESCRIPTION:Online Sunday Morning Worship Service
URL:https://shiningwatersregionalcouncil.ca/event/sunday-morning-worship-6/2022-01-30/
LOCATION:Runnymede United Church\, 432 Runnymede Rd\, Toronto\, ON\, M6S 2Y8\, Canada
CATEGORIES:Livestreaming
ORGANIZER;CN="Runnymede United Church":MAILTO:office@runnymedeunited.org
END:VEVENT
BEGIN:VEVENT
DTSTART;TZID=America/Toronto:20220130T103000
DTEND;TZID=America/Toronto:20220130T113000
DTSTAMP:20260419T150527
CREATED:20220105T190438Z
LAST-MODIFIED:20220105T190438Z
UID:10000011-1643538600-1643542200@shiningwatersregionalcouncil.ca
SUMMARY:Sunday Morning Online Service at Lawrence Park Community Church
DESCRIPTION:Welcome to Lawrence Park Community Church. \nSmart sermons\, great music\, and a passion for justice. That’s what we’re about. \nWhere are we? Well\, physically we’re located in North Toronto\, in the Lawrence Park neighbourhood\, but we also live\, hang out\, pray\, talk and explore online. We are an affirming congregation\, which means we welcome people of all genders\, sexualities and abilities. \nWe’re a vibrant congregation of people who like to ask questions\, and push our faith to be relevant to life in our times. We like to ask questions\, talk about difficult issues\, and make a difference to our lives and the lives of others. \nLike most churches\, we worship every Sunday morning at 10:30 a.m.. We value smart sermons that wrestle with the Bible and apply it to the modern world in a way that is insightful and useful. We have a great music program\, with live musicians and singers. We broadcast our services from our beautiful\, modern sanctuary\, and we have congregants in house when allowed. You can check out past services on our YouTube channel\, and past sermons on our website.
URL:https://shiningwatersregionalcouncil.ca/event/sunday-morning-online-service-at-lawrence-park-community-church-5/2022-01-30/
LOCATION:Lawrence Park Community Church\, 2180 Bayview Ave\, North York\, Ontario\, M4N 3K7\, Canada
CATEGORIES:Affirming,Educational,Justice,Livestreaming
ATTACH;FMTTYPE=image/png:https://shiningwatersregionalcouncil.ca/wp-content/uploads/2022/01/Church-Pic-e1641409434912.png
ORGANIZER;CN="Lawrence Park Community Church":MAILTO:info@lawrenceparkchurch.ca
END:VEVENT
BEGIN:VEVENT
DTSTART;TZID=America/Toronto:20220130T100000
DTEND;TZID=America/Toronto:20220130T100000
DTSTAMP:20260419T150527
CREATED:20220107T195821Z
LAST-MODIFIED:20220107T203243Z
UID:10000017-1643536800-1643536800@shiningwatersregionalcouncil.ca
SUMMARY:Knox United Church Worship - January 30\, 2022
DESCRIPTION:After many months\, Knox returned to in-person worship for Advent 2\, 3 and 4. The Knox Council suspended in-person worship services indefinitely on December 20. This was done for everyone’s safety and in response to provincial guidelines. \nSunday\, January 30: Fourth Sunday after Epiphany\nScripture: Jeremiah 1:4-10\nRev. Bright Yun’s Message: Stay Positive toward Yourself! \nPlease join our service at www.myknox.ca
URL:https://shiningwatersregionalcouncil.ca/event/knox-united-church-worship-january-30-2022/
LOCATION:online event
CATEGORIES:Livestreaming
ATTACH;FMTTYPE=image/jpeg:https://shiningwatersregionalcouncil.ca/wp-content/uploads/2022/01/2022-January-Knox-3-e1641585441767.jpg
END:VEVENT
BEGIN:VEVENT
DTSTART;TZID=America/Toronto:20220123T103000
DTEND;TZID=America/Toronto:20220123T113000
DTSTAMP:20260419T150527
CREATED:20220119T210135Z
LAST-MODIFIED:20220119T210135Z
UID:10000023-1642933800-1642937400@shiningwatersregionalcouncil.ca
SUMMARY:Sunday Morning Worship
DESCRIPTION:Online Sunday Morning Worship Service
URL:https://shiningwatersregionalcouncil.ca/event/sunday-morning-worship-6/2022-01-23/
LOCATION:Runnymede United Church\, 432 Runnymede Rd\, Toronto\, ON\, M6S 2Y8\, Canada
CATEGORIES:Livestreaming
ORGANIZER;CN="Runnymede United Church":MAILTO:office@runnymedeunited.org
END:VEVENT
BEGIN:VEVENT
DTSTART;TZID=America/Toronto:20220123T103000
DTEND;TZID=America/Toronto:20220123T113000
DTSTAMP:20260419T150527
CREATED:20220105T190438Z
LAST-MODIFIED:20220105T190438Z
UID:10000010-1642933800-1642937400@shiningwatersregionalcouncil.ca
SUMMARY:Sunday Morning Online Service at Lawrence Park Community Church
DESCRIPTION:Welcome to Lawrence Park Community Church. \nSmart sermons\, great music\, and a passion for justice. That’s what we’re about. \nWhere are we? Well\, physically we’re located in North Toronto\, in the Lawrence Park neighbourhood\, but we also live\, hang out\, pray\, talk and explore online. We are an affirming congregation\, which means we welcome people of all genders\, sexualities and abilities. \nWe’re a vibrant congregation of people who like to ask questions\, and push our faith to be relevant to life in our times. We like to ask questions\, talk about difficult issues\, and make a difference to our lives and the lives of others. \nLike most churches\, we worship every Sunday morning at 10:30 a.m.. We value smart sermons that wrestle with the Bible and apply it to the modern world in a way that is insightful and useful. We have a great music program\, with live musicians and singers. We broadcast our services from our beautiful\, modern sanctuary\, and we have congregants in house when allowed. You can check out past services on our YouTube channel\, and past sermons on our website.
URL:https://shiningwatersregionalcouncil.ca/event/sunday-morning-online-service-at-lawrence-park-community-church-5/2022-01-23/
LOCATION:Lawrence Park Community Church\, 2180 Bayview Ave\, North York\, Ontario\, M4N 3K7\, Canada
CATEGORIES:Affirming,Educational,Justice,Livestreaming
ATTACH;FMTTYPE=image/png:https://shiningwatersregionalcouncil.ca/wp-content/uploads/2022/01/Church-Pic-e1641409434912.png
ORGANIZER;CN="Lawrence Park Community Church":MAILTO:info@lawrenceparkchurch.ca
END:VEVENT
BEGIN:VEVENT
DTSTART;TZID=America/Toronto:20220123T100000
DTEND;TZID=America/Toronto:20220123T100000
DTSTAMP:20260419T150527
CREATED:20220107T201731Z
LAST-MODIFIED:20220107T201731Z
UID:10000020-1642932000-1642932000@shiningwatersregionalcouncil.ca
SUMMARY:Knox United Church Worship - January 23\, 2022
DESCRIPTION:After many months\, Knox returned to in-person worship for Advent 2\, 3 and 4. The Knox Council suspended in-person worship services indefinitely on December 20. This was done for everyone’s safety and in response to provincial guidelines. \nSunday\, January 23: Third Sunday after Epiphany \nScripture: Nehemiah 8:1-3\, 5-6\, and 8-10\nRev. Bright Yun’s Message: Know What to Ignore! \nPlease join our service at www.myknox.ca
URL:https://shiningwatersregionalcouncil.ca/event/knox-united-church-worship-january-23-2022/
LOCATION:online event
CATEGORIES:Livestreaming
ATTACH;FMTTYPE=image/jpeg:https://shiningwatersregionalcouncil.ca/wp-content/uploads/2022/01/2022-January-Knox-2-e1641586615155.jpg
END:VEVENT
BEGIN:VEVENT
DTSTART;TZID=America/Toronto:20220116T103000
DTEND;TZID=America/Toronto:20220116T113000
DTSTAMP:20260419T150527
CREATED:20220105T190438Z
LAST-MODIFIED:20220105T190438Z
UID:10000009-1642329000-1642332600@shiningwatersregionalcouncil.ca
SUMMARY:Sunday Morning Online Service at Lawrence Park Community Church
DESCRIPTION:Welcome to Lawrence Park Community Church. \nSmart sermons\, great music\, and a passion for justice. That’s what we’re about. \nWhere are we? Well\, physically we’re located in North Toronto\, in the Lawrence Park neighbourhood\, but we also live\, hang out\, pray\, talk and explore online. We are an affirming congregation\, which means we welcome people of all genders\, sexualities and abilities. \nWe’re a vibrant congregation of people who like to ask questions\, and push our faith to be relevant to life in our times. We like to ask questions\, talk about difficult issues\, and make a difference to our lives and the lives of others. \nLike most churches\, we worship every Sunday morning at 10:30 a.m.. We value smart sermons that wrestle with the Bible and apply it to the modern world in a way that is insightful and useful. We have a great music program\, with live musicians and singers. We broadcast our services from our beautiful\, modern sanctuary\, and we have congregants in house when allowed. You can check out past services on our YouTube channel\, and past sermons on our website.
URL:https://shiningwatersregionalcouncil.ca/event/sunday-morning-online-service-at-lawrence-park-community-church-5/2022-01-16/
LOCATION:Lawrence Park Community Church\, 2180 Bayview Ave\, North York\, Ontario\, M4N 3K7\, Canada
CATEGORIES:Affirming,Educational,Justice,Livestreaming
ATTACH;FMTTYPE=image/png:https://shiningwatersregionalcouncil.ca/wp-content/uploads/2022/01/Church-Pic-e1641409434912.png
ORGANIZER;CN="Lawrence Park Community Church":MAILTO:info@lawrenceparkchurch.ca
END:VEVENT
BEGIN:VEVENT
DTSTART;TZID=America/Toronto:20220116T100000
DTEND;TZID=America/Toronto:20220116T100000
DTSTAMP:20260419T150527
CREATED:20220107T201514Z
LAST-MODIFIED:20220107T201514Z
UID:10000019-1642327200-1642327200@shiningwatersregionalcouncil.ca
SUMMARY:Knox United Church Worship - January 16\, 2022
DESCRIPTION:After many months\, Knox returned to in-person worship for Advent 2\, 3 and 4. The Knox Council suspended in-person worship services indefinitely on December 20. This was done for everyone’s safety and in response to provincial guidelines. \nSunday\, January 16: Second Sunday after Epiphany\nScripture: John 2:1-11\nMessage: Water to Wine! \nPlease join our service at www.myknox.ca
URL:https://shiningwatersregionalcouncil.ca/event/knox-united-church-worship-january-16-2022/
LOCATION:online event
CATEGORIES:Livestreaming
ATTACH;FMTTYPE=image/jpeg:https://shiningwatersregionalcouncil.ca/wp-content/uploads/2022/01/2022-January-Knox-1-e1641586486564.jpg
END:VEVENT
BEGIN:VEVENT
DTSTART;TZID=America/Toronto:20220109T103000
DTEND;TZID=America/Toronto:20220109T113000
DTSTAMP:20260419T150527
CREATED:20220105T190438Z
LAST-MODIFIED:20220105T190438Z
UID:10000008-1641724200-1641727800@shiningwatersregionalcouncil.ca
SUMMARY:Sunday Morning Online Service at Lawrence Park Community Church
DESCRIPTION:Welcome to Lawrence Park Community Church. \nSmart sermons\, great music\, and a passion for justice. That’s what we’re about. \nWhere are we? Well\, physically we’re located in North Toronto\, in the Lawrence Park neighbourhood\, but we also live\, hang out\, pray\, talk and explore online. We are an affirming congregation\, which means we welcome people of all genders\, sexualities and abilities. \nWe’re a vibrant congregation of people who like to ask questions\, and push our faith to be relevant to life in our times. We like to ask questions\, talk about difficult issues\, and make a difference to our lives and the lives of others. \nLike most churches\, we worship every Sunday morning at 10:30 a.m.. We value smart sermons that wrestle with the Bible and apply it to the modern world in a way that is insightful and useful. We have a great music program\, with live musicians and singers. We broadcast our services from our beautiful\, modern sanctuary\, and we have congregants in house when allowed. You can check out past services on our YouTube channel\, and past sermons on our website.
URL:https://shiningwatersregionalcouncil.ca/event/sunday-morning-online-service-at-lawrence-park-community-church-5/2022-01-09/
LOCATION:Lawrence Park Community Church\, 2180 Bayview Ave\, North York\, Ontario\, M4N 3K7\, Canada
CATEGORIES:Affirming,Educational,Justice,Livestreaming
ATTACH;FMTTYPE=image/png:https://shiningwatersregionalcouncil.ca/wp-content/uploads/2022/01/Church-Pic-e1641409434912.png
ORGANIZER;CN="Lawrence Park Community Church":MAILTO:info@lawrenceparkchurch.ca
END:VEVENT
BEGIN:VEVENT
DTSTART;TZID=America/Toronto:20220109T103000
DTEND;TZID=America/Toronto:20220109T113000
DTSTAMP:20260419T150527
CREATED:20211222T202144Z
LAST-MODIFIED:20211222T202144Z
UID:10000069-1641724200-1641727800@shiningwatersregionalcouncil.ca
SUMMARY:Chosen Home Sunday
DESCRIPTION:You are more than welcome to attend Sunday services at Islington United. At 10:30am on Sunday\, January 9 we will mark the theme of Chosen Home. Details: https://islingtonunited.org/join-us-for-online-worship/
URL:https://shiningwatersregionalcouncil.ca/event/chosen-home-sunday/
LOCATION:Zoom\, Canada
CATEGORIES:Livestreaming
ATTACH;FMTTYPE=image/png:https://shiningwatersregionalcouncil.ca/wp-content/uploads/2021/12/chosenhome.png
ORGANIZER;CN="Islington United Church":MAILTO:office@islingtonunited.org
END:VEVENT
BEGIN:VEVENT
DTSTART;TZID=America/Toronto:20220109T100000
DTEND;TZID=America/Toronto:20220109T100000
DTSTAMP:20260419T150527
CREATED:20220107T201143Z
LAST-MODIFIED:20220107T201143Z
UID:10000018-1641722400-1641722400@shiningwatersregionalcouncil.ca
SUMMARY:Knox United Church Worship - January 9\, 2022
DESCRIPTION:After many months\, Knox returned to in-person worship for Advent 2\, 3 and 4. The Knox Council suspended in-person worship services indefinitely on December 20. This was done for everyone’s safety and in response to provincial guidelines. \nSunday\, January 9\, 2022: Baptism of the Lord Sunday\nScripture: Isaiah 43:1-7\nRev. Bright Yun’s message: Fear Not! \nPlease join our service at www.myknox.ca
URL:https://shiningwatersregionalcouncil.ca/event/knox-united-church-worship-january-9-2022/
LOCATION:online event
CATEGORIES:Livestreaming
ATTACH;FMTTYPE=image/jpeg:https://shiningwatersregionalcouncil.ca/wp-content/uploads/2022/01/2022-January-Knox-e1641586264180.jpg
END:VEVENT
BEGIN:VEVENT
DTSTART;TZID=America/Toronto:20220102T103000
DTEND;TZID=America/Toronto:20220102T113000
DTSTAMP:20260419T150527
CREATED:20211222T201828Z
LAST-MODIFIED:20211222T201828Z
UID:10000068-1641119400-1641123000@shiningwatersregionalcouncil.ca
SUMMARY:Epiphany Sunday
DESCRIPTION:You are more than welcome to attend Sunday services at Islington United. At 10:30am on Sunday\, January 2 we will mark the Epiphany Sunday. Details: https://islingtonunited.org/join-us-for-online-worship/
URL:https://shiningwatersregionalcouncil.ca/event/epiphany-sunday/
LOCATION:Zoom\, Canada
CATEGORIES:Livestreaming
ATTACH;FMTTYPE=image/png:https://shiningwatersregionalcouncil.ca/wp-content/uploads/2021/12/ephiphany.png
ORGANIZER;CN="Islington United Church":MAILTO:office@islingtonunited.org
END:VEVENT
END:VCALENDAR