BEGIN:VCALENDAR
VERSION:2.0
PRODID:-//Shining Waters - ECPv6.15.20//NONSGML v1.0//EN
CALSCALE:GREGORIAN
METHOD:PUBLISH
X-ORIGINAL-URL:https://shiningwatersregionalcouncil.ca
X-WR-CALDESC:Events for Shining Waters
REFRESH-INTERVAL;VALUE=DURATION:PT1H
X-Robots-Tag:noindex
X-PUBLISHED-TTL:PT1H
BEGIN:VTIMEZONE
TZID:America/Toronto
BEGIN:DAYLIGHT
TZOFFSETFROM:-0500
TZOFFSETTO:-0400
TZNAME:EDT
DTSTART:20240310T070000
END:DAYLIGHT
BEGIN:STANDARD
TZOFFSETFROM:-0400
TZOFFSETTO:-0500
TZNAME:EST
DTSTART:20241103T060000
END:STANDARD
BEGIN:DAYLIGHT
TZOFFSETFROM:-0500
TZOFFSETTO:-0400
TZNAME:EDT
DTSTART:20250309T070000
END:DAYLIGHT
BEGIN:STANDARD
TZOFFSETFROM:-0400
TZOFFSETTO:-0500
TZNAME:EST
DTSTART:20251102T060000
END:STANDARD
BEGIN:DAYLIGHT
TZOFFSETFROM:-0500
TZOFFSETTO:-0400
TZNAME:EDT
DTSTART:20260308T070000
END:DAYLIGHT
BEGIN:STANDARD
TZOFFSETFROM:-0400
TZOFFSETTO:-0500
TZNAME:EST
DTSTART:20261101T060000
END:STANDARD
END:VTIMEZONE
BEGIN:VEVENT
DTSTART;TZID=America/Toronto:20250505T140000
DTEND;TZID=America/Toronto:20250505T160000
DTSTAMP:20260421T214230
CREATED:20250428T124951Z
LAST-MODIFIED:20250428T124951Z
UID:10004646-1746453600-1746460800@shiningwatersregionalcouncil.ca
SUMMARY:Msko-mjigoodenh Giizhigad Red Dress Day Ceremony
DESCRIPTION:Red Dress Day\, also known as the National Day of Awareness for Missing and Murdered Indigenous Women and Girls and Two-Spirit People\, is observed on May 5th. \nJoin us in the DPNCHC Backyard\, 1900 Davenport Rd\, Toronto\, while Sandra Campbell of TUNM leads us in ceremony through prayers\, smudge\, drum and song.
URL:https://shiningwatersregionalcouncil.ca/event/msko-mjigoodenh-giizhigad-red-dress-day-ceremony/
LOCATION:Davenport Perth Community Ministry\, 1900 Davenport Rd\, Toronto\, Ontario\, M6N 1B7\, Canada
CATEGORIES:Community Events,Educational,Intercultural,Justice,Right Relations
ATTACH;FMTTYPE=image/png:https://shiningwatersregionalcouncil.ca/wp-content/uploads/2025/04/Red-Dress-Event-Flyer.png
ORGANIZER;CN="Davenport Perth Community Ministry":MAILTO:dpcommunityministry@gmail.com
END:VEVENT
BEGIN:VEVENT
DTSTART;TZID=America/Toronto:20250513T130000
DTEND;TZID=America/Toronto:20250513T160000
DTSTAMP:20260421T214230
CREATED:20250429T203424Z
LAST-MODIFIED:20250429T203424Z
UID:10004666-1747141200-1747152000@shiningwatersregionalcouncil.ca
SUMMARY:A Call to Revive: Renew Refugee Sponsorship and Rejuvinate the Community
DESCRIPTION:You are invited to join a meeting: “A Call to Revive: Renew Refugee Sponsorship and Rejuvenate the Community” – event hosted by the United Church of Canada. After registering\, you will receive a confirmation email about joining the meeting. \nJoin this special virtual event hosted by the United Church of Canada\, and organized by the Refugee Sponsorship Training Program (RSTP). Discover the many ways you can sponsor and welcome newcomers into your community\, and learn about the resources and support available to you and your group. \nTopics to be covered include:\n• The long tradition of refugee sponsorship at the United Church of Canada\n• The global plight of refugees and their reasons for resettlement (presented by UNHCR Canada)\n• Extending support to 2SLGBTQIA+ and other vulnerable refugees through partnerships and cost-sharing programs (RRAP\, BVOR\, JAS)\n• Sponsorship training and one-on-one supports available through RSTP staff across Canada\n• The role of settlement agencies in providing personalized support for refugee newcomers from diverse communities\nThis conference will be an excellent opportunity for Communities of Faith to deepen their understanding and enhance their capacity to support refugee sponsorship efforts. \nRegister online here \nUCC May 13 Poster – Call to Revive
URL:https://shiningwatersregionalcouncil.ca/event/a-call-to-revive-renew-refugee-sponsorship-and-rejuvinate-the-community/
LOCATION:online event
CATEGORIES:Community Events,Intercultural
ATTACH;FMTTYPE=image/jpeg:https://shiningwatersregionalcouncil.ca/wp-content/uploads/2025/04/Call-to-Revive-Immigration-poster.jpg
ORGANIZER;CN="The United Church of Canada Refugee Team":MAILTO:kkukubo@united-church.ca
END:VEVENT
BEGIN:VEVENT
DTSTART;VALUE=DATE:20250528
DTEND;VALUE=DATE:20250529
DTSTAMP:20260421T214230
CREATED:20250307T161619Z
LAST-MODIFIED:20250401T132355Z
UID:10004559-1748424600-1748430900@shiningwatersregionalcouncil.ca
SUMMARY:Tending to Soul
DESCRIPTION:Make space for your soul. Take time for rest\, courage\, and renewal. A moment to explore your deep questions\, listen to your inner wisdom\, and gather strength for daily living. \nThis monthly\, drop-in\, mini-retreat is for anyone wanting to listen more deeply for the authentic and genuine within themselves and to find the courage to flourish in every season\, even in the midst of challenge. Tending to Soul offers time and space to take a deep breath\, to make space for the soul to show up and to listen to its wisdom for us in our living. These gatherings are designed to help you hear more clearly what is going on inside of you\, especially in chaotic times\, and to find a way through that is guided by your most authentic self. \nIf you are looking to reconnect with your soul and your sense of purpose; if you long for space to reflect on important questions for your life and work; if you are discerning what is next for you as a leader in your community or your family; if you want to feel a clearer sense of your integrity in living an undivided and authentic life\, making a difference in the world\, then Tending to Soul is the gathering for you! \nDates and Registration\, Spring 2025\nThis circle is offered on the 4th Wednesday of the month\, March 26\, April 23\, and May 28 at either 9:30am-11:15am or 6:45pm-8:30pm at The Rosedale Centre in Rosedale United Church. You do not need to attend every month; this program is drop-in. \nCost: FREE\nTo register click here: https://www.eventbrite.ca/e/tending-to-soul-tickets-1272689581799?aff=oddtdtcreator \nFacilitator:\nKristin Philipson (B.A. Hons\, M. Div\, D.Min) is a Courage & Renewal Facilitator prepared by the Center for Courage & Renewal. She is passionate about helping people to make meaning in their lives and live by their own convictions. \nQuestions? Please email Kristin at kphilipson@rosedaleunited.org
URL:https://shiningwatersregionalcouncil.ca/event/tending-to-soul/2025-05-28/
LOCATION:The Rosedale Centre\, 159 Roxborough Drive\, Toronto\, Ontario\, M4W1X7\, Canada
CATEGORIES:Affirming,Community Events,Intercultural
ATTACH;FMTTYPE=image/jpeg:https://shiningwatersregionalcouncil.ca/wp-content/uploads/2025/03/apple-trees2-e1644352257192.jpg
ORGANIZER;CN="The Rosedale Centre":MAILTO:info@rosedalecentre.org
END:VEVENT
END:VCALENDAR