BEGIN:VCALENDAR
VERSION:2.0
PRODID:-//Shining Waters - ECPv6.15.20//NONSGML v1.0//EN
CALSCALE:GREGORIAN
METHOD:PUBLISH
X-WR-CALNAME:Shining Waters
X-ORIGINAL-URL:https://shiningwatersregionalcouncil.ca
X-WR-CALDESC:Events for Shining Waters
REFRESH-INTERVAL;VALUE=DURATION:PT1H
X-Robots-Tag:noindex
X-PUBLISHED-TTL:PT1H
BEGIN:VTIMEZONE
TZID:America/Toronto
BEGIN:DAYLIGHT
TZOFFSETFROM:-0500
TZOFFSETTO:-0400
TZNAME:EDT
DTSTART:20240310T070000
END:DAYLIGHT
BEGIN:STANDARD
TZOFFSETFROM:-0400
TZOFFSETTO:-0500
TZNAME:EST
DTSTART:20241103T060000
END:STANDARD
BEGIN:DAYLIGHT
TZOFFSETFROM:-0500
TZOFFSETTO:-0400
TZNAME:EDT
DTSTART:20250309T070000
END:DAYLIGHT
BEGIN:STANDARD
TZOFFSETFROM:-0400
TZOFFSETTO:-0500
TZNAME:EST
DTSTART:20251102T060000
END:STANDARD
BEGIN:DAYLIGHT
TZOFFSETFROM:-0500
TZOFFSETTO:-0400
TZNAME:EDT
DTSTART:20260308T070000
END:DAYLIGHT
BEGIN:STANDARD
TZOFFSETFROM:-0400
TZOFFSETTO:-0500
TZNAME:EST
DTSTART:20261101T060000
END:STANDARD
END:VTIMEZONE
BEGIN:VEVENT
DTSTART;TZID=America/Toronto:20250507T080000
DTEND;TZID=America/Toronto:20250605T170000
DTSTAMP:20260419T232633
CREATED:20250527T165433Z
LAST-MODIFIED:20250527T165433Z
UID:10004739-1746604800-1749142800@shiningwatersregionalcouncil.ca
SUMMARY:Let’s Get Grilling Meat Fundraiser
DESCRIPTION:It’s the perfect time to stock up on meats and seafood products for the coming BBQ season! Enjoy top-quality meat and seafood from Macgregors Meat and Seafood — the same products featured in many outstanding restaurants. Now you can enjoy their quality products in your own home. Order online today: https://islingtonunited.org/lets-get-grilling/
URL:https://shiningwatersregionalcouncil.ca/event/lets-get-grilling-meat-fundraiser/
LOCATION:ON
ATTACH;FMTTYPE=image/jpeg:https://shiningwatersregionalcouncil.ca/wp-content/uploads/2025/05/Grilling_IUC.jpg
ORGANIZER;CN="Islington United Church":MAILTO:office@islingtonunited.org
END:VEVENT
BEGIN:VEVENT
DTSTART;TZID=America/Toronto:20250512T120000
DTEND;TZID=America/Toronto:20250512T203000
DTSTAMP:20260419T232633
CREATED:20250425T184818Z
LAST-MODIFIED:20250425T184818Z
UID:10004661-1747051200-1747081800@shiningwatersregionalcouncil.ca
SUMMARY:Emmanuel College - Alumni/ae Day - Anniversary Gala
DESCRIPTION:Monday\, May 12\, 2025\nNoon–5 p.m. (Lunch\, Workshops\, Meditation)\n6–8:30 p.m. (Special Dinner\, optional) \nJoin us on the Emmanuel College campus for another fantastic Alumni/ae Day\, presented by the Emmanuel College Alumni Association (ECAA) and hosted by ECAA President\, The Rev. Deb Walker Emm 9T7. \nBeginning with lunch\, this year’s program will include two outstanding workshops and the opportunity to participate in a multi-faith meditation. After the day’s program\, there is the option to attend a special dinner celebrating the achievements of the 2024 Distinguished Alumnus and Service Awardees\, as well as the centenary of the United Church of Canada and the anniversaries of Emmanuel’s Master of Psychospiritual Studies Program (formerly the Master of Pastoral Studies)\, Buddhist\, and Muslim foci. \nComplimentary tickets to this special dinner will be offered to alumni/ae who are also attending Alumni/ae Day
URL:https://shiningwatersregionalcouncil.ca/event/emmanuel-college-alumni-ae-day-anniversary-gala/
LOCATION:Emmanuel College\, 75 Queen's Park Crescent East\, Toronto\, Ontario\, M5S 1K7\, Canada
CATEGORIES:Community Events
ATTACH;FMTTYPE=image/jpeg:https://shiningwatersregionalcouncil.ca/wp-content/uploads/2025/04/ECAA-Awards.jpg
ORGANIZER;CN="Emmanuel College":MAILTO:ec.events@utoronto.ca
END:VEVENT
END:VCALENDAR