BEGIN:VCALENDAR
VERSION:2.0
PRODID:-//Shining Waters - ECPv6.15.20//NONSGML v1.0//EN
CALSCALE:GREGORIAN
METHOD:PUBLISH
X-ORIGINAL-URL:https://shiningwatersregionalcouncil.ca
X-WR-CALDESC:Events for Shining Waters
REFRESH-INTERVAL;VALUE=DURATION:PT1H
X-Robots-Tag:noindex
X-PUBLISHED-TTL:PT1H
BEGIN:VTIMEZONE
TZID:America/Toronto
BEGIN:DAYLIGHT
TZOFFSETFROM:-0500
TZOFFSETTO:-0400
TZNAME:EDT
DTSTART:20240310T070000
END:DAYLIGHT
BEGIN:STANDARD
TZOFFSETFROM:-0400
TZOFFSETTO:-0500
TZNAME:EST
DTSTART:20241103T060000
END:STANDARD
BEGIN:DAYLIGHT
TZOFFSETFROM:-0500
TZOFFSETTO:-0400
TZNAME:EDT
DTSTART:20250309T070000
END:DAYLIGHT
BEGIN:STANDARD
TZOFFSETFROM:-0400
TZOFFSETTO:-0500
TZNAME:EST
DTSTART:20251102T060000
END:STANDARD
BEGIN:DAYLIGHT
TZOFFSETFROM:-0500
TZOFFSETTO:-0400
TZNAME:EDT
DTSTART:20260308T070000
END:DAYLIGHT
BEGIN:STANDARD
TZOFFSETFROM:-0400
TZOFFSETTO:-0500
TZNAME:EST
DTSTART:20261101T060000
END:STANDARD
END:VTIMEZONE
BEGIN:VEVENT
DTSTART;TZID=America/Toronto:20250402T150000
DTEND;TZID=America/Toronto:20250427T163000
DTSTAMP:20260421T084010
CREATED:20250404T203919Z
LAST-MODIFIED:20250404T203919Z
UID:10004638-1743606000-1745771400@shiningwatersregionalcouncil.ca
SUMMARY:Angel Heung Fundraising Piano Recital
DESCRIPTION:April 27th 3 pm\nTrinity United Church\, Newmarket\nAngel is the winner of two international competitions Italy and Austria)\, is 10 years old and is the daughter of our music director. She will be playing music from Baroque to Modern.
URL:https://shiningwatersregionalcouncil.ca/event/angel-heung-fundraising-piano-recital/
LOCATION:Trinity United Church (Newmarket)\, 461 Park Ave\, Newmarket\, Ontario\, L3Y1V9\, Canada
CATEGORIES:Community Events
ATTACH;FMTTYPE=image/png:https://shiningwatersregionalcouncil.ca/wp-content/uploads/2025/04/IMG_1964-5.png
ORGANIZER;CN="Trinity United Church":MAILTO:churchoffice@trinityuc.ca
END:VEVENT
BEGIN:VEVENT
DTSTART;TZID=America/Toronto:20250412T100000
DTEND;TZID=America/Toronto:20250412T150000
DTSTAMP:20260421T084010
CREATED:20250324T213354Z
LAST-MODIFIED:20250401T133449Z
UID:10004627-1744452000-1744470000@shiningwatersregionalcouncil.ca
SUMMARY:ROYAL YORK ROAD UNITED CHURCH SPRING CRAFT MARKET
DESCRIPTION:Royal York Road United Church is holding its annual SPRING CRAFT MARKET on Saturday\, April 12th from 10am to 3pm. There will be over 60 local vendors of handcrafted products: candles\, jewelry\, preserves\, stationery\, clothing\, art and more. A bake sale and snack bar will add to the fun.\n851 Royal York Rd (4 blocks south of Bloor St West) in Etobicoke. Admission is $1.00\, which goes directly to the Christ Church St. James Food Pantry. (Please note that only service animals will be allowed inside) For more information go to our website ryru.ca or phone (416)231-9401.
URL:https://shiningwatersregionalcouncil.ca/event/royal-york-road-united-church-spring-craft-market-2/
LOCATION:Royal York Road United Church\, 851 Royal York Road\, Etobicoke\, Ontario\, M8Y 2V3
CATEGORIES:Community Events
ATTACH;FMTTYPE=image/jpeg:https://shiningwatersregionalcouncil.ca/wp-content/uploads/2025/03/royal-york-road-craft-sale-poster.jpg
END:VEVENT
END:VCALENDAR