BEGIN:VCALENDAR
VERSION:2.0
PRODID:-//Shining Waters - ECPv6.15.20//NONSGML v1.0//EN
CALSCALE:GREGORIAN
METHOD:PUBLISH
X-ORIGINAL-URL:https://shiningwatersregionalcouncil.ca
X-WR-CALDESC:Events for Shining Waters
REFRESH-INTERVAL;VALUE=DURATION:PT1H
X-Robots-Tag:noindex
X-PUBLISHED-TTL:PT1H
BEGIN:VTIMEZONE
TZID:America/Toronto
BEGIN:DAYLIGHT
TZOFFSETFROM:-0500
TZOFFSETTO:-0400
TZNAME:EDT
DTSTART:20230312T070000
END:DAYLIGHT
BEGIN:STANDARD
TZOFFSETFROM:-0400
TZOFFSETTO:-0500
TZNAME:EST
DTSTART:20231105T060000
END:STANDARD
BEGIN:DAYLIGHT
TZOFFSETFROM:-0500
TZOFFSETTO:-0400
TZNAME:EDT
DTSTART:20240310T070000
END:DAYLIGHT
BEGIN:STANDARD
TZOFFSETFROM:-0400
TZOFFSETTO:-0500
TZNAME:EST
DTSTART:20241103T060000
END:STANDARD
BEGIN:DAYLIGHT
TZOFFSETFROM:-0500
TZOFFSETTO:-0400
TZNAME:EDT
DTSTART:20250309T070000
END:DAYLIGHT
BEGIN:STANDARD
TZOFFSETFROM:-0400
TZOFFSETTO:-0500
TZNAME:EST
DTSTART:20251102T060000
END:STANDARD
END:VTIMEZONE
BEGIN:VEVENT
DTSTART;TZID=America/Toronto:20240407T140000
DTEND;TZID=America/Toronto:20240707T160000
DTSTAMP:20260420T123830
CREATED:20240314T205150Z
LAST-MODIFIED:20240531T212933Z
UID:10003451-1712498400-1720368000@shiningwatersregionalcouncil.ca
SUMMARY:QueerSpace
DESCRIPTION:See attached image \n1st and 3rd Sunday every month until summer break
URL:https://shiningwatersregionalcouncil.ca/event/queerspace-3/2024-04-07/
LOCATION:Cummer Avenue United Church\, 53 Cummer Avenue\, Toronto\, Ontario\, M2M 2E5\, Canada
CATEGORIES:Community Events
ATTACH;FMTTYPE=image/png:https://shiningwatersregionalcouncil.ca/wp-content/uploads/2024/03/QUEERSPACE-recurring.png
ORGANIZER;CN="Cummer Avenue United Church":MAILTO:office@cummeravenueuc.ca
END:VEVENT
BEGIN:VEVENT
DTSTART;TZID=America/Toronto:20240414T100000
DTEND;TZID=America/Toronto:20240630T130000
DTSTAMP:20260420T123830
CREATED:20240326T162033Z
LAST-MODIFIED:20240326T162033Z
UID:10003438-1713088800-1719752400@shiningwatersregionalcouncil.ca
SUMMARY:WE Holy Fun Program
DESCRIPTION:Willowdale Emmanuel Young Family Ministry – WE Holy Fun Program\nDrop off from 10 a.m. to 1 p.m. every Sunday from April 14th to June 30th\n$20.00 for the whole program! Ages 4 to 11\nMusic\, Dance\, Arts\, Crafts\, Sports\, Games\, bible storytelling\, snacks\nWillowdale Emmanuel United Church\n349 Kenneth Ave.\nToronto\, ON M2N 4V9\n416-225-2309\nemail: weunitedchurch@hotmail.com
URL:https://shiningwatersregionalcouncil.ca/event/we-holy-fun-program/
LOCATION:Willowdale Emmanuel UC\, 349 Kenneth Ave.\, Toronto\, Ontario\, M2N4V9\, Canada
CATEGORIES:Community Events
ATTACH;FMTTYPE=image/jpeg:https://shiningwatersregionalcouncil.ca/wp-content/uploads/2024/03/Holy-Fun-Season-3-poster.jpg
END:VEVENT
BEGIN:VEVENT
DTSTART;TZID=America/Toronto:20240504T100000
DTEND;TZID=America/Toronto:20240504T140000
DTSTAMP:20260420T123830
CREATED:20240215T151538Z
LAST-MODIFIED:20240215T151538Z
UID:10002415-1714816800-1714831200@shiningwatersregionalcouncil.ca
SUMMARY:EcoFair at Beach United
DESCRIPTION:Save the Date! This year’s EcoFair at Beach United will be on Saturday\, May 4th\, 2024 from 10am-2pm.\nEntry is free and welcome to everyone. \nCALL FOR VENDORS\nWe are looking for vendors with eco-friendly products\, as well as non-profit exhibitors/participants. If you are interested in being a vendor or volunteer for the event\, please contact Mary Anne: maryanne.alton@sympatico.ca
URL:https://shiningwatersregionalcouncil.ca/event/ecofair-at-beach-united-2/
LOCATION:Ontario
CATEGORIES:Community Events
ATTACH;FMTTYPE=image/jpeg:https://shiningwatersregionalcouncil.ca/wp-content/uploads/2024/02/Ecofair2024-IG-Square.jpg
END:VEVENT
BEGIN:VEVENT
DTSTART;TZID=America/Toronto:20240504T100000
DTEND;TZID=America/Toronto:20240504T140000
DTSTAMP:20260420T123830
CREATED:20240429T175012Z
LAST-MODIFIED:20240429T175012Z
UID:10003528-1714816800-1714831200@shiningwatersregionalcouncil.ca
SUMMARY:Arts and Treasures Sale
DESCRIPTION:Come and find the treasure you’ve been looking for\, from silverware\, paintings\, jewellery\, crystal\, fine china\, collectibles and more!\nWe’ll also have Timothy’s Cafe open and serving delicious treats for you to enjoy throughout the sale.\nAll funds raised goes towards TEMC’s programs and the Churches-on-the-Hill Food Bank.
URL:https://shiningwatersregionalcouncil.ca/event/arts-and-treasures-sale/
LOCATION:Timothy Eaton Memorial Church\, 230 St. Clair Avenue West\, Toronto\, Ontario\, M4V 1R5\, Canada
CATEGORIES:Community Events
ATTACH;FMTTYPE=image/png:https://shiningwatersregionalcouncil.ca/wp-content/uploads/2024/04/arts-treasures2024.png
ORGANIZER;CN="Timothy Eaton Memorial Church":MAILTO:info@temc.ca
END:VEVENT
BEGIN:VEVENT
DTSTART;TZID=America/Toronto:20240504T163000
DTEND;TZID=America/Toronto:20240504T173000
DTSTAMP:20260420T123830
CREATED:20240429T174855Z
LAST-MODIFIED:20240429T174919Z
UID:10003467-1714840200-1714843800@shiningwatersregionalcouncil.ca
SUMMARY:Jazz and Reflection with Beachside Brass
DESCRIPTION:Beach United Church is excited to present local band Beachside Brass on Saturday\, May 4th at 4:30 pm as they present a fun show filled with jazz\, pop\, funk\, soul and more. Get ready to clap your hands\, move your feet\, and head on down to Bourbon Street! \nBeach United’s warm\, inviting hall serves as the perfect backdrop for this concert – the concert is pay-what-you-can\, and proceeds support our year-round community programs.
URL:https://shiningwatersregionalcouncil.ca/event/jazz-reflection-with-beachside-brass/
LOCATION:Beach United Church\, 140 Wineva Ave.\, Toronto\, Ontario\, M4E 2T4\, Canada
CATEGORIES:Community Events
ATTACH;FMTTYPE=image/jpeg:https://shiningwatersregionalcouncil.ca/wp-content/uploads/2024/04/JR-BeachsideBrass-2024-graphic.jpg
END:VEVENT
BEGIN:VEVENT
DTSTART;TZID=America/Toronto:20240504T193000
DTEND;TZID=America/Toronto:20240504T213000
DTSTAMP:20260420T123830
CREATED:20240429T174750Z
LAST-MODIFIED:20240508T201042Z
UID:10003536-1714851000-1714858200@shiningwatersregionalcouncil.ca
SUMMARY:Tea with the Mad Hatter
DESCRIPTION:Tea with the Mad Hatter isn’t even about tea! It’s a fundraising and fun raising evening that will include food\, wine\, and entertainment. Tickets are $75 each\, and with each ticket you buy you will receive a $40 tax receipt. Funds raised will help to support the many ministries of Islington United Church. \nThis fun event will offer an experience for all your senses – from eye catching décor that will transport you into the magical world of the Mad Hatter\, to a private concert offered by Jason Locke and Cynthia Smithers with delightful music from Alice in Wonderland\, fun Broadway classics and toe-tapping show tunes. \nAnd we haven’t even talked about the food\, yet! This evening is all about delightful food experiences. It’s not advertised as a dinner\, because it isn’t. But come hungry and we promise you will leave full. Be assured you can count on Islington Hospitality to make sure you’ve had enough! \nThis will be a night to remember and you certainly don’t want to miss it. The deadline to order tickets is Sunday\, April 28 . . . so don’t be late! This event is open to all those 19 years of age and older. \nTable reservations are not available\, but you are invited to arrive together with friends to be seated together. Coming alone? No problem. We’ll find you a place to sit with fun people. Don’t hesitate to dress up to suit the theme. Create a mad hat or simply come as you are. \nCan’t attend but want to participate? Donate an item for inclusion in the live auction or a gift basket. Contact Val Greenfield (valgreenfield50@gmail.com) to make arrangements. \nRegistration at https://islingtonunited.org/event/tea-with-the-mad-hatter/
URL:https://shiningwatersregionalcouncil.ca/event/tea-with-the-mad-hatter/
LOCATION:Islington United Church\, 25 Burnhamthorpe Road\, Toronto\, ON\, M9A 1G9
CATEGORIES:Community Events
ATTACH;FMTTYPE=image/png:https://shiningwatersregionalcouncil.ca/wp-content/uploads/2024/04/Tea_wit_the_Mad_Hatter_Instagram_Post.png
ORGANIZER;CN="Islington United Church":MAILTO:office@islingtonunited.org
END:VEVENT
END:VCALENDAR