BEGIN:VCALENDAR
VERSION:2.0
PRODID:-//Shining Waters - ECPv6.15.20//NONSGML v1.0//EN
CALSCALE:GREGORIAN
METHOD:PUBLISH
X-WR-CALNAME:Shining Waters
X-ORIGINAL-URL:https://shiningwatersregionalcouncil.ca
X-WR-CALDESC:Events for Shining Waters
REFRESH-INTERVAL;VALUE=DURATION:PT1H
X-Robots-Tag:noindex
X-PUBLISHED-TTL:PT1H
BEGIN:VTIMEZONE
TZID:America/Toronto
BEGIN:DAYLIGHT
TZOFFSETFROM:-0500
TZOFFSETTO:-0400
TZNAME:EDT
DTSTART:20230312T070000
END:DAYLIGHT
BEGIN:STANDARD
TZOFFSETFROM:-0400
TZOFFSETTO:-0500
TZNAME:EST
DTSTART:20231105T060000
END:STANDARD
BEGIN:DAYLIGHT
TZOFFSETFROM:-0500
TZOFFSETTO:-0400
TZNAME:EDT
DTSTART:20240310T070000
END:DAYLIGHT
BEGIN:STANDARD
TZOFFSETFROM:-0400
TZOFFSETTO:-0500
TZNAME:EST
DTSTART:20241103T060000
END:STANDARD
BEGIN:DAYLIGHT
TZOFFSETFROM:-0500
TZOFFSETTO:-0400
TZNAME:EDT
DTSTART:20250309T070000
END:DAYLIGHT
BEGIN:STANDARD
TZOFFSETFROM:-0400
TZOFFSETTO:-0500
TZNAME:EST
DTSTART:20251102T060000
END:STANDARD
END:VTIMEZONE
BEGIN:VEVENT
DTSTART;TZID=America/Toronto:20240407T140000
DTEND;TZID=America/Toronto:20240707T160000
DTSTAMP:20260421T233109
CREATED:20240314T205150Z
LAST-MODIFIED:20240531T212933Z
UID:10003451-1712498400-1720368000@shiningwatersregionalcouncil.ca
SUMMARY:QueerSpace
DESCRIPTION:See attached image \n1st and 3rd Sunday every month until summer break
URL:https://shiningwatersregionalcouncil.ca/event/queerspace-3/2024-04-07/
LOCATION:Cummer Avenue United Church\, 53 Cummer Avenue\, Toronto\, Ontario\, M2M 2E5\, Canada
CATEGORIES:Community Events
ATTACH;FMTTYPE=image/png:https://shiningwatersregionalcouncil.ca/wp-content/uploads/2024/03/QUEERSPACE-recurring.png
ORGANIZER;CN="Cummer Avenue United Church":MAILTO:office@cummeravenueuc.ca
END:VEVENT
BEGIN:VEVENT
DTSTART;TZID=America/Toronto:20240414T100000
DTEND;TZID=America/Toronto:20240630T130000
DTSTAMP:20260421T233109
CREATED:20240326T162033Z
LAST-MODIFIED:20240326T162033Z
UID:10003438-1713088800-1719752400@shiningwatersregionalcouncil.ca
SUMMARY:WE Holy Fun Program
DESCRIPTION:Willowdale Emmanuel Young Family Ministry – WE Holy Fun Program\nDrop off from 10 a.m. to 1 p.m. every Sunday from April 14th to June 30th\n$20.00 for the whole program! Ages 4 to 11\nMusic\, Dance\, Arts\, Crafts\, Sports\, Games\, bible storytelling\, snacks\nWillowdale Emmanuel United Church\n349 Kenneth Ave.\nToronto\, ON M2N 4V9\n416-225-2309\nemail: weunitedchurch@hotmail.com
URL:https://shiningwatersregionalcouncil.ca/event/we-holy-fun-program/
LOCATION:Willowdale Emmanuel UC\, 349 Kenneth Ave.\, Toronto\, Ontario\, M2N4V9\, Canada
CATEGORIES:Community Events
ATTACH;FMTTYPE=image/jpeg:https://shiningwatersregionalcouncil.ca/wp-content/uploads/2024/03/Holy-Fun-Season-3-poster.jpg
END:VEVENT
BEGIN:VEVENT
DTSTART;TZID=America/Toronto:20240415T080000
DTEND;TZID=America/Toronto:20240427T170000
DTSTAMP:20260421T233109
CREATED:20240311T204318Z
LAST-MODIFIED:20240311T204318Z
UID:10003298-1713168000-1714237200@shiningwatersregionalcouncil.ca
SUMMARY:2024 Silent Auction Gala Dinner
DESCRIPTION:Collier United’s 27th Annual Silent Auction is taking place on-line from Monday April 15 to Saturday April 27! \nWe are offering a meal to celebrate and support the auction – with an in-person or take out option.\n1. Gala In-Person Dinner on Thursday April 25 – 5:30 pm:\nAssorted Hors D’Oeuvres\nCanadian Roast Beef with Yorkshire Pudding and Gravy\nSalmon topped with Dill and Salsa\nDuchess Potatoes and Heirloom Vegetables\nSeasonal Salad\nHomemade Brioche Bun\nChocolate Budino & Sponge Toffee\nCost: $50 per person plus admin fees for ticketing. Tickets may also be purchased directly from the Church.\n2. Take-out Option on Thursday April 25 – 2-4 pm:\nEnjoy this gourmet take-out meal including:\nCanadian Roast Beef with Gravy\nDuchess Potatoes and Heirloom Vegetables\nSeasonal Salad\nHomemade Brioche Bun\nChocolate Budino\nAll courses will be served in take-out compostable containers. To maintain the integrity of the entree\, you will need to reheat at home for maximum enjoyment.\nTake-out meal can be picked up at our drive thru on Thursday April 25 between 2 and 4 pm at Collier Street United Church\, 112 Collier St.\, Barrie.\nCost: $35 per person plus admin fees for ticketing. Tickets may also be purchased directly from the Church.\nQuestions? Email collierunited@rogers.com or call 705-722-2003.
URL:https://shiningwatersregionalcouncil.ca/event/2024-silent-auction-gala-dinner/2024-04-15/
LOCATION:Collier Street United Church\, 112 Collier Street\, Barrie ON\, 112 Collier Street\, Barrie\, Ontario\, L4M 1H3\, Canada
CATEGORIES:Community Events
ATTACH;FMTTYPE=image/png:https://shiningwatersregionalcouncil.ca/wp-content/uploads/2024/03/CS_SilentAuction-0322_edited_high_res-1-Spring-2024.png
ORGANIZER;CN="Collier Street United Church":MAILTO:collierunited@rogers.com
END:VEVENT
BEGIN:VEVENT
DTSTART;TZID=America/Toronto:20240427T080000
DTEND;TZID=America/Toronto:20240427T130000
DTSTAMP:20260421T233109
CREATED:20240328T163748Z
LAST-MODIFIED:20240328T163748Z
UID:10003447-1714204800-1714222800@shiningwatersregionalcouncil.ca
SUMMARY:Kingsway-Lambton Flea Market
DESCRIPTION:Gigantic Flea Market in the beautiful Kingsway neighbourhood of Toronto is back for 2024! Now in its 60th year\, thousands of quality items are priced to sell\, both inside and outside Kingsway-Lambton United Church. \nSee the auditorium full of books\, fine china\, crystal\, antiques and treasures\, framed art\, and records/DVDs; a gymnasium packed with household items and electronics; rooms devoted to women’s\, men’s and children’s clothes\, jewelry and accessories\, games and toys. Check out the Funky Fleas section for unique finds. \nTents and tables are set up on the lawn outside and filled with pictures\, glassware\, baskets\, sports gear\, garden decor and more. Enjoy coffee\, sweet bites\, or BBQ lunch. Free admission\, rain or shine\, and wheelchair accessible. \nMoney raised supports over 20 charities. For more information (and regarding donations of sale items)\, see Flea Market event page\, with downloadable flyer\, at www.kingswaylambton.ca/events; or view details on Facebook at Kingsway-Lambton United Church or on Instagram @klambtonunited.
URL:https://shiningwatersregionalcouncil.ca/event/kingsway-lambton-flea-market/
LOCATION:Kingsway-Lambton United Church\, 85 The Kingsway\, Etobicoke\, Ontario\, M8X 2T6\, Canada
CATEGORIES:Community Events
ATTACH;FMTTYPE=image/jpeg:https://shiningwatersregionalcouncil.ca/wp-content/uploads/2024/03/IMG_5587-scaled.jpg
ORGANIZER;CN="Martha MacGray":MAILTO:mmacgray1@gmail.com
END:VEVENT
BEGIN:VEVENT
DTSTART;TZID=America/Toronto:20240427T093000
DTEND;TZID=America/Toronto:20240427T123000
DTSTAMP:20260421T233109
CREATED:20240429T175800Z
LAST-MODIFIED:20240429T175800Z
UID:10003469-1714210200-1714221000@shiningwatersregionalcouncil.ca
SUMMARY:The Blanket Exercise
DESCRIPTION:The blanket exercise is an interactive educational program that teaches the history of colonization in Canada. Led by KAIROS Canada the program was created in response to the 1996 report of the Royal Commission on Aboriginal Peoples. It has been used as a teaching tool across Canada thousands of times. \nThe Blanket Exercise is based on using Indigenous methodologies. The goal is to build a shared understanding about our shared history as Indigenous and non-indigenous peoples in Canada by walking through the periods of pre-contact\, treaty-making\, colonization and resistance. \nParticipants are actively involved as they step on blankets that represent the land\, and step into the role of First Nations\, Inuit\, and Metis peoples. \nBy allowing participants to engage on emotional and intellectual levels\, the blanket exercise serves to both educate and increases empathy. \nThis is an adults-only event happening at Islington United Church on April 27th from 9:30am – 12:30pm\, and advance registration is required. As space is limited\, please register early to avoid disappointment. \nRegister: https://islingtonunited.org/event/the-blanket-exercise/
URL:https://shiningwatersregionalcouncil.ca/event/the-blanket-exercise/
LOCATION:Ontario
CATEGORIES:Community Events,Educational,Right Relations
ATTACH;FMTTYPE=image/png:https://shiningwatersregionalcouncil.ca/wp-content/uploads/2024/04/The_Blanket_Exercise_2.png
ORGANIZER;CN="Islington United Church":MAILTO:office@islingtonunited.org
END:VEVENT
BEGIN:VEVENT
DTSTART;TZID=America/Toronto:20240427T100000
DTEND;TZID=America/Toronto:20240427T130000
DTSTAMP:20260421T233109
CREATED:20240226T154540Z
LAST-MODIFIED:20240226T154540Z
UID:10002482-1714212000-1714222800@shiningwatersregionalcouncil.ca
SUMMARY:Fairlawn Avenue United Church 61st Annual Book Sale
DESCRIPTION:Huge Selection of Good Quality Books\, Vintage Vinyl\, CDs and DVDs. \nThursday\, April 25\, 6:00pm – 9:00pm\nFriday\, April 26\, 12:00pm – 9:00pm\nSaturay\, April 27\, 10:00am – 1:00pm
URL:https://shiningwatersregionalcouncil.ca/event/fairlawn-avenue-united-church-61st-annual-book-sale/2024-04-27/
LOCATION:Fairlawn Avenue United Church\, 28 Fairlawn Avenue\, Toronto\, Ontario\, M5M 1S7\, Canada
CATEGORIES:Community Events
ATTACH;FMTTYPE=image/jpeg:https://shiningwatersregionalcouncil.ca/wp-content/uploads/2024/02/Book-Sale-Logo.jpg
ORGANIZER;CN="Fairlawn Avenue United Church":MAILTO:churchoffice@fairlawnavenueunited.ca
END:VEVENT
BEGIN:VEVENT
DTSTART;TZID=America/Toronto:20240427T190000
DTEND;TZID=America/Toronto:20240427T210000
DTSTAMP:20260421T233109
CREATED:20240312T152843Z
LAST-MODIFIED:20240312T152843Z
UID:10003301-1714244400-1714251600@shiningwatersregionalcouncil.ca
SUMMARY:Spring Fling at Beach United Church
DESCRIPTION:The Beach United Church Choir is excited to present an evening of music\, refreshments and community fellowship to welcome in the spring season. \nThe Beach United Choir is a community choir that helps support the congregational music of Beach United Church. The choir is known for its annual Christmas Cantata\, a highlight in the community\, and for its dynamic and energetic performances at Sunday morning worship services. \nThis is a fundraiser for Beach United – tickets are $40/adult and $15/child. \nOur special musical guest for the evening will be Juno-nominated Barbra Lica\, joined by Tom Fleming on guitar and Mark Godfrey on bass.
URL:https://shiningwatersregionalcouncil.ca/event/spring-fling-at-beach-united-church/
LOCATION:Beach United Church\, 140 Wineva Ave.\, Toronto\, Ontario\, M4E 2T4\, Canada
CATEGORIES:Community Events
ATTACH;FMTTYPE=image/jpeg:https://shiningwatersregionalcouncil.ca/wp-content/uploads/2024/03/Spring-Fling-2024-website.jpg
END:VEVENT
END:VCALENDAR