BEGIN:VCALENDAR
VERSION:2.0
PRODID:-//Shining Waters - ECPv6.15.20//NONSGML v1.0//EN
CALSCALE:GREGORIAN
METHOD:PUBLISH
X-WR-CALNAME:Shining Waters
X-ORIGINAL-URL:https://shiningwatersregionalcouncil.ca
X-WR-CALDESC:Events for Shining Waters
REFRESH-INTERVAL;VALUE=DURATION:PT1H
X-Robots-Tag:noindex
X-PUBLISHED-TTL:PT1H
BEGIN:VTIMEZONE
TZID:America/Toronto
BEGIN:DAYLIGHT
TZOFFSETFROM:-0500
TZOFFSETTO:-0400
TZNAME:EDT
DTSTART:20230312T070000
END:DAYLIGHT
BEGIN:STANDARD
TZOFFSETFROM:-0400
TZOFFSETTO:-0500
TZNAME:EST
DTSTART:20231105T060000
END:STANDARD
BEGIN:DAYLIGHT
TZOFFSETFROM:-0500
TZOFFSETTO:-0400
TZNAME:EDT
DTSTART:20240310T070000
END:DAYLIGHT
BEGIN:STANDARD
TZOFFSETFROM:-0400
TZOFFSETTO:-0500
TZNAME:EST
DTSTART:20241103T060000
END:STANDARD
BEGIN:DAYLIGHT
TZOFFSETFROM:-0500
TZOFFSETTO:-0400
TZNAME:EDT
DTSTART:20250309T070000
END:DAYLIGHT
BEGIN:STANDARD
TZOFFSETFROM:-0400
TZOFFSETTO:-0500
TZNAME:EST
DTSTART:20251102T060000
END:STANDARD
END:VTIMEZONE
BEGIN:VEVENT
DTSTART;TZID=America/Toronto:20240404T103000
DTEND;TZID=America/Toronto:20240421T123000
DTSTAMP:20260421T035926
CREATED:20240408T221636Z
LAST-MODIFIED:20240408T221636Z
UID:10003457-1712226600-1713702600@shiningwatersregionalcouncil.ca
SUMMARY:Dr. Izzeldin Abuelaish\, "Faith\, Action and Hope: I Shall not Hate"
DESCRIPTION:Dr. Izzeldin Abuelaish\, a Palestinian Canadian medical doctor is speaking on Sunday April 21st at 10:30 am at Trinity-St. Paul’s United Church at 427 Bloor Street West in Toronto. Dr. Abuelaish was born in a refugee camp in Gaza and was the first Palestinian doctor to work in an Israeli hospital. In 2009\, he lost three daughters to an Israeli bomb in Gaza and has lost more than thirty family members since October 7th. As a devout Muslim\, his talk is called\, “Faith\, Action and Hope: I Shall not Hate.” Dr. Abuelaish believes that Palestinians and Israelis are like “conjoined twins.” He has been nominated for the Nobel Peace Prize four times and is often referred to as the Martin Luther King\, Jr.\, the Matatma Gandhi and the Nelson Mandela of the Middle East. Please see the poster and join us for this important event. The Zoom link is on the poster. Please contact Joanne Clarke at joanne.josito@gmail.com for more information.
URL:https://shiningwatersregionalcouncil.ca/event/dr-izzeldin-abuelaish-faith-action-and-hope-i-shall-not-hate/
LOCATION:Ontario
CATEGORIES:Community Events
ATTACH;FMTTYPE=image/png:https://shiningwatersregionalcouncil.ca/wp-content/uploads/2024/04/Izzeldin-Abeulaish-Poster.png
END:VEVENT
BEGIN:VEVENT
DTSTART;TZID=America/Toronto:20240404T103000
DTEND;TZID=America/Toronto:20240421T123000
DTSTAMP:20260421T035926
CREATED:20240408T221723Z
LAST-MODIFIED:20240408T221723Z
UID:10003458-1712226600-1713702600@shiningwatersregionalcouncil.ca
SUMMARY:Dr. Izzeldin Abuelaish\, "Faith\, Action and Hope: I Shall not Hate"
DESCRIPTION:Dr. Izzeldin Abuelaish\, a Palestinian Canadian medical doctor is speaking on Sunday April 21st at 10:30 am at Trinity-St. Paul’s United Church at 427 Bloor Street West in Toronto. Dr. Abuelaish was born in a refugee camp in Gaza and was the first Palestinian doctor to work in an Israeli hospital. In 2009\, he lost three daughters to an Israeli bomb in Gaza and has lost more than thirty family members since October 7th. As a devout Muslim\, his talk is called\, “Faith\, Action and Hope: I Shall not Hate.” Dr. Abuelaish believes that Palestinians and Israelis are like “conjoined twins.” He has been nominated for the Nobel Peace Prize four times and is often referred to as the Martin Luther King\, Jr.\, the Matatma Gandhi and the Nelson Mandela of the Middle East. Please see the poster and join us for this important event. The Zoom link is on the poster. Please contact Joanne Clarke at joanne.josito@gmail.com for more information.
URL:https://shiningwatersregionalcouncil.ca/event/dr-izzeldin-abuelaish-faith-action-and-hope-i-shall-not-hate-2/
LOCATION:Ontario
ATTACH;FMTTYPE=image/png:https://shiningwatersregionalcouncil.ca/wp-content/uploads/2024/04/Izzeldin-Abeulaish-Poster-1.png
END:VEVENT
BEGIN:VEVENT
DTSTART;TZID=America/Toronto:20240407T140000
DTEND;TZID=America/Toronto:20240707T160000
DTSTAMP:20260421T035926
CREATED:20240314T205150Z
LAST-MODIFIED:20240531T212933Z
UID:10003451-1712498400-1720368000@shiningwatersregionalcouncil.ca
SUMMARY:QueerSpace
DESCRIPTION:See attached image \n1st and 3rd Sunday every month until summer break
URL:https://shiningwatersregionalcouncil.ca/event/queerspace-3/2024-04-07/
LOCATION:Cummer Avenue United Church\, 53 Cummer Avenue\, Toronto\, Ontario\, M2M 2E5\, Canada
CATEGORIES:Community Events
ATTACH;FMTTYPE=image/png:https://shiningwatersregionalcouncil.ca/wp-content/uploads/2024/03/QUEERSPACE-recurring.png
ORGANIZER;CN="Cummer Avenue United Church":MAILTO:office@cummeravenueuc.ca
END:VEVENT
BEGIN:VEVENT
DTSTART;TZID=America/Toronto:20240411T000000
DTEND;TZID=America/Toronto:20240413T150000
DTSTAMP:20260421T035926
CREATED:20240115T160217Z
LAST-MODIFIED:20240115T160400Z
UID:10001568-1712793600-1713020400@shiningwatersregionalcouncil.ca
SUMMARY:Coming Back to Life: A Courage and Renewal Retreat
DESCRIPTION:Are you looking to come back to life with a sense of purpose and passion? Are you looking to reconnect your soul with your roles in life? Longing for time to rest and reflect? Trying to figuring out what is next and summon the courage to turn the page to your next chapter? This retreat is for you! \n“Coming Back to Life” is for anyone wanting to listen more deeply for the authentic and genuine within themselves and to refresh\, revive\, and renew themselves for a new season. It is designed for anyone considering or already navigating a personal or professional transition where deep questions about your life and your living have presented themselves. This retreat will help you to hear more clearly what is going on inside of you and find a way through that is guided by your most authentic self. \nRooted in the Circle of Trust® approach developed by Quaker writer and teacher\, Parker Palmer\, and formed by the work of the Center for Courage & Renewal\, “Coming Back to Life” is for anybody who wants to follow the leading and wisdom of their soul personally and vocationally. “Coming Back to Life” will support participants to:\n• Act wholeheartedly on their true callings and passion\n• Cultivate sustaining personal and communal practices for the long haul and\n• Work to transform the relationships\, families\, and organizations they serve. \nOn the shores of Stoney Lake\, Kingfisher Bay Retreat Centre is a welcoming and comfortable setting for you to rest\, revive\, and refresh yourself surrounded by the beauty of tall pines\, peaceful waters\, and abundant wildlife. \nREGISTER EARLY! SPACE IS LIMITED! \nThere are several registration options (all options include meals)*: \nRetreat + overnight accomodation\nShared room: $520.00 (early bird price\, participate with a friend!); after March 7: $598.00\nPrivate room: $740.00 (early bird price); after March 7: $850.00 \nRetreat only (for those wanting to commute home in the evenings)\nCommuter: $380.00 (early bird price); after March 7: $437.00 \n*Non-refundable on or after March 14th. Cancellations prior to March 14th are subject to a $200 cancellation fee. \nREGISTRATION: \nEmail facilitator Kristin Philipson at kphilipson@rosedaleunited.org including your name\, email contact\, and phone number. Your registration will be confirmed\, along with details about the payment of registration fees. \nFacilitators: \nMardi Tindal\, (M.A.) is a former Moderator (elected spiritual leader) of the United Church of Canada. She was prepared by Parker Palmer and the Centre for Courage & Renewal and has been facilitating Circle of Trust programs over the past decade with people of a variety of ages\, backgrounds and vocational paths. She is also a Board Member of the Center for Courage & Renewal. \nKristin Philipson (B.A. Hons\, M. Div\, D.Min) is being prepared as a Facilitator by the Centre for Courage & Renewal and has participated in Circle of Trust programs over the past decade. She is passionate about helping people to make meaning in their lives and live by their own convictions.
URL:https://shiningwatersregionalcouncil.ca/event/coming-back-to-life-a-courage-and-renewal-retreat/
LOCATION:Kingfisher Bay Retreat Centre\, 150 Fraser Estates Lane\, North Kawartha\, Ontario\, K0L 2H0\, Canada
CATEGORIES:Community Events
ATTACH;FMTTYPE=image/png:https://shiningwatersregionalcouncil.ca/wp-content/uploads/2024/01/Revised-April-Retreat-1.png
ORGANIZER;CN="Rosedale United Church":MAILTO:rhowey@rosedaleunited.org
END:VEVENT
END:VCALENDAR