BEGIN:VCALENDAR
VERSION:2.0
PRODID:-//Shining Waters - ECPv6.15.20//NONSGML v1.0//EN
CALSCALE:GREGORIAN
METHOD:PUBLISH
X-WR-CALNAME:Shining Waters
X-ORIGINAL-URL:https://shiningwatersregionalcouncil.ca
X-WR-CALDESC:Events for Shining Waters
REFRESH-INTERVAL;VALUE=DURATION:PT1H
X-Robots-Tag:noindex
X-PUBLISHED-TTL:PT1H
BEGIN:VTIMEZONE
TZID:America/Toronto
BEGIN:DAYLIGHT
TZOFFSETFROM:-0500
TZOFFSETTO:-0400
TZNAME:EDT
DTSTART:20230312T070000
END:DAYLIGHT
BEGIN:STANDARD
TZOFFSETFROM:-0400
TZOFFSETTO:-0500
TZNAME:EST
DTSTART:20231105T060000
END:STANDARD
BEGIN:DAYLIGHT
TZOFFSETFROM:-0500
TZOFFSETTO:-0400
TZNAME:EDT
DTSTART:20240310T070000
END:DAYLIGHT
BEGIN:STANDARD
TZOFFSETFROM:-0400
TZOFFSETTO:-0500
TZNAME:EST
DTSTART:20241103T060000
END:STANDARD
BEGIN:DAYLIGHT
TZOFFSETFROM:-0500
TZOFFSETTO:-0400
TZNAME:EDT
DTSTART:20250309T070000
END:DAYLIGHT
BEGIN:STANDARD
TZOFFSETFROM:-0400
TZOFFSETTO:-0500
TZNAME:EST
DTSTART:20251102T060000
END:STANDARD
END:VTIMEZONE
BEGIN:VEVENT
DTSTART;TZID=America/Toronto:20240310T120000
DTEND;TZID=America/Toronto:20240310T140000
DTSTAMP:20260421T093720
CREATED:20240115T194341Z
LAST-MODIFIED:20240201T135111Z
UID:10001527-1710072000-1710079200@shiningwatersregionalcouncil.ca
SUMMARY:ALPHA
DESCRIPTION:More than ever before\, young people are asking questions about life and meaning. This 9 week series will help give you the space to wrestle with your thoughts and share your opinions in a safe and friendly environment. \nWe know how nerve racking it can be to put yourself out there\, so feel free to bring a friend with you! \nWhen: Sundays; February 11-April 7 for 9 weeks \nTime: 12-2pm \nIn-person at NBUC\nIf you have any questions\, please email us at office@nbuc.ca
URL:https://shiningwatersregionalcouncil.ca/event/alpha-3/2024-03-10/
LOCATION:North Bramalea United Church\, 3 Howden Blvd\, Brampton\, Ontario\, L6S 4L6\, Canada
CATEGORIES:Community Events
ORGANIZER;CN="North Bramalea United Church":MAILTO:rcanning@nbuc.ca
END:VEVENT
END:VCALENDAR