BEGIN:VCALENDAR
VERSION:2.0
PRODID:-//Shining Waters - ECPv6.15.20//NONSGML v1.0//EN
CALSCALE:GREGORIAN
METHOD:PUBLISH
X-WR-CALNAME:Shining Waters
X-ORIGINAL-URL:https://shiningwatersregionalcouncil.ca
X-WR-CALDESC:Events for Shining Waters
REFRESH-INTERVAL;VALUE=DURATION:PT1H
X-Robots-Tag:noindex
X-PUBLISHED-TTL:PT1H
BEGIN:VTIMEZONE
TZID:America/Toronto
BEGIN:DAYLIGHT
TZOFFSETFROM:-0500
TZOFFSETTO:-0400
TZNAME:EDT
DTSTART:20230312T070000
END:DAYLIGHT
BEGIN:STANDARD
TZOFFSETFROM:-0400
TZOFFSETTO:-0500
TZNAME:EST
DTSTART:20231105T060000
END:STANDARD
BEGIN:DAYLIGHT
TZOFFSETFROM:-0500
TZOFFSETTO:-0400
TZNAME:EDT
DTSTART:20240310T070000
END:DAYLIGHT
BEGIN:STANDARD
TZOFFSETFROM:-0400
TZOFFSETTO:-0500
TZNAME:EST
DTSTART:20241103T060000
END:STANDARD
BEGIN:DAYLIGHT
TZOFFSETFROM:-0500
TZOFFSETTO:-0400
TZNAME:EDT
DTSTART:20250309T070000
END:DAYLIGHT
BEGIN:STANDARD
TZOFFSETFROM:-0400
TZOFFSETTO:-0500
TZNAME:EST
DTSTART:20251102T060000
END:STANDARD
END:VTIMEZONE
BEGIN:VEVENT
DTSTART;TZID=America/Toronto:20240307T104500
DTEND;TZID=America/Toronto:20240307T114500
DTSTAMP:20260422T034743
CREATED:20240308T183052Z
LAST-MODIFIED:20240331T190311Z
UID:10003274-1709808300-1709811900@shiningwatersregionalcouncil.ca
SUMMARY:Rimbala: Music and Movement
DESCRIPTION:What is Rimbala? Rimbala combines live\, improvised music with simple and fun movement activities to help seniors improve balance\, mobility and memory. Similar programs in Europe have been scientifically proven to reduce the risk of falls by 54%. Scientists are also researching how these programs are effective in the prevention and control of Alzheimer’s disease. Rimbala was created by Dr. Daniel Rubinoff\, Music Director at Lawrence Park Community Church. He is also a professional performer\, composer and teacher.
URL:https://shiningwatersregionalcouncil.ca/event/rimbala-music-movement/2024-03-07/
LOCATION:Metropolitan United Church\, 56 Queen Street East\, Toronto
CATEGORIES:Community Events
ATTACH;FMTTYPE=image/jpeg:https://shiningwatersregionalcouncil.ca/wp-content/uploads/2024/03/Rimbala-at-Met.jpg
END:VEVENT
BEGIN:VEVENT
DTSTART;TZID=America/Toronto:20240307T160000
DTEND;TZID=America/Toronto:20240307T190000
DTSTAMP:20260422T034743
CREATED:20240111T203333Z
LAST-MODIFIED:20240531T211742Z
UID:10001546-1709827200-1709838000@shiningwatersregionalcouncil.ca
SUMMARY:Queer Youth United
DESCRIPTION:Queer Youth United (QYU) meets on Thursdays from 4-7pm at Beach United Church (140 Wineva Ave.) – you may drop in at any time between those hours. \nQYU is a weekly drop in for youth and young adults (15-29) who identify within the Queer community\, and more specifically with a desire to focus on the experiences and needs of transgender people. Beach United Church offers safe(r) space for transgender and questioning individuals in a space that offers positive alternatives to engaging the world. QYU is about celebrating and encouraging queer youth in the universal call to “live as our authentic selves”. \nWe post updates on our Instagram account over at @queeryouthunited\, which is maintained by our coordinator\, Corin Collins.
URL:https://shiningwatersregionalcouncil.ca/event/queer-youth-united-2/2024-03-07/
LOCATION:Beach United Church\, 140 Wineva Ave.\, Toronto\, Ontario\, M4E 2T4\, Canada
CATEGORIES:Community Events
ATTACH;FMTTYPE=image/jpeg:https://shiningwatersregionalcouncil.ca/wp-content/uploads/2024/01/QYU-Poster-Website-2024.jpg
END:VEVENT
BEGIN:VEVENT
DTSTART;TZID=America/Toronto:20240307T174500
DTEND;TZID=America/Toronto:20240307T183000
DTSTAMP:20260422T034743
CREATED:20231106T230136Z
LAST-MODIFIED:20231106T230136Z
UID:10001394-1709833500-1709836200@shiningwatersregionalcouncil.ca
SUMMARY:Beach United Children's Choir Practices
DESCRIPTION:Sheila Brand\, a member of our choir\, is leading our new Children’s Choir! Sheila is a former music teacher using the Orff Approach\, for vocal\, ukulele and drama/dance programs at Williamson Road Public School. \nChildren ages 7-12 are welcome\, and free to anyone to join! You may contact Sheila at sheilabb@rogers.com for more information \nPractices usually take place every Thursday from 5:45pm-6:30pm. \nPlease visit our website and social media accounts for updated times (beachunitedchurch.com)
URL:https://shiningwatersregionalcouncil.ca/event/beach-united-childrens-choir-practices/2024-03-07/
LOCATION:Beach United Church\, 140 Wineva Ave.\, Toronto\, Ontario\, M4E 2T4\, Canada
CATEGORIES:Community Events
ATTACH;FMTTYPE=image/jpeg:https://shiningwatersregionalcouncil.ca/wp-content/uploads/2023/11/ChildrensChoir-2023-8.5x11-scaled.jpg
END:VEVENT
BEGIN:VEVENT
DTSTART;TZID=America/Toronto:20240307T183000
DTEND;TZID=America/Toronto:20240307T193000
DTSTAMP:20260422T034743
CREATED:20240301T154022Z
LAST-MODIFIED:20240301T162928Z
UID:10003009-1709836200-1709839800@shiningwatersregionalcouncil.ca
SUMMARY:The Spark
DESCRIPTION:A break from screens. A joining of community. \nThe Spark is a back to basics time in community. We gather around a table as we worship and share a simple meal of soup and bread. We listen to old stories in new ways\, and share those things that are on our hearts.
URL:https://shiningwatersregionalcouncil.ca/event/the-spark/2024-03-07/
LOCATION:Glen Rhodes Campus\, 1470 Gerrard Street East\, Toronto\, Ontario\, M4L 2A3\, Canada
CATEGORIES:Community Events
ORGANIZER;CN="East End United Regional Ministry":MAILTO:info@eastendunited.ca
END:VEVENT
END:VCALENDAR