BEGIN:VCALENDAR
VERSION:2.0
PRODID:-//Shining Waters - ECPv6.15.20//NONSGML v1.0//EN
CALSCALE:GREGORIAN
METHOD:PUBLISH
X-ORIGINAL-URL:https://shiningwatersregionalcouncil.ca
X-WR-CALDESC:Events for Shining Waters
REFRESH-INTERVAL;VALUE=DURATION:PT1H
X-Robots-Tag:noindex
X-PUBLISHED-TTL:PT1H
BEGIN:VTIMEZONE
TZID:America/Toronto
BEGIN:DAYLIGHT
TZOFFSETFROM:-0500
TZOFFSETTO:-0400
TZNAME:EDT
DTSTART:20230312T070000
END:DAYLIGHT
BEGIN:STANDARD
TZOFFSETFROM:-0400
TZOFFSETTO:-0500
TZNAME:EST
DTSTART:20231105T060000
END:STANDARD
BEGIN:DAYLIGHT
TZOFFSETFROM:-0500
TZOFFSETTO:-0400
TZNAME:EDT
DTSTART:20240310T070000
END:DAYLIGHT
BEGIN:STANDARD
TZOFFSETFROM:-0400
TZOFFSETTO:-0500
TZNAME:EST
DTSTART:20241103T060000
END:STANDARD
BEGIN:DAYLIGHT
TZOFFSETFROM:-0500
TZOFFSETTO:-0400
TZNAME:EDT
DTSTART:20250309T070000
END:DAYLIGHT
BEGIN:STANDARD
TZOFFSETFROM:-0400
TZOFFSETTO:-0500
TZNAME:EST
DTSTART:20251102T060000
END:STANDARD
END:VTIMEZONE
BEGIN:VEVENT
DTSTART;TZID=America/Toronto:20240215T120000
DTEND;TZID=America/Toronto:20240215T124500
DTSTAMP:20260423T020500
CREATED:20240214T190638Z
LAST-MODIFIED:20240308T201319Z
UID:10002403-1707998400-1708001100@shiningwatersregionalcouncil.ca
SUMMARY:Noon at Met
DESCRIPTION:Weekly lunch-time concerts featuring Toronto’s most talented musicians. Beautiful music in a beautiful space.
URL:https://shiningwatersregionalcouncil.ca/event/noon-at-met-2/2024-02-15/
LOCATION:Metropolitan United Church\, 56 Queen Street East\, Toronto
CATEGORIES:Community Events
ATTACH;FMTTYPE=image/jpeg:https://shiningwatersregionalcouncil.ca/wp-content/uploads/2024/02/noon-at-met-1.jpg
ORGANIZER;CN="Metropolitan United Church":MAILTO:communications@metunited.ca
END:VEVENT
BEGIN:VEVENT
DTSTART;TZID=America/Toronto:20240215T174500
DTEND;TZID=America/Toronto:20240215T183000
DTSTAMP:20260423T020500
CREATED:20231106T230136Z
LAST-MODIFIED:20231106T230136Z
UID:10001391-1708019100-1708021800@shiningwatersregionalcouncil.ca
SUMMARY:Beach United Children's Choir Practices
DESCRIPTION:Sheila Brand\, a member of our choir\, is leading our new Children’s Choir! Sheila is a former music teacher using the Orff Approach\, for vocal\, ukulele and drama/dance programs at Williamson Road Public School. \nChildren ages 7-12 are welcome\, and free to anyone to join! You may contact Sheila at sheilabb@rogers.com for more information \nPractices usually take place every Thursday from 5:45pm-6:30pm. \nPlease visit our website and social media accounts for updated times (beachunitedchurch.com)
URL:https://shiningwatersregionalcouncil.ca/event/beach-united-childrens-choir-practices/2024-02-15/
LOCATION:Beach United Church\, 140 Wineva Ave.\, Toronto\, Ontario\, M4E 2T4\, Canada
CATEGORIES:Community Events
ATTACH;FMTTYPE=image/jpeg:https://shiningwatersregionalcouncil.ca/wp-content/uploads/2023/11/ChildrensChoir-2023-8.5x11-scaled.jpg
END:VEVENT
BEGIN:VEVENT
DTSTART;TZID=America/Toronto:20240215T183000
DTEND;TZID=America/Toronto:20240215T191500
DTSTAMP:20260423T020500
CREATED:20240201T134857Z
LAST-MODIFIED:20240201T134857Z
UID:10001589-1708021800-1708024500@shiningwatersregionalcouncil.ca
SUMMARY:The Spark: Tech Free Evening Worship
DESCRIPTION:A spark to ignite. A spark to pass on. \nThis Thursday evening worship offering at Glen Rhodes (1470 Gerrard Street East) is meant to nourish those: \n-who need a break from screens and technology\n-who find it difficult to attend worship on Sunday mornings\n-who are interested in a more intimate and informal worship experience \nThe service lasts between 30 and 45 minutes and is led by Rev. Bri-anne Swan\, who provides accompaniment for hymns and music on guitar. \nThe worship space is accessible to wheelchairs via an elevator. If you plan on attending and require use of the elevator\, please email: bswan@eastendunited.ca
URL:https://shiningwatersregionalcouncil.ca/event/the-spark-tech-free-evening-worship/2024-02-15/
LOCATION:Glen Rhodes Campus\, 1470 Gerrard Street East\, Toronto\, Ontario\, M4L 2A3\, Canada
CATEGORIES:Community Events
ATTACH;FMTTYPE=image/jpeg:https://shiningwatersregionalcouncil.ca/wp-content/uploads/2024/01/The-Spark-1.jpeg
ORGANIZER;CN="East End United Regional Ministry":MAILTO:info@eastendunited.ca
END:VEVENT
END:VCALENDAR